PDS_VERSION_ID = PDS3
/* FILE DATA ELEMENTS */
RECORD_TYPE = UNDEFINED
/* POINTERS TO DATA OBJECTS */
^IMAGE = ("H5115_0000_S24.TIF")
/* IDENTIFICATION DATA ELEMENTS */
DATA_SET_ID = "MEX-M-HRSC-4-REFDR-MAPPROJECT-EXT2-V4.0"
DATA_SET_NAME = "MARS EXPRESS HRSC MAP PROJECTED REFDR EXTENSION2 V4.0"
DETECTOR_ID = MEX_HRSC_S2
EVENT_TYPE = "MARS-REGIONAL-MAPPING-Vo-Pf-Mw"
INSTRUMENT_HOST_ID = MEX
INSTRUMENT_HOST_NAME = "MARS EXPRESS"
INSTRUMENT_ID = HRSC
INSTRUMENT_NAME = "HIGH RESOLUTION STEREO CAMERA"
MISSION_NAME = "MARS EXPRESS"
MISSION_PHASE_NAME = ME_Phase_11
PROCESSING_LEVEL_ID = 4
PRODUCT_CREATION_TIME = 2023-02-01T12:09:47.000Z
PRODUCT_ID = "H5115_0000_S24.TIF"
RELEASE_ID = 0001
REVISION_ID = 0000
/* QUALITY DATA ELEMENTS */
DATA_QUALITY_ID = 1
DATA_QUALITY_DESC = "Data calculated based on original SPICE kernels"
/* TIME DATA ELEMENTS */
SPACECRAFT_CLOCK_START_COUNT = "1/0146734414.09071"
SPACECRAFT_CLOCK_STOP_COUNT = "1/0146734773.07421"
START_TIME = 2007-12-26T07:35:32.100Z
STOP_TIME = 2007-12-26T07:39:34.985Z
/* ORBITAL DATA ELEMENTS */
ASCENDING_NODE_LONGITUDE = 121.67
MAXIMUM_RESOLUTION = 0.0315
FOOTPRINT_POINT_LATITUDE = (34.7179,34.7202,34.7211,34.7203, 34.7202,34.7893,34.4156,33.8609,33.4941 ,33.1313,32.7707,32.4134,32.06,31.5332, 31.1905,30.8393,30.4996,30.16,29.8231, 29.4905,28.9911,28.6655,28.3396,28.0139 ,27.6951,27.3761,26.9005,26.589,26.2775 ,25.8125,25.5084,25.2038,24.7481,24.303 ,23.7087,23.411,23.1135,22.8159,22.5179 ,22.2201,21.922,21.6239,21.3255,21.028, 20.7283,20.43,19.9818,19.3912,19.0153, 18.8896,18.8782,18.8684,18.8609,18.8546 ,18.8543,18.8547,19.2311,19.7959, 20.0949,20.3939,20.6927,21.1412,21.4398 ,21.7385,22.0371,22.3352,22.6336, 22.9316,23.2295,23.6761,23.9736,24.4195 ,25.0201,25.325,25.6296,26.091,26.4031, 26.8709,27.1874,27.5068,27.9856,28.3114 ,28.6379,28.964,29.4631,29.7961,30.1336 ,30.4744,30.8144,31.3353,31.6825, 32.2138,32.568,32.9292,33.2907,33.6571, 34.0249,34.5843,34.7715,34.7179)
FOOTPRINT_POINT_LONGITUDE = (106.875,106.2,105.522,104.711,104.69, 104.647,104.669,104.701,104.722,104.742 ,104.761,104.78,104.798,104.824,104.838 ,104.857,104.872,104.887,104.902, 104.916,104.937,104.95,104.963,104.976, 104.988,105.0,105.017,105.028,105.038, 105.054,105.064,105.073,105.087,105.1, 105.117,105.125,105.133,105.141,105.149 ,105.156,105.163,105.17,105.177,105.183 ,105.19,105.196,105.205,105.217,105.224 ,105.227,105.227,105.765,106.204, 106.588,106.602,106.606,106.612,106.62, 106.624,106.629,106.633,106.64,106.644, 106.649,106.654,106.658,106.663,106.668 ,106.673,106.68,106.685,106.692,106.702 ,106.708,106.713,106.721,106.726, 106.735,106.741,106.746,106.755,106.761 ,106.767,106.773,106.783,106.789, 106.796,106.803,106.809,106.82,106.827, 106.837,106.845,106.852,106.86,106.867, 106.875,106.887,106.891,106.875)
ORBIT_NUMBER = 5115
ORBITAL_ECCENTRICITY = 0.575
ORBITAL_INCLINATION = 86.72
ORBITAL_SEMIMAJOR_AXIS = 8733.43
PERIAPSIS_ALTITUDE = 316.38
PERIAPSIS_ARGUMENT_ANGLE = 178.46
PERIAPSIS_TIME = 2007-12-26T07:43:27.000Z
SPACECRAFT_ORIENTATION = (0.0,-1.0,0.0)
^MEX_ORIENTATION_DESC = "MEX_ORIENTATION_DESC.TXT"
SPACECRAFT_POINTING_MODE = ACROSSTRACK
^MEX_POINTING_DESC = "MEX_POINTING_DESC.TXT"
RIGHT_ASCENSION = -1e+32
DECLINATION = -1e+32
OFFSET_ANGLE = -0.29
SPACECRAFT_SOLAR_DISTANCE = 2.35998e+08
TARGET_NAME = MARS
/* CAMERA DATA ELEMENTS */
DETECTOR_TEMPERATURE = 18.5744
FOCAL_PLANE_TEMPERATURE = 7.7677
INST_CMPRS_NAME = "DISCRETE COSINE TRANSFORMATION (DCT)"
INST_CMPRS_RATIO = 8.86122
INST_CMPRS_QUALITY = 0
INST_CMPRS_QUANTZ_TBL_ID = 0
INSTRUMENT_TEMPERATURE = 11.234
LENS_TEMPERATURE = 8.1755
MACROPIXEL_SIZE = 2
MISSING_FRAMES = 0
PIXEL_SUBSAMPLING_FLAG = N
SIGNAL_CHAIN_ID = 1
/* RADIOMETRIC DATA ELEMENTS */
BANDWIDTH = 178.0
CENTER_FILTER_WAVELENGTH = 679.0
RADIANCE_OFFSET = 2.54716
RADIANCE_SCALING_FACTOR = 0.0130192
REFLECTANCE_SCALING_FACTOR = 0.000383996
MEX:REFLECTANCE_OFFSET = 0.0751276
/* IMAGE OBJECT DEFINITIONS */
OBJECT = IMAGE
  INTERCHANGE_FORMAT = BINARY
  LINES = 37791
  LINE_SAMPLES = 4674
  SAMPLE_TYPE = UNSIGNED_INTEGER
  SAMPLE_BITS = 8
  BANDS = 1
  BAND_STORAGE_TYPE = BAND_SEQUENTIAL
  MAXIMUM = 255
  MEAN = 93.2872
  MINIMUM = 1
  STANDARD_DEVIATION = 13.5025
END_OBJECT = IMAGE
/* MAP OBJECT DEFINITIONS */
OBJECT = IMAGE_MAP_PROJECTION
  ^DATA_SET_MAP_PROJECTION_CATALOG= "DSMAP.CAT"
  A_AXIS_RADIUS = 3396.0
  B_AXIS_RADIUS = 3396.0
  C_AXIS_RADIUS = 3396.0
  CENTER_LATITUDE = 0.0
  CENTER_LONGITUDE = 106.0
  COORDINATE_SYSTEM_NAME = PLANETOGRAPHIC
  COORDINATE_SYSTEM_TYPE = "BODY-FIXED ROTATING"
  EASTERNMOST_LONGITUDE = 106.891
  FIRST_STANDARD_PARALLEL = "N/A"
  LINE_FIRST_PIXEL = 1
  LINE_LAST_PIXEL = 37791
  LINE_PROJECTION_OFFSET = 82442.25
  MAP_PROJECTION_ROTATION = 0.0
  MAP_PROJECTION_TYPE = SINUSOIDAL
  MAP_RESOLUTION = 2370.85521546667
  MAP_SCALE = 0.025
  MAXIMUM_LATITUDE = 34.7893
  MINIMUM_LATITUDE = 18.8543
  POSITIVE_LONGITUDE_DIRECTION = EAST
  REFERENCE_LATITUDE = "N/A"
  REFERENCE_LONGITUDE = "N/A"
  SAMPLE_FIRST_PIXEL = 1
  SAMPLE_LAST_PIXEL = 4674
  SAMPLE_PROJECTION_OFFSET = 2789.75
  SECOND_STANDARD_PARALLEL = "N/A"
  WESTERNMOST_LONGITUDE = 104.647
END_OBJECT = IMAGE_MAP_PROJECTION
END
