PDS_VERSION_ID = PDS3
/* FILE DATA ELEMENTS */
RECORD_TYPE = UNDEFINED
/* POINTERS TO DATA OBJECTS */
^IMAGE = ("H5115_0000_IR4.TIF")
/* IDENTIFICATION DATA ELEMENTS */
DATA_SET_ID = "MEX-M-HRSC-4-REFDR-MAPPROJECT-EXT2-V4.0"
DATA_SET_NAME = "MARS EXPRESS HRSC MAP PROJECTED REFDR EXTENSION2 V4.0"
DETECTOR_ID = MEX_HRSC_IR
EVENT_TYPE = "MARS-REGIONAL-MAPPING-Vo-Pf-Mw"
INSTRUMENT_HOST_ID = MEX
INSTRUMENT_HOST_NAME = "MARS EXPRESS"
INSTRUMENT_ID = HRSC
INSTRUMENT_NAME = "HIGH RESOLUTION STEREO CAMERA"
MISSION_NAME = "MARS EXPRESS"
MISSION_PHASE_NAME = ME_Phase_11
PROCESSING_LEVEL_ID = 4
PRODUCT_CREATION_TIME = 2023-02-01T12:09:47.000Z
PRODUCT_ID = "H5115_0000_IR4.TIF"
RELEASE_ID = 0001
REVISION_ID = 0000
/* QUALITY DATA ELEMENTS */
DATA_QUALITY_ID = 1
DATA_QUALITY_DESC = "Data calculated based on original SPICE kernels"
/* TIME DATA ELEMENTS */
SPACECRAFT_CLOCK_START_COUNT = "1/0146734414.09071"
SPACECRAFT_CLOCK_STOP_COUNT = "1/0146734773.07421"
START_TIME = 2007-12-26T07:33:49.961Z
STOP_TIME = 2007-12-26T07:38:31.575Z
/* ORBITAL DATA ELEMENTS */
ASCENDING_NODE_LONGITUDE = 121.67
MAXIMUM_RESOLUTION = 0.1335
FOOTPRINT_POINT_LATITUDE = (34.8025,34.7959,34.7895,34.7814, 34.7715,34.7598,34.7454,34.7445,34.6837 ,34.3108,33.9403,33.5731,33.2097, 32.8478,32.4894,32.134,31.7798,31.4307, 30.9102,30.5653,30.2245,29.8846,29.5486 ,29.2142,28.8828,28.5532,28.2265, 27.9004,27.5789,27.257,26.9402,26.4648, 26.1528,25.6851,25.378,24.9174,24.6154, 24.3126,24.0123,23.7153,23.4177,22.9767 ,22.6844,22.2472,21.9603,21.673,21.385, 20.822,20.2586,19.7062,19.0121,18.8731, 18.793,18.8029,18.8093,18.8156,18.8158, 18.8178,19.2354,19.7904,20.6262,21.3314 ,21.7621,22.0495,22.3365,22.6289,22.922 ,23.2141,23.5111,23.8092,24.1067, 24.4089,24.712,25.1689,25.4772,25.9413, 26.2544,26.5668,26.8855,27.2031,27.6856 ,28.0078,28.3359,28.6631,28.9951, 29.3273,29.6643,30.001,30.3427,30.8579, 31.2043,31.5546,32.0837,32.6188,33.1604 ,33.5241,33.8926,34.4499,34.6363, 34.8025)
FOOTPRINT_POINT_LONGITUDE = (107.057,106.491,106.112,105.733, 105.353,104.972,104.566,104.542,104.5, 104.527,104.553,104.578,104.602,104.625 ,104.648,104.67,104.691,104.712,104.741 ,104.761,104.779,104.797,104.814, 104.831,104.847,104.863,104.879,104.894 ,104.908,104.923,104.936,104.956, 104.969,104.987,104.999,105.016,105.027 ,105.038,105.048,105.058,105.068, 105.082,105.091,105.105,105.113,105.121 ,105.129,105.145,105.159,105.172, 105.189,105.192,105.194,105.677,106.076 ,106.636,106.65,106.659,106.667,106.678 ,106.694,106.708,106.717,106.724,106.73 ,106.736,106.743,106.749,106.756, 106.762,106.769,106.776,106.784,106.794 ,106.802,106.813,106.821,106.829, 106.837,106.846,106.859,106.867,106.876 ,106.885,106.894,106.904,106.913, 106.923,106.933,106.949,106.959,106.97, 106.987,107.004,107.022,107.034,107.046 ,107.066,107.072,107.057)
ORBIT_NUMBER = 5115
ORBITAL_ECCENTRICITY = 0.575
ORBITAL_INCLINATION = 86.72
ORBITAL_SEMIMAJOR_AXIS = 8733.43
PERIAPSIS_ALTITUDE = 316.38
PERIAPSIS_ARGUMENT_ANGLE = 178.46
PERIAPSIS_TIME = 2007-12-26T07:43:27.000Z
SPACECRAFT_ORIENTATION = (0.0,-1.0,0.0)
^MEX_ORIENTATION_DESC = "MEX_ORIENTATION_DESC.TXT"
SPACECRAFT_POINTING_MODE = ACROSSTRACK
^MEX_POINTING_DESC = "MEX_POINTING_DESC.TXT"
RIGHT_ASCENSION = -1e+32
DECLINATION = -1e+32
OFFSET_ANGLE = -0.29
SPACECRAFT_SOLAR_DISTANCE = 2.35998e+08
TARGET_NAME = MARS
/* CAMERA DATA ELEMENTS */
DETECTOR_TEMPERATURE = 17.5549
FOCAL_PLANE_TEMPERATURE = 7.7677
INST_CMPRS_NAME = "DISCRETE COSINE TRANSFORMATION (DCT)"
INST_CMPRS_RATIO = 13.4343
INST_CMPRS_QUALITY = 0
INST_CMPRS_QUANTZ_TBL_ID = 0
INSTRUMENT_TEMPERATURE = 11.234
LENS_TEMPERATURE = 8.1755
MACROPIXEL_SIZE = 8
MISSING_FRAMES = 0
PIXEL_SUBSAMPLING_FLAG = N
SIGNAL_CHAIN_ID = 2
/* RADIOMETRIC DATA ELEMENTS */
BANDWIDTH = 81.0
CENTER_FILTER_WAVELENGTH = 955.5
RADIANCE_OFFSET = 0.615067
RADIANCE_SCALING_FACTOR = 0.0036337
REFLECTANCE_SCALING_FACTOR = 0.000436607
MEX:REFLECTANCE_OFFSET = 0.0739032
/* IMAGE OBJECT DEFINITIONS */
OBJECT = IMAGE
  INTERCHANGE_FORMAT = BINARY
  LINES = 9448
  LINE_SAMPLES = 1169
  SAMPLE_TYPE = UNSIGNED_INTEGER
  SAMPLE_BITS = 8
  BANDS = 1
  BAND_STORAGE_TYPE = BAND_SEQUENTIAL
  MAXIMUM = 255
  MEAN = 93.1401
  MINIMUM = 1
  STANDARD_DEVIATION = 14.2156
END_OBJECT = IMAGE
/* MAP OBJECT DEFINITIONS */
OBJECT = IMAGE_MAP_PROJECTION
  ^DATA_SET_MAP_PROJECTION_CATALOG= "DSMAP.CAT"
  A_AXIS_RADIUS = 3396.0
  B_AXIS_RADIUS = 3396.0
  C_AXIS_RADIUS = 3396.0
  CENTER_LATITUDE = 0.0
  CENTER_LONGITUDE = 106.0
  COORDINATE_SYSTEM_NAME = PLANETOGRAPHIC
  COORDINATE_SYSTEM_TYPE = "BODY-FIXED ROTATING"
  EASTERNMOST_LONGITUDE = 107.072
  FIRST_STANDARD_PARALLEL = "N/A"
  LINE_FIRST_PIXEL = 1
  LINE_LAST_PIXEL = 9448
  LINE_PROJECTION_OFFSET = 20610.1875
  MAP_PROJECTION_ROTATION = 0.0
  MAP_PROJECTION_TYPE = SINUSOIDAL
  MAP_RESOLUTION = 592.713803866667
  MAP_SCALE = 0.1
  MAXIMUM_LATITUDE = 34.8025
  MINIMUM_LATITUDE = 18.793
  POSITIVE_LONGITUDE_DIRECTION = EAST
  REFERENCE_LATITUDE = "N/A"
  REFERENCE_LONGITUDE = "N/A"
  SAMPLE_FIRST_PIXEL = 1
  SAMPLE_LAST_PIXEL = 1169
  SAMPLE_PROJECTION_OFFSET = 697.0625
  SECOND_STANDARD_PARALLEL = "N/A"
  WESTERNMOST_LONGITUDE = 104.5
END_OBJECT = IMAGE_MAP_PROJECTION
END
