PDS_VERSION_ID = PDS3
/* FILE DATA ELEMENTS */
RECORD_TYPE = UNDEFINED
/* POINTERS TO DATA OBJECTS */
^IMAGE = ("H5081_0002_P24.TIF")
/* IDENTIFICATION DATA ELEMENTS */
DATA_SET_ID = "MEX-M-HRSC-4-REFDR-MAPPROJECT-EXT2-V4.0"
DATA_SET_NAME = "MARS EXPRESS HRSC MAP PROJECTED REFDR EXTENSION2 V4.0"
DETECTOR_ID = MEX_HRSC_P2
EVENT_TYPE = "MARS-LOCAL-STEREO-Vo-Te-La"
INSTRUMENT_HOST_ID = MEX
INSTRUMENT_HOST_NAME = "MARS EXPRESS"
INSTRUMENT_ID = HRSC
INSTRUMENT_NAME = "HIGH RESOLUTION STEREO CAMERA"
MISSION_NAME = "MARS EXPRESS"
MISSION_PHASE_NAME = ME_Phase_11
PROCESSING_LEVEL_ID = 4
PRODUCT_CREATION_TIME = 2023-02-01T12:09:47.000Z
PRODUCT_ID = "H5081_0002_P24.TIF"
RELEASE_ID = 0001
REVISION_ID = 0000
/* QUALITY DATA ELEMENTS */
DATA_QUALITY_ID = 1
DATA_QUALITY_DESC = "Data calculated based on original SPICE kernels"
/* TIME DATA ELEMENTS */
SPACECRAFT_CLOCK_START_COUNT = "1/0145897740.08234"
SPACECRAFT_CLOCK_STOP_COUNT = "1/0145897939.17007"
START_TIME = 2007-12-16T15:09:50.645Z
STOP_TIME = 2007-12-16T15:12:09.488Z
/* ORBITAL DATA ELEMENTS */
ASCENDING_NODE_LONGITUDE = 122.36
MAXIMUM_RESOLUTION = 0.0262
FOOTPRINT_POINT_LATITUDE = (-8.84196,-8.84214,-8.84096,-8.83924, -8.83917,-8.84863,-9.02715,-9.37665, -9.5545,-9.73004,-10.0738,-10.503, -10.8462,-11.1038,-11.3697,-11.547, -11.7237,-11.9004,-12.0772,-12.3417, -12.5179,-12.7822,-12.9581,-13.134, -13.3096,-13.5731,-13.8435,-14.0243, -14.2954,-14.4762,-14.6566,-14.8369, -15.0173,-15.1973,-15.3771,-15.5568, -15.7364,-15.9156,-16.0947,-16.3634, -16.5423,-16.7212,-16.8998,-17.0781, -17.256,-17.4341,-17.612,-17.7011, -17.7217,-17.7225,-17.7218,-17.7206, -17.7193,-17.7192,-17.7187,-17.5412, -17.3633,-17.1851,-17.0068,-16.8284, -16.6499,-16.4713,-16.2926,-16.1135, -15.9343,-15.7549,-15.4857,-15.3061, -15.0365,-14.8565,-14.6762,-14.4956, -14.3152,-14.1346,-13.9539,-13.7729, -13.5926,-13.4172,-13.2416,-13.0661, -12.8902,-12.7139,-12.5379,-12.3615, -12.1854,-12.0089,-11.744,-11.5674, -11.3904,-11.2133,-10.95,-10.6815, -10.3398,-10.0019,-9.82383,-9.64966, -9.30466,-8.96135,-8.87603,-8.84196)
FOOTPRINT_POINT_LONGITUDE = (268.265,267.935,267.462,267.143, 267.132,267.132,267.133,267.132,267.133 ,267.132,267.129,267.124,267.121, 267.118,267.115,267.114,267.112,267.11, 267.108,267.104,267.102,267.099,267.097 ,267.095,267.093,267.089,267.086, 267.083,267.08,267.077,267.075,267.072, 267.07,267.068,267.065,267.062,267.06, 267.057,267.054,267.05,267.048,267.045, 267.042,267.04,267.037,267.034,267.031, 267.03,267.029,267.458,267.887,268.114, 268.316,268.329,268.333,268.33,268.328, 268.325,268.322,268.32,268.317,268.315, 268.312,268.31,268.307,268.305,268.302, 268.299,268.296,268.294,268.292,268.29, 268.288,268.286,268.284,268.283,268.281 ,268.279,268.278,268.276,268.275, 268.273,268.272,268.271,268.269,268.268 ,268.266,268.265,268.264,268.263, 268.263,268.267,268.264,268.26,268.262, 268.262,268.262,268.26,268.259,268.265)
ORBIT_NUMBER = 5081
ORBITAL_ECCENTRICITY = 0.575
ORBITAL_INCLINATION = 86.71
ORBITAL_SEMIMAJOR_AXIS = 8720.45
PERIAPSIS_ALTITUDE = 313.39
PERIAPSIS_ARGUMENT_ANGLE = 184.47
PERIAPSIS_TIME = 2007-12-16T15:08:24.000Z
SPACECRAFT_ORIENTATION = (0.0,-1.0,0.0)
^MEX_ORIENTATION_DESC = "MEX_ORIENTATION_DESC.TXT"
SPACECRAFT_POINTING_MODE = NADIR
^MEX_POINTING_DESC = "MEX_POINTING_DESC.TXT"
RIGHT_ASCENSION = -1e+32
DECLINATION = -1e+32
OFFSET_ANGLE = -1e+32
SPACECRAFT_SOLAR_DISTANCE = 2.34279e+08
TARGET_NAME = MARS
/* CAMERA DATA ELEMENTS */
DETECTOR_TEMPERATURE = 22.4485
FOCAL_PLANE_TEMPERATURE = 8.3794
INST_CMPRS_NAME = "DISCRETE COSINE TRANSFORMATION (DCT)"
INST_CMPRS_RATIO = 7.55005
INST_CMPRS_QUALITY = 0
INST_CMPRS_QUANTZ_TBL_ID = 0
INSTRUMENT_TEMPERATURE = 14.2925
LENS_TEMPERATURE = 8.9911
MACROPIXEL_SIZE = 2
MISSING_FRAMES = 0
PIXEL_SUBSAMPLING_FLAG = N
SIGNAL_CHAIN_ID = 3
/* RADIOMETRIC DATA ELEMENTS */
BANDWIDTH = 177.0
CENTER_FILTER_WAVELENGTH = 676.5
RADIANCE_OFFSET = 1.15347
RADIANCE_SCALING_FACTOR = 0.0112534
REFLECTANCE_SCALING_FACTOR = 0.000327496
MEX:REFLECTANCE_OFFSET = 0.0335683
/* IMAGE OBJECT DEFINITIONS */
OBJECT = IMAGE
  INTERCHANGE_FORMAT = BINARY
  LINES = 20991
  LINE_SAMPLES = 2864
  SAMPLE_TYPE = UNSIGNED_INTEGER
  SAMPLE_BITS = 8
  BANDS = 1
  BAND_STORAGE_TYPE = BAND_SEQUENTIAL
  MAXIMUM = 255
  MEAN = 69.9094
  MINIMUM = 1
  STANDARD_DEVIATION = 17.0816
END_OBJECT = IMAGE
/* MAP OBJECT DEFINITIONS */
OBJECT = IMAGE_MAP_PROJECTION
  ^DATA_SET_MAP_PROJECTION_CATALOG= "DSMAP.CAT"
  A_AXIS_RADIUS = 3396.0
  B_AXIS_RADIUS = 3396.0
  C_AXIS_RADIUS = 3396.0
  CENTER_LATITUDE = 0.0
  CENTER_LONGITUDE = 268.0
  COORDINATE_SYSTEM_NAME = PLANETOGRAPHIC
  COORDINATE_SYSTEM_TYPE = "BODY-FIXED ROTATING"
  EASTERNMOST_LONGITUDE = 268.333
  FIRST_STANDARD_PARALLEL = "N/A"
  LINE_FIRST_PIXEL = 1
  LINE_LAST_PIXEL = 20991
  LINE_PROJECTION_OFFSET = -20946.75
  MAP_PROJECTION_ROTATION = 0.0
  MAP_PROJECTION_TYPE = SINUSOIDAL
  MAP_RESOLUTION = 2370.85521546667
  MAP_SCALE = 0.025
  MAXIMUM_LATITUDE = -8.839169999999999
  MINIMUM_LATITUDE = -17.7225
  POSITIVE_LONGITUDE_DIRECTION = EAST
  REFERENCE_LATITUDE = "N/A"
  REFERENCE_LONGITUDE = "N/A"
  SAMPLE_FIRST_PIXEL = 1
  SAMPLE_LAST_PIXEL = 2864
  SAMPLE_PROJECTION_OFFSET = 2150.75
  SECOND_STANDARD_PARALLEL = "N/A"
  WESTERNMOST_LONGITUDE = 267.029
END_OBJECT = IMAGE_MAP_PROJECTION
END
