PDS_VERSION_ID = PDS3
/* FILE DATA ELEMENTS */
RECORD_TYPE = UNDEFINED
/* POINTERS TO DATA OBJECTS */
^IMAGE = ("H5063_0001_RE4.TIF")
/* IDENTIFICATION DATA ELEMENTS */
DATA_SET_ID = "MEX-M-HRSC-4-REFDR-MAPPROJECT-EXT2-V4.0"
DATA_SET_NAME = "MARS EXPRESS HRSC MAP PROJECTED REFDR EXTENSION2 V4.0"
DETECTOR_ID = MEX_HRSC_RED
EVENT_TYPE = "MARS-LOCAL-STEREO-Vo"
INSTRUMENT_HOST_ID = MEX
INSTRUMENT_HOST_NAME = "MARS EXPRESS"
INSTRUMENT_ID = HRSC
INSTRUMENT_NAME = "HIGH RESOLUTION STEREO CAMERA"
MISSION_NAME = "MARS EXPRESS"
MISSION_PHASE_NAME = ME_Phase_11
PROCESSING_LEVEL_ID = 4
PRODUCT_CREATION_TIME = 2023-02-01T12:09:47.000Z
PRODUCT_ID = "H5063_0001_RE4.TIF"
RELEASE_ID = 0001
REVISION_ID = 0000
/* QUALITY DATA ELEMENTS */
DATA_QUALITY_ID = 1
DATA_QUALITY_DESC = "Data calculated based on original SPICE kernels"
/* TIME DATA ELEMENTS */
SPACECRAFT_CLOCK_START_COUNT = "1/0145455885.07285"
SPACECRAFT_CLOCK_STOP_COUNT = "1/0145456067.29060"
START_TIME = 2007-12-11T12:25:42.089Z
STOP_TIME = 2007-12-11T12:27:43.440Z
/* ORBITAL DATA ELEMENTS */
ASCENDING_NODE_LONGITUDE = 122.72
MAXIMUM_RESOLUTION = 0.1066
FOOTPRINT_POINT_LATITUDE = (-13.626,-13.616,-13.6057,-13.595, -13.5838,-13.5721,-13.5529,-13.5521, -13.5943,-13.7455,-13.8971,-14.0483, -14.1996,-14.426,-14.7281,-15.029, -15.2543,-15.6289,-15.8608,-16.0156, -16.1703,-16.3252,-16.4794,-16.6334, -16.7876,-16.9416,-17.1725,-17.3264, -17.4797,-17.6331,-17.863,-18.0165, -18.1695,-18.3222,-18.475,-18.6278, -18.7808,-18.9332,-19.0858,-19.2379, -19.3897,-19.5417,-19.6936,-19.9212, -20.0728,-20.2245,-20.3761,-20.5275, -20.679,-21.1315,-21.2071,-21.2501, -21.2622,-21.2771,-21.286,-21.299, -21.3101,-21.3192,-21.3197,-21.3181, -21.0849,-20.8587,-20.5567,-20.2539, -20.1026,-19.9509,-19.7993,-19.5716, -19.4194,-19.191,-19.0387,-18.8862, -18.7334,-18.5045,-18.3516,-18.1984, -18.0455,-17.8922,-17.739,-17.5853, -17.431,-17.2783,-17.1245,-16.9702, -16.816,-16.5848,-16.4304,-16.2759, -16.121,-15.9662,-15.8115,-15.5082, -15.1325,-14.9069,-14.6049,-14.3787, -14.001,-13.774,-13.6984,-13.626)
FOOTPRINT_POINT_LONGITUDE = (262.383,262.209,262.033,261.854, 261.673,261.489,261.197,261.186,261.219 ,261.217,261.215,261.213,261.211, 261.207,261.202,261.197,261.193,261.186 ,261.181,261.179,261.176,261.173,261.17 ,261.167,261.164,261.161,261.156, 261.153,261.15,261.146,261.141,261.138, 261.135,261.132,261.128,261.125,261.122 ,261.118,261.115,261.112,261.108, 261.105,261.101,261.096,261.092,261.089 ,261.086,261.083,261.079,261.068, 261.067,261.066,261.278,261.554,261.723 ,261.981,262.221,262.422,262.435, 262.443,262.44,262.438,262.434,262.431, 262.43,262.428,262.427,262.425,262.423, 262.421,262.42,262.419,262.417,262.416, 262.415,262.413,262.412,262.411,262.41, 262.409,262.408,262.408,262.407,262.406 ,262.405,262.404,262.403,262.402, 262.401,262.401,262.4,262.399,262.398, 262.397,262.396,262.395,262.394,262.394 ,262.393,262.383)
ORBIT_NUMBER = 5063
ORBITAL_ECCENTRICITY = 0.575
ORBITAL_INCLINATION = 86.71
ORBITAL_SEMIMAJOR_AXIS = 8720.69
PERIAPSIS_ALTITUDE = 312.0
PERIAPSIS_ARGUMENT_ANGLE = 187.63
PERIAPSIS_TIME = 2007-12-11T12:23:46.000Z
SPACECRAFT_ORIENTATION = (0.0,-1.0,0.0)
^MEX_ORIENTATION_DESC = "MEX_ORIENTATION_DESC.TXT"
SPACECRAFT_POINTING_MODE = ACROSSTRACK
^MEX_POINTING_DESC = "MEX_POINTING_DESC.TXT"
RIGHT_ASCENSION = -1e+32
DECLINATION = -1e+32
OFFSET_ANGLE = -1.0
SPACECRAFT_SOLAR_DISTANCE = 2.33346e+08
TARGET_NAME = MARS
/* CAMERA DATA ELEMENTS */
DETECTOR_TEMPERATURE = 20.0017
FOCAL_PLANE_TEMPERATURE = 7.9716
INST_CMPRS_NAME = "DISCRETE COSINE TRANSFORMATION (DCT)"
INST_CMPRS_RATIO = 11.4024
INST_CMPRS_QUALITY = 0
INST_CMPRS_QUANTZ_TBL_ID = 0
INSTRUMENT_TEMPERATURE = 12.4574
LENS_TEMPERATURE = 8.5833
MACROPIXEL_SIZE = 8
MISSING_FRAMES = 0
PIXEL_SUBSAMPLING_FLAG = N
SIGNAL_CHAIN_ID = 2
/* RADIOMETRIC DATA ELEMENTS */
BANDWIDTH = 48.0
CENTER_FILTER_WAVELENGTH = 748.0
RADIANCE_OFFSET = 0.251542
RADIANCE_SCALING_FACTOR = 0.00333872
REFLECTANCE_SCALING_FACTOR = 0.000414867
MEX:REFLECTANCE_OFFSET = 0.0312564
/* IMAGE OBJECT DEFINITIONS */
OBJECT = IMAGE
  INTERCHANGE_FORMAT = BINARY
  LINES = 4552
  LINE_SAMPLES = 743
  SAMPLE_TYPE = UNSIGNED_INTEGER
  SAMPLE_BITS = 8
  BANDS = 1
  BAND_STORAGE_TYPE = BAND_SEQUENTIAL
  MAXIMUM = 255
  MEAN = 81.2051
  MINIMUM = 1
  STANDARD_DEVIATION = 15.8643
END_OBJECT = IMAGE
/* MAP OBJECT DEFINITIONS */
OBJECT = IMAGE_MAP_PROJECTION
  ^DATA_SET_MAP_PROJECTION_CATALOG= "DSMAP.CAT"
  A_AXIS_RADIUS = 3396.0
  B_AXIS_RADIUS = 3396.0
  C_AXIS_RADIUS = 3396.0
  CENTER_LATITUDE = 0.0
  CENTER_LONGITUDE = 262.0
  COORDINATE_SYSTEM_NAME = PLANETOGRAPHIC
  COORDINATE_SYSTEM_TYPE = "BODY-FIXED ROTATING"
  EASTERNMOST_LONGITUDE = 262.443
  FIRST_STANDARD_PARALLEL = "N/A"
  LINE_FIRST_PIXEL = 1
  LINE_LAST_PIXEL = 4552
  LINE_PROJECTION_OFFSET = -8041.9375
  MAP_PROJECTION_ROTATION = 0.0
  MAP_PROJECTION_TYPE = SINUSOIDAL
  MAP_RESOLUTION = 592.713803866667
  MAP_SCALE = 0.1
  MAXIMUM_LATITUDE = -13.5521
  MINIMUM_LATITUDE = -21.3197
  POSITIVE_LONGITUDE_DIRECTION = EAST
  REFERENCE_LATITUDE = "N/A"
  REFERENCE_LONGITUDE = "N/A"
  SAMPLE_FIRST_PIXEL = 1
  SAMPLE_LAST_PIXEL = 743
  SAMPLE_PROJECTION_OFFSET = 506.8125
  SECOND_STANDARD_PARALLEL = "N/A"
  WESTERNMOST_LONGITUDE = 261.066
END_OBJECT = IMAGE_MAP_PROJECTION
END
