PDS_VERSION_ID = PDS3
/* FILE DATA ELEMENTS */
RECORD_TYPE = UNDEFINED
/* POINTERS TO DATA OBJECTS */
^IMAGE = ("H5063_0000_S24.TIF")
/* IDENTIFICATION DATA ELEMENTS */
DATA_SET_ID = "MEX-M-HRSC-4-REFDR-MAPPROJECT-EXT2-V4.0"
DATA_SET_NAME = "MARS EXPRESS HRSC MAP PROJECTED REFDR EXTENSION2 V4.0"
DETECTOR_ID = MEX_HRSC_S2
EVENT_TYPE = "MARS-LOCAL-STEREO-Vo"
INSTRUMENT_HOST_ID = MEX
INSTRUMENT_HOST_NAME = "MARS EXPRESS"
INSTRUMENT_ID = HRSC
INSTRUMENT_NAME = "HIGH RESOLUTION STEREO CAMERA"
MISSION_NAME = "MARS EXPRESS"
MISSION_PHASE_NAME = ME_Phase_11
PROCESSING_LEVEL_ID = 4
PRODUCT_CREATION_TIME = 2023-02-01T12:09:47.000Z
PRODUCT_ID = "H5063_0000_S24.TIF"
RELEASE_ID = 0001
REVISION_ID = 0000
/* QUALITY DATA ELEMENTS */
DATA_QUALITY_ID = 1
DATA_QUALITY_DESC = "Data calculated based on original SPICE kernels"
/* TIME DATA ELEMENTS */
SPACECRAFT_CLOCK_START_COUNT = "1/0145455520.08270"
SPACECRAFT_CLOCK_STOP_COUNT = "1/0145455746.17923"
START_TIME = 2007-12-11T12:19:53.750Z
STOP_TIME = 2007-12-11T12:22:28.123Z
/* ORBITAL DATA ELEMENTS */
ASCENDING_NODE_LONGITUDE = 122.72
MAXIMUM_RESOLUTION = 0.0133
FOOTPRINT_POINT_LATITUDE = (9.68332,9.69622,9.70942,9.72296, 9.73689,9.75119,9.76956,9.77049,9.74317 ,9.42738,9.21659,9.00592,8.79522,8.5846 ,8.37403,8.16329,7.95235,7.74162, 7.53064,7.31972,7.10892,6.898,6.68685, 6.47598,6.26455,6.05331,5.84261,5.63187 ,5.42068,5.21014,4.99912,4.78809, 4.57834,4.37427,4.1703,3.96617,3.65999, 3.45585,3.25155,2.94547,2.63957,2.43552 ,2.23156,2.02766,1.82392,1.4234, 0.931399,0.63617,0.144694,-0.248432, -0.445438,-0.544211,-0.547088,-0.572311 ,-0.599462,-0.616843,-0.631768, -0.632552,-0.632728,-0.337391,0.0556243 ,0.547311,0.941113,1.3347,1.73513, 1.93891,2.24444,2.44839,2.65252,2.85646 ,3.0603,3.26426,3.57045,3.77455,3.9788, 4.18307,4.38713,4.59358,4.80445,5.01539 ,5.22624,5.43734,5.64836,5.85942, 6.17577,6.38665,6.70323,7.01965,7.23077 ,7.44168,7.65259,7.96889,8.28519, 8.49617,8.81224,9.02286,9.33911,9.5504, 9.65497,9.68332)
FOOTPRINT_POINT_LONGITUDE = (262.542,262.34,262.134,261.927,261.716 ,261.503,261.232,261.219,261.233, 261.237,261.24,261.242,261.245,261.247, 261.249,261.251,261.253,261.255,261.258 ,261.26,261.261,261.263,261.265,261.267 ,261.269,261.271,261.272,261.273, 261.275,261.276,261.277,261.279,261.28, 261.281,261.282,261.283,261.285,261.285 ,261.286,261.288,261.289,261.289,261.29 ,261.291,261.291,261.292,261.292, 261.292,261.292,261.292,261.292,261.293 ,261.293,261.607,261.969,262.201, 262.419,262.429,262.435,262.437,262.44, 262.444,262.448,262.451,262.455,262.457 ,262.46,262.462,262.464,262.466,262.468 ,262.47,262.473,262.475,262.478,262.48, 262.482,262.484,262.487,262.489,262.491 ,262.494,262.496,262.498,262.502, 262.505,262.508,262.512,262.515,262.518 ,262.52,262.524,262.528,262.531,262.535 ,262.538,262.542,262.545,262.546, 262.542)
ORBIT_NUMBER = 5063
ORBITAL_ECCENTRICITY = 0.575
ORBITAL_INCLINATION = 86.71
ORBITAL_SEMIMAJOR_AXIS = 8720.69
PERIAPSIS_ALTITUDE = 312.0
PERIAPSIS_ARGUMENT_ANGLE = 187.63
PERIAPSIS_TIME = 2007-12-11T12:23:46.000Z
SPACECRAFT_ORIENTATION = (0.0,-1.0,0.0)
^MEX_ORIENTATION_DESC = "MEX_ORIENTATION_DESC.TXT"
SPACECRAFT_POINTING_MODE = ACROSSTRACK
^MEX_POINTING_DESC = "MEX_POINTING_DESC.TXT"
RIGHT_ASCENSION = -1e+32
DECLINATION = -1e+32
OFFSET_ANGLE = -1.0
SPACECRAFT_SOLAR_DISTANCE = 2.33346e+08
TARGET_NAME = MARS
/* CAMERA DATA ELEMENTS */
DETECTOR_TEMPERATURE = 18.5744
FOCAL_PLANE_TEMPERATURE = 7.9716
INST_CMPRS_NAME = "DISCRETE COSINE TRANSFORMATION (DCT)"
INST_CMPRS_RATIO = 7.34854
INST_CMPRS_QUALITY = 0
INST_CMPRS_QUANTZ_TBL_ID = 0
INSTRUMENT_TEMPERATURE = 11.234
LENS_TEMPERATURE = 8.5833
MACROPIXEL_SIZE = 1
MISSING_FRAMES = 0
PIXEL_SUBSAMPLING_FLAG = N
SIGNAL_CHAIN_ID = 1
/* RADIOMETRIC DATA ELEMENTS */
BANDWIDTH = 178.0
CENTER_FILTER_WAVELENGTH = 679.0
RADIANCE_OFFSET = 1.70557
RADIANCE_SCALING_FACTOR = 0.00996721
REFLECTANCE_SCALING_FACTOR = 0.000287411
MEX:REFLECTANCE_OFFSET = 0.0491812
/* IMAGE OBJECT DEFINITIONS */
OBJECT = IMAGE
  INTERCHANGE_FORMAT = BINARY
  LINES = 48797
  LINE_SAMPLES = 6308
  SAMPLE_TYPE = UNSIGNED_INTEGER
  SAMPLE_BITS = 8
  BANDS = 1
  BAND_STORAGE_TYPE = BAND_SEQUENTIAL
  MAXIMUM = 255
  MEAN = 114.882
  MINIMUM = 1
  STANDARD_DEVIATION = 23.4151
END_OBJECT = IMAGE
/* MAP OBJECT DEFINITIONS */
OBJECT = IMAGE_MAP_PROJECTION
  ^DATA_SET_MAP_PROJECTION_CATALOG= "DSMAP.CAT"
  A_AXIS_RADIUS = 3396.0
  B_AXIS_RADIUS = 3396.0
  C_AXIS_RADIUS = 3396.0
  CENTER_LATITUDE = 0.0
  CENTER_LONGITUDE = 262.0
  COORDINATE_SYSTEM_NAME = PLANETOGRAPHIC
  COORDINATE_SYSTEM_TYPE = "BODY-FIXED ROTATING"
  EASTERNMOST_LONGITUDE = 262.546
  FIRST_STANDARD_PARALLEL = "N/A"
  LINE_FIRST_PIXEL = 1
  LINE_LAST_PIXEL = 48797
  LINE_PROJECTION_OFFSET = 46149.0
  MAP_PROJECTION_ROTATION = 0.0
  MAP_PROJECTION_TYPE = SINUSOIDAL
  MAP_RESOLUTION = 4741.71043093333
  MAP_SCALE = 0.0125
  MAXIMUM_LATITUDE = 9.770490000000001
  MINIMUM_LATITUDE = -0.632728
  POSITIVE_LONGITUDE_DIRECTION = EAST
  REFERENCE_LATITUDE = "N/A"
  REFERENCE_LONGITUDE = "N/A"
  SAMPLE_FIRST_PIXEL = 1
  SAMPLE_LAST_PIXEL = 6308
  SAMPLE_PROJECTION_OFFSET = 3647.0
  SECOND_STANDARD_PARALLEL = "N/A"
  WESTERNMOST_LONGITUDE = 261.219
END_OBJECT = IMAGE_MAP_PROJECTION
END
