PDS_VERSION_ID = PDS3
/* FILE DATA ELEMENTS */
RECORD_TYPE = UNDEFINED
/* POINTERS TO DATA OBJECTS */
^IMAGE = ("H5045_0000_S14.TIF")
/* IDENTIFICATION DATA ELEMENTS */
DATA_SET_ID = "MEX-M-HRSC-4-REFDR-MAPPROJECT-EXT2-V4.0"
DATA_SET_NAME = "MARS EXPRESS HRSC MAP PROJECTED REFDR EXTENSION2 V4.0"
DETECTOR_ID = MEX_HRSC_S1
EVENT_TYPE = "MARS-LOCAL-STEREO-Vo-Te"
INSTRUMENT_HOST_ID = MEX
INSTRUMENT_HOST_NAME = "MARS EXPRESS"
INSTRUMENT_ID = HRSC
INSTRUMENT_NAME = "HIGH RESOLUTION STEREO CAMERA"
MISSION_NAME = "MARS EXPRESS"
MISSION_PHASE_NAME = ME_Phase_11
PROCESSING_LEVEL_ID = 4
PRODUCT_CREATION_TIME = 2023-02-01T12:09:47.000Z
PRODUCT_ID = "H5045_0000_S14.TIF"
RELEASE_ID = 0001
REVISION_ID = 0000
/* QUALITY DATA ELEMENTS */
DATA_QUALITY_ID = 1
DATA_QUALITY_DESC = "Data calculated based on original SPICE kernels"
/* TIME DATA ELEMENTS */
SPACECRAFT_CLOCK_START_COUNT = "1/0145015118.09044"
SPACECRAFT_CLOCK_STOP_COUNT = "1/0145015367.42694"
START_TIME = 2007-12-06T09:58:42.008Z
STOP_TIME = 2007-12-06T10:01:54.409Z
/* ORBITAL DATA ELEMENTS */
ASCENDING_NODE_LONGITUDE = 123.09
MAXIMUM_RESOLUTION = 0.013
FOOTPRINT_POINT_LATITUDE = (3.51576,3.51818,3.52119,3.52319,3.5232 ,3.56457,3.31848,3.07197,2.82524, 2.57797,2.33024,2.08225,1.83382,1.58501 ,1.33593,1.0865,0.836775,0.461346, 0.210809,-0.040093,-0.291082,-0.542781, -0.795264,-1.04527,-1.28997,-1.5349, -1.78027,-2.14879,-2.39474,-2.76441, -3.01094,-3.37777,-3.61698,-3.85648, -4.096,-4.45607,-4.69643,-4.93713, -5.17815,-5.53847,-5.78013,-6.14126, -6.38303,-6.62308,-7.09273,-7.45023, -8.03268,-8.26768,-8.50442,-8.62293, -8.63188,-8.63276,-8.63323,-8.6362, -8.63625,-8.63608,-8.28085,-7.92712, -7.57407,-7.10453,-6.63882,-6.39544, -6.03307,-5.67103,-5.4311,-5.18957, -4.95062,-4.70915,-4.34956,-4.10999, -3.75186,-3.5133,-3.15043,-2.90379, -2.6575,-2.41145,-2.04246,-1.79678, -1.55151,-1.30646,-1.0614,-0.811483, -0.559029,-0.307822,-0.056749,0.319597, 0.570079,0.820261,1.07015,1.31981, 1.69388,1.94239,2.1907,2.43869,2.6864, 2.93375,3.1806,3.42712,3.5503,3.51576)
FOOTPRINT_POINT_LONGITUDE = (252.89,252.624,252.193,251.623,251.61, 251.617,251.619,251.621,251.623,251.625 ,251.626,251.628,251.63,251.631,251.633 ,251.634,251.636,251.638,251.639,251.64 ,251.641,251.643,251.644,251.645, 251.645,251.646,251.647,251.648,251.649 ,251.65,251.651,251.652,251.652,251.652 ,251.653,251.653,251.654,251.654, 251.654,251.655,251.655,251.655,251.655 ,251.656,251.655,251.653,251.654, 251.654,251.653,251.653,251.653,251.951 ,252.377,252.718,252.729,252.734, 252.735,252.736,252.738,252.741,252.745 ,252.745,252.748,252.751,252.754, 252.756,252.758,252.76,252.764,252.766, 252.77,252.773,252.777,252.78,252.783, 252.786,252.79,252.793,252.796,252.8, 252.803,252.806,252.81,252.813,252.817, 252.823,252.827,252.83,252.834,252.838, 252.844,252.849,252.853,252.857,252.861 ,252.866,252.87,252.875,252.877,252.89)
ORBIT_NUMBER = 5045
ORBITAL_ECCENTRICITY = 0.574
ORBITAL_INCLINATION = 86.7
ORBITAL_SEMIMAJOR_AXIS = 8693.97
PERIAPSIS_ALTITUDE = 310.59
PERIAPSIS_ARGUMENT_ANGLE = 190.8
PERIAPSIS_TIME = 2007-12-06T10:02:53.000Z
SPACECRAFT_ORIENTATION = (0.0,-1.0,0.0)
^MEX_ORIENTATION_DESC = "MEX_ORIENTATION_DESC.TXT"
SPACECRAFT_POINTING_MODE = NADIR
^MEX_POINTING_DESC = "MEX_POINTING_DESC.TXT"
RIGHT_ASCENSION = -1e+32
DECLINATION = -1e+32
OFFSET_ANGLE = -1e+32
SPACECRAFT_SOLAR_DISTANCE = 2.32402e+08
TARGET_NAME = MARS
/* CAMERA DATA ELEMENTS */
DETECTOR_TEMPERATURE = 17.5549
FOCAL_PLANE_TEMPERATURE = 8.3794
INST_CMPRS_NAME = "DISCRETE COSINE TRANSFORMATION (DCT)"
INST_CMPRS_RATIO = 7.86038
INST_CMPRS_QUALITY = 0
INST_CMPRS_QUANTZ_TBL_ID = 0
INSTRUMENT_TEMPERATURE = 11.234
LENS_TEMPERATURE = 8.5833
MACROPIXEL_SIZE = 1
MISSING_FRAMES = 0
PIXEL_SUBSAMPLING_FLAG = N
SIGNAL_CHAIN_ID = 2
/* RADIOMETRIC DATA ELEMENTS */
BANDWIDTH = 180.0
CENTER_FILTER_WAVELENGTH = 677.0
RADIANCE_OFFSET = 1.27751
RADIANCE_SCALING_FACTOR = 0.00782027
REFLECTANCE_SCALING_FACTOR = 0.000220364
MEX:REFLECTANCE_OFFSET = 0.0359986
/* IMAGE OBJECT DEFINITIONS */
OBJECT = IMAGE
  INTERCHANGE_FORMAT = BINARY
  LINES = 57902
  LINE_SAMPLES = 5713
  SAMPLE_TYPE = UNSIGNED_INTEGER
  SAMPLE_BITS = 8
  BANDS = 1
  BAND_STORAGE_TYPE = BAND_SEQUENTIAL
  MAXIMUM = 255
  MEAN = 97.2474
  MINIMUM = 1
  STANDARD_DEVIATION = 20.704
END_OBJECT = IMAGE
/* MAP OBJECT DEFINITIONS */
OBJECT = IMAGE_MAP_PROJECTION
  ^DATA_SET_MAP_PROJECTION_CATALOG= "DSMAP.CAT"
  A_AXIS_RADIUS = 3396.0
  B_AXIS_RADIUS = 3396.0
  C_AXIS_RADIUS = 3396.0
  CENTER_LATITUDE = 0.0
  CENTER_LONGITUDE = 252.0
  COORDINATE_SYSTEM_NAME = PLANETOGRAPHIC
  COORDINATE_SYSTEM_TYPE = "BODY-FIXED ROTATING"
  EASTERNMOST_LONGITUDE = 252.89
  FIRST_STANDARD_PARALLEL = "N/A"
  LINE_FIRST_PIXEL = 1
  LINE_LAST_PIXEL = 57902
  LINE_PROJECTION_OFFSET = 16765.0
  MAP_PROJECTION_ROTATION = 0.0
  MAP_PROJECTION_TYPE = SINUSOIDAL
  MAP_RESOLUTION = 4741.71043093333
  MAP_SCALE = 0.0125
  MAXIMUM_LATITUDE = 3.56457
  MINIMUM_LATITUDE = -8.63625
  POSITIVE_LONGITUDE_DIRECTION = EAST
  REFERENCE_LATITUDE = "N/A"
  REFERENCE_LONGITUDE = "N/A"
  SAMPLE_FIRST_PIXEL = 1
  SAMPLE_LAST_PIXEL = 5713
  SAMPLE_PROJECTION_OFFSET = 1693.0
  SECOND_STANDARD_PARALLEL = "N/A"
  WESTERNMOST_LONGITUDE = 251.61
END_OBJECT = IMAGE_MAP_PROJECTION
END
