PDS_VERSION_ID = PDS3
/* FILE DATA ELEMENTS */
RECORD_TYPE = STREAM
/* POINTERS TO DATA OBJECTS */
^COMPRESSED_FILE = "HG957_0000_S23.JP2"
/* IDENTIFICATION DATA ELEMENTS */
DATA_SET_ID = "MEX-M-HRSC-5-REFDR-MAPPROJECTED-V3.0"
DATA_SET_NAME = "MARS EXPRESS HRSC MAP PROJECTED REFDR V3.0"
DETECTOR_ID = MEX_HRSC_S2
EVENT_TYPE = "MARS-TERMINATOR-CALIBRATION-Tc"
INSTRUMENT_HOST_ID = MEX
INSTRUMENT_HOST_NAME = "MARS EXPRESS"
INSTRUMENT_ID = HRSC
INSTRUMENT_NAME = "HIGH RESOLUTION STEREO CAMERA"
MISSION_NAME = "MARS EXPRESS"
MISSION_PHASE_NAME = ME_Phase_36
PROCESSING_LEVEL_ID = 3
PRODUCT_CREATION_TIME = 2018-06-28T11:48:36.000Z
PRODUCT_ID = "HG957_0000_S23.JP2"
RELEASE_ID = 0138
REVISION_ID = 0000
/* QUALITY DATA ELEMENTS */
DATA_QUALITY_ID = 1
DATA_QUALITY_DESC = "Data calculated based on original SPICE kernels"
/* TIME DATA ELEMENTS */
SPACECRAFT_CLOCK_START_COUNT = "1/0443604618.09050"
SPACECRAFT_CLOCK_STOP_COUNT = "1/0443605105.64573"
START_TIME = 2017-05-23T07:30:26.602Z
STOP_TIME = 2017-05-23T07:34:35.507Z
/* ORBITAL DATA ELEMENTS */
ASCENDING_NODE_LONGITUDE = 255.47
MAXIMUM_RESOLUTION = 1125.8
FOOTPRINT_POINT_LATITUDE = (4.16476,4.58334,4.80423,6.09485, 4.90926,7.30165,10.4381,15.344,17.5191, 21.0585,23.2363,25.7425,29.0273,34.4046 ,39.6486,42.2603,46.2127,48.8873, 51.5731,55.377,58.2882,61.5883,66.7784, 69.3166,73.0197,75.4831,77.6235,78.796, 79.4691,78.1973,75.785,72.9538,71.0946, 68.8835,66.406,63.6201,60.4416,56.7296, 54.5814,52.1574,49.3251,45.9328,41.4385 ,37.2292,33.4193,33.7559,34.5431, 33.8569,33.6976,33.3774,33.9828,33.4746 ,34.0653,32.2866,36.7832,39.7545, 43.6835,47.3936,50.3143,52.7806,54.9356 ,58.6227,61.721,64.4022,66.7509,68.6978 ,71.3418,72.8029,75.3767,76.1661, 75.9028,74.7581,72.9045,70.8859,66.9239 ,64.1514,61.005,58.7945,55.2922,52.9272 ,49.5789,47.1505,43.4258,39.9243,36.535 ,33.7006,30.2756,26.0135,22.322,19.6905 ,15.9977,12.0366,8.78259,5.83074, 5.58232,5.68292,4.4635,4.0319,4.16476)
FOOTPRINT_POINT_LONGITUDE = (44.0834,41.6434,38.6486,34.602,32.5614 ,29.7085,29.9459,30.2234,30.303,30.3869 ,30.4039,30.3868,30.3136,30.0284, 29.4956,29.1436,28.4211,27.7823,27.0269 ,25.6385,24.2669,22.2634,17.614,14.2565 ,6.96472,359.106,347.63,336.162,317.336 ,290.161,275.192,265.896,261.799, 258.097,254.95,252.253,249.916,247.867, 246.927,246.031,245.167,244.328,243.475 ,242.937,242.28,238.534,235.503,227.714 ,220.974,218.304,212.859,209.177, 205.677,203.864,202.441,201.815,200.797 ,199.582,198.408,197.227,196.018,193.46 ,190.649,187.51,183.974,180.23,173.234, 167.784,150.931,135.74,120.748,107.713, 97.0151,89.727,80.79,76.6912,73.2419, 71.3425,68.957,67.675,66.1954,65.3198, 64.2279,63.4228,62.8094,62.4014,62.0185 ,61.6737,61.4844,61.4068,61.3607, 61.3993,61.4966,61.3495,57.4738,54.4533 ,50.1043,47.3769,44.0834)
ORBIT_NUMBER = 16957
ORBITAL_ECCENTRICITY = 0.578
ORBITAL_INCLINATION = 86.96
ORBITAL_SEMIMAJOR_AXIS = 8781.89
PERIAPSIS_ALTITUDE = 327.21
PERIAPSIS_ARGUMENT_ANGLE = 296.56
PERIAPSIS_TIME = 2017-05-23T06:03:26.000Z
SPACECRAFT_ORIENTATION = (-1e+32,-1e+32,-1e+32)
^MEX_ORIENTATION_DESC = "MEX_ORIENTATION_DESC.TXT"
SPACECRAFT_POINTING_MODE = INERT
^MEX_POINTING_DESC = "MEX_POINTING_DESC.TXT"
RIGHT_ASCENSION = 136.418
DECLINATION = -37.147
OFFSET_ANGLE = -1e+32
SPACECRAFT_SOLAR_DISTANCE = 2.36182e+08
TARGET_NAME = MARS
/* CAMERA DATA ELEMENTS */
DETECTOR_TEMPERATURE = 18.9822
FOCAL_PLANE_TEMPERATURE = 7.9716
INST_CMPRS_NAME = "DISCRETE COSINE TRANSFORMATION (DCT)"
INST_CMPRS_RATIO = 17.7045
INST_CMPRS_QUALITY = 0
INST_CMPRS_QUANTZ_TBL_ID = 0
INSTRUMENT_TEMPERATURE = 11.234
LENS_TEMPERATURE = 8.5833
MACROPIXEL_SIZE = 4
MISSING_FRAMES = 0
PIXEL_SUBSAMPLING_FLAG = N
SIGNAL_CHAIN_ID = 3
/* RADIOMETRIC DATA ELEMENTS */
BANDWIDTH = 178.0
CENTER_FILTER_WAVELENGTH = 679.0
RADIANCE_OFFSET = 0.0
RADIANCE_SCALING_FACTOR = 0.0320716
REFLECTANCE_SCALING_FACTOR = 0.000947511
MEX:REFLECTANCE_OFFSET = 0.0
/* IMAGE OBJECT DEFINITIONS */
OBJECT = IMAGE
  INTERCHANGE_FORMAT = BINARY
  LINES = 10495
  LINE_SAMPLES = 10195
  SAMPLE_TYPE = UNSIGNED_INTEGER
  SAMPLE_BITS = 8
  BANDS = 1
  BAND_STORAGE_TYPE = BAND_SEQUENTIAL
  MAXIMUM = 255
  MEAN = 138.473
  MINIMUM = 1
  STANDARD_DEVIATION = 111.399
END_OBJECT = IMAGE
/* MAP OBJECT DEFINITIONS */
OBJECT = IMAGE_MAP_PROJECTION
  ^DATA_SET_MAP_PROJECTION_CATALOG= "DSMAP.CAT"
  A_AXIS_RADIUS = 3396.0
  B_AXIS_RADIUS = 3396.0
  C_AXIS_RADIUS = 3396.0
  CENTER_LATITUDE = 90.0
  CENTER_LONGITUDE = 0.0
  COORDINATE_SYSTEM_NAME = PLANETOGRAPHIC
  COORDINATE_SYSTEM_TYPE = "BODY-FIXED ROTATING"
  EASTERNMOST_LONGITUDE = 360.0
  FIRST_STANDARD_PARALLEL = "N/A"
  LINE_FIRST_PIXEL = 1
  LINE_LAST_PIXEL = 10495
  LINE_PROJECTION_OFFSET = 4196.875
  MAP_PROJECTION_ROTATION = 0.0
  MAP_PROJECTION_TYPE = STEREOGRAPHIC
  MAP_RESOLUTION = 74.08922548333329
  MAP_SCALE = 0.8
  MAXIMUM_LATITUDE = 90.0
  MINIMUM_LATITUDE = 4.0319
  POSITIVE_LONGITUDE_DIRECTION = EAST
  REFERENCE_LATITUDE = "N/A"
  REFERENCE_LONGITUDE = "N/A"
  SAMPLE_FIRST_PIXEL = 1
  SAMPLE_LAST_PIXEL = 10195
  SAMPLE_PROJECTION_OFFSET = 3835.875
  SECOND_STANDARD_PARALLEL = "N/A"
  WESTERNMOST_LONGITUDE = 0.0
END_OBJECT = IMAGE_MAP_PROJECTION
/* The JPEG2000 image data file associated with this label. */
OBJECT = COMPRESSED_FILE
  FILE_NAME = "HG957_0000_S23.JP2"
  RECORD_TYPE = UNDEFINED
  FILE_RECORDS = UNK
  ENCODING_TYPE = "JP2"
  INTERCHANGE_FORMAT = BINARY
  UNCOMPRESSED_FILE_NAME = "HG957_0000_S23.IMG"
  REQUIRED_STORAGE_BYTES = "107027110"
  ^DESCRIPTION = "JP2INFO.TXT"
END_OBJECT = COMPRESSED_FILE
END
