PDS_VERSION_ID = PDS3
/* FILE DATA ELEMENTS */
RECORD_TYPE = STREAM
/* POINTERS TO DATA OBJECTS */
^COMPRESSED_FILE = "HG859_0001_SR3.JP2"
/* IDENTIFICATION DATA ELEMENTS */
DATA_SET_ID = "MEX-M-HRSC-5-REFDR-MAPPROJECTED-V3.0"
DATA_SET_NAME = "MARS EXPRESS HRSC MAP PROJECTED REFDR V3.0"
DETECTOR_ID = MEX_HRSC_SRC
EVENT_TYPE = "MARS-LOCAL-CARTOGRAPHY-Im-Tc-Ts"
INSTRUMENT_HOST_ID = MEX
INSTRUMENT_HOST_NAME = "MARS EXPRESS"
INSTRUMENT_ID = HRSC
INSTRUMENT_NAME = "HIGH RESOLUTION STEREO CAMERA"
MISSION_NAME = "MARS EXPRESS"
MISSION_PHASE_NAME = ME_Phase_36
PROCESSING_LEVEL_ID = 3
PRODUCT_CREATION_TIME = 2018-06-28T11:48:36.000Z
PRODUCT_ID = "HG859_0001_SR3.JP2"
RELEASE_ID = 0138
REVISION_ID = 0000
/* QUALITY DATA ELEMENTS */
DATA_QUALITY_ID = 1
DATA_QUALITY_DESC = "Data calculated based on original SPICE kernels"
/* TIME DATA ELEMENTS */
SPACECRAFT_CLOCK_START_COUNT = "1/0441132113.07307"
SPACECRAFT_CLOCK_STOP_COUNT = "1/0441132314.38072"
IMAGE_TIME = 2017-04-24T16:43:26.027Z
START_TIME = 2017-04-24T16:43:25.769Z
STOP_TIME = 2017-04-24T16:43:26.285Z
/* ORBITAL DATA ELEMENTS */
ASCENDING_NODE_LONGITUDE = 257.29
MAXIMUM_RESOLUTION = 6.381
FOOTPRINT_POINT_LATITUDE = (-5.4086,-5.4031,-5.34836,-5.30051, -5.30049,-5.30046,-5.30044,-5.30042, -5.3004,-5.30038,-5.30036,-5.30034, -5.30032,-5.3003,-5.30028,-5.30024, -5.30019,-5.30015,-5.30011,-5.30007, -5.30136,-5.3034,-5.30534,-5.30663, -5.309,-5.31094,-5.31342,-5.31471, -5.3159,-5.31783,-5.32042,-5.32214, -5.32408,-5.32645,-5.32807,-5.32925, -5.33119,-5.33356,-5.33528,-5.33679, -5.33884,-5.34034,-5.34282,-5.34476, -5.34648,-5.34767,-5.34939,-5.35198, -5.35413,-5.35564,-5.35693,-5.35962, -5.36135,-5.36264,-5.36404,-5.36533, -5.36673,-5.36835,-5.36975,-5.37104, -5.37233,-5.37373,-5.37492,-5.37686, -5.37869,-5.38073,-5.38213,-5.38418, -5.38558,-5.38763,-5.38924,-5.39183, -5.39323,-5.39463,-5.39689,-5.39861, -5.40033,-5.40163,-5.40335,-5.40475, -5.40593,-5.40712,-5.40841,-5.40846, -5.4085,-5.40855,-5.40859,-5.40863, -5.40868,-5.4087,-5.40872,-5.40874, -5.40876,-5.40878,-5.40881,-5.40883, -5.40885,-5.40887,-5.40889,-5.4086)
FOOTPRINT_POINT_LONGITUDE = (0.0186111,0.0186106,0.0186078, 0.0187379,0.0198255,0.0209131,0.0220007 ,0.0230883,0.0241759,0.0252634, 0.0263509,0.0274384,0.0285258,0.0296133 ,0.0307007,0.0328754,0.0350501, 0.0372247,0.0393992,0.0415735,0.0419257 ,0.0419668,0.0420057,0.0420317, 0.0420793,0.0421182,0.0421679,0.0421938 ,0.0422176,0.0422565,0.0423084,0.042343 ,0.0423818,0.0424293,0.0424617, 0.0424855,0.0425243,0.0425718,0.0426064 ,0.0426366,0.0426776,0.0427077, 0.0427574,0.0427962,0.0428307,0.0428544 ,0.0428889,0.0429406,0.0429837, 0.0430138,0.0430397,0.0430935,0.043128, 0.0431538,0.0431818,0.0432076,0.0432356 ,0.0432679,0.0432958,0.0433217, 0.0433475,0.0433754,0.0433991,0.0434378 ,0.0434743,0.0435152,0.0435431,0.043584 ,0.0436119,0.0436527,0.0436849, 0.0437365,0.0437644,0.0437923,0.0438374 ,0.0438717,0.043906,0.0439318,0.0439661 ,0.043994,0.0440176,0.0440412,0.0439582 ,0.0417835,0.0396088,0.0374339, 0.0352589,0.0330839,0.0309088,0.0298212 ,0.0287335,0.0276459,0.0265582, 0.0254705,0.0243828,0.023295,0.0222073, 0.0211195,0.0200317,0.0186111)
ORBIT_NUMBER = 16859
ORBITAL_ECCENTRICITY = 0.578
ORBITAL_INCLINATION = 86.95
ORBITAL_SEMIMAJOR_AXIS = 8806.87
PERIAPSIS_ALTITUDE = 328.54
PERIAPSIS_ARGUMENT_ANGLE = 313.22
PERIAPSIS_TIME = 2017-04-24T16:32:14.000Z
SPACECRAFT_ORIENTATION = (0.0,1.0,0.0)
^MEX_ORIENTATION_DESC = "MEX_ORIENTATION_DESC.TXT"
SPACECRAFT_POINTING_MODE = ACROSSTRACK
^MEX_POINTING_DESC = "MEX_POINTING_DESC.TXT"
RIGHT_ASCENSION = -1e+32
DECLINATION = -1e+32
OFFSET_ANGLE = 1.04
SPACECRAFT_SOLAR_DISTANCE = 2.3096e+08
TARGET_NAME = MARS
/* CAMERA DATA ELEMENTS */
BUFFER_MODE_ID = BUFFER_8
EXPOSURE_DURATION = 516.096
INST_CMPRS_NAME = NONE
INST_CMPRS_RATIO = 1.0
INST_CMPRS_QUALITY = -2147483648
INST_CMPRS_QUANTZ_TBL_ID = -2147483648
INSTRUMENT_TEMPERATURE = 7.46856
MISSING_FRAMES = 0
START_BIT = 0
/* RADIOMETRIC DATA ELEMENTS */
BANDWIDTH = 250.0
CENTER_FILTER_WAVELENGTH = 600.0
RADIANCE_OFFSET = -9.99e+31
RADIANCE_SCALING_FACTOR = -9.99e+31
REFLECTANCE_SCALING_FACTOR = -9.99e+31
MEX:REFLECTANCE_OFFSET = -9.99e+31
/* IMAGE OBJECT DEFINITIONS */
OBJECT = IMAGE
  INTERCHANGE_FORMAT = BINARY
  LINES = 1351
  LINE_SAMPLES = 1373
  SAMPLE_TYPE = UNSIGNED_INTEGER
  SAMPLE_BITS = 8
  BANDS = 1
  BAND_STORAGE_TYPE = BAND_SEQUENTIAL
  MAXIMUM = 255
  MEAN = 253.662
  MINIMUM = 1
  STANDARD_DEVIATION = 17.8622
END_OBJECT = IMAGE
/* MAP OBJECT DEFINITIONS */
OBJECT = IMAGE_MAP_PROJECTION
  ^DATA_SET_MAP_PROJECTION_CATALOG= "DSMAP.CAT"
  A_AXIS_RADIUS = 3396.19
  B_AXIS_RADIUS = 3396.19
  C_AXIS_RADIUS = 3396.19
  CENTER_LATITUDE = 0.0
  CENTER_LONGITUDE = 0.0
  COORDINATE_SYSTEM_NAME = PLANETOGRAPHIC
  COORDINATE_SYSTEM_TYPE = "BODY-FIXED ROTATING"
  EASTERNMOST_LONGITUDE = 0.044041
  FIRST_STANDARD_PARALLEL = "N/A"
  LINE_FIRST_PIXEL = 1
  LINE_LAST_PIXEL = 1351
  LINE_PROJECTION_OFFSET = -62811.0
  MAP_PROJECTION_ROTATION = 0.0
  MAP_PROJECTION_TYPE = SINUSOIDAL
  MAP_RESOLUTION = 11854.9393024378
  MAP_SCALE = 0.005
  MAXIMUM_LATITUDE = -5.30007
  MINIMUM_LATITUDE = -5.40889
  POSITIVE_LONGITUDE_DIRECTION = EAST
  REFERENCE_LATITUDE = "N/A"
  REFERENCE_LONGITUDE = "N/A"
  SAMPLE_FIRST_PIXEL = 1
  SAMPLE_LAST_PIXEL = 1373
  SAMPLE_PROJECTION_OFFSET = 831.0
  SECOND_STANDARD_PARALLEL = "N/A"
  WESTERNMOST_LONGITUDE = 0.018608
END_OBJECT = IMAGE_MAP_PROJECTION
/* The JPEG2000 image data file associated with this label. */
OBJECT = COMPRESSED_FILE
  FILE_NAME = "HG859_0001_SR3.JP2"
  RECORD_TYPE = UNDEFINED
  FILE_RECORDS = UNK
  ENCODING_TYPE = "JP2"
  INTERCHANGE_FORMAT = BINARY
  UNCOMPRESSED_FILE_NAME = "HG859_0001_SR3.IMG"
  REQUIRED_STORAGE_BYTES = "1875518"
  ^DESCRIPTION = "JP2INFO.TXT"
END_OBJECT = COMPRESSED_FILE
END
