PDS_VERSION_ID = PDS3
/* FILE DATA ELEMENTS */
RECORD_TYPE = STREAM
/* POINTERS TO DATA OBJECTS */
^COMPRESSED_FILE = "HE701_0000_IR3.JP2"
/* IDENTIFICATION DATA ELEMENTS */
DATA_SET_ID = "MEX-M-HRSC-5-REFDR-MAPPROJECTED-V3.0"
DATA_SET_NAME = "MARS EXPRESS HRSC MAP PROJECTED REFDR V3.0"
DETECTOR_ID = MEX_HRSC_IR
EVENT_TYPE = "MARS-REGIONAL-MAPPING-Im-Gl-Pf"
INSTRUMENT_HOST_ID = MEX
INSTRUMENT_HOST_NAME = "MARS EXPRESS"
INSTRUMENT_ID = HRSC
INSTRUMENT_NAME = "HIGH RESOLUTION STEREO CAMERA"
MISSION_NAME = "MARS EXPRESS"
MISSION_PHASE_NAME = ME_Phase_33
PROCESSING_LEVEL_ID = 3
PRODUCT_CREATION_TIME = 2016-10-30T02:40:36.000Z
PRODUCT_ID = "HE701_0000_IR3.JP2"
RELEASE_ID = 0129
REVISION_ID = 0000
/* QUALITY DATA ELEMENTS */
DATA_QUALITY_ID = 1
DATA_QUALITY_DESC = "Data calculated based on original SPICE kernels"
/* TIME DATA ELEMENTS */
SPACECRAFT_CLOCK_START_COUNT = "1/0386791554.09073"
SPACECRAFT_CLOCK_STOP_COUNT = "1/0386791765.14984"
START_TIME = 2015-08-04T18:06:56.577Z
STOP_TIME = 2015-08-04T18:09:24.221Z
/* ORBITAL DATA ELEMENTS */
ASCENDING_NODE_LONGITUDE = 297.62
MAXIMUM_RESOLUTION = 111.7
FOOTPRINT_POINT_LATITUDE = (-42.3555,-42.3521,-42.3453,-42.3399, -42.335,-42.2064,-41.9175,-41.6279, -41.3396,-41.1472,-40.8596,-40.668, -40.4768,-40.2829,-40.0906,-39.8981, -39.7055,-39.514,-39.3227,-39.0364, -38.7475,-38.5548,-38.3654,-38.1739, -37.9811,-37.7901,-37.5977,-37.4062, -37.2139,-37.0208,-36.8262,-36.6361, -36.3485,-36.1563,-35.8718,-35.6797, -35.4865,-35.2959,-35.1053,-34.9136, -34.7198,-34.5285,-34.3342,-34.0486, -33.8585,-33.5727,-33.3812,-33.1918, -33.0011,-32.7162,-32.7081,-32.7142, -32.7195,-32.8198,-33.0074,-33.1969, -33.4832,-33.6748,-33.8698,-34.0621, -34.3496,-34.5392,-34.7279,-34.9142, -35.1092,-35.4037,-35.5962,-35.7872, -35.9818,-36.1737,-36.3647,-36.5559, -36.7453,-36.9374,-37.2242,-37.4155, -37.6077,-37.7992,-37.9918,-38.2816, -38.4746,-38.7634,-38.9564,-39.1485, -39.34,-39.5313,-39.7237,-39.9164, -40.1088,-40.3017,-40.4935,-40.686, -40.975,-41.1676,-41.4562,-41.6487, -41.8408,-42.0343,-42.2274,-42.3555)
FOOTPRINT_POINT_LONGITUDE = (50.2657,50.0483,49.6568,49.3816, 49.1498,48.8384,48.854,48.8697,48.8843, 48.8939,48.9076,48.9165,48.925,48.9348, 48.9436,48.9523,48.961,48.969,48.9768, 48.9879,49.0001,49.008,49.0143,49.0214, 49.0291,49.0358,49.0431,49.0498,49.0568 ,49.0641,49.072,49.0776,49.0871,49.0935 ,49.1011,49.1072,49.1138,49.119,49.1242 ,49.1298,49.1363,49.1416,49.1482, 49.1551,49.1595,49.1663,49.1712,49.1751 ,49.1795,49.1854,49.5326,49.8825, 50.2858,50.5676,50.5648,50.5629,50.5607 ,50.5594,50.5596,50.5586,50.5565, 50.5541,50.5512,50.5472,50.5469,50.5474 ,50.5459,50.5437,50.543,50.5411,50.5387 ,50.5363,50.5331,50.531,50.5271,50.5245 ,50.5222,50.5195,50.5173,50.5142, 50.5121,50.5083,50.506,50.5031,50.5, 50.4966,50.4938,50.4909,50.4879,50.4851 ,50.4817,50.4785,50.4738,50.4706, 50.4654,50.462,50.4583,50.4551,50.4518, 50.2657)
ORBIT_NUMBER = 14701
ORBITAL_ECCENTRICITY = 0.578
ORBITAL_INCLINATION = 86.91
ORBITAL_SEMIMAJOR_AXIS = 8825.25
PERIAPSIS_ALTITUDE = 331.18
PERIAPSIS_ARGUMENT_ANGLE = 323.96
PERIAPSIS_TIME = 2015-08-04T18:08:10.000Z
SPACECRAFT_ORIENTATION = (0.0,1.0,0.0)
^MEX_ORIENTATION_DESC = "MEX_ORIENTATION_DESC.TXT"
SPACECRAFT_POINTING_MODE = NADIR
^MEX_POINTING_DESC = "MEX_POINTING_DESC.TXT"
RIGHT_ASCENSION = -1e+32
DECLINATION = -1e+32
OFFSET_ANGLE = -1e+32
SPACECRAFT_SOLAR_DISTANCE = 2.40931e+08
TARGET_NAME = MARS
/* CAMERA DATA ELEMENTS */
DETECTOR_TEMPERATURE = 17.5549
FOCAL_PLANE_TEMPERATURE = 7.5638
INST_CMPRS_NAME = "DISCRETE COSINE TRANSFORMATION (DCT)"
INST_CMPRS_RATIO = 25.7376
INST_CMPRS_QUALITY = 0
INST_CMPRS_QUANTZ_TBL_ID = 0
INSTRUMENT_TEMPERATURE = 11.234
LENS_TEMPERATURE = 8.3794
MACROPIXEL_SIZE = 8
MISSING_FRAMES = 0
PIXEL_SUBSAMPLING_FLAG = N
SIGNAL_CHAIN_ID = 2
/* RADIOMETRIC DATA ELEMENTS */
BANDWIDTH = 81.0
CENTER_FILTER_WAVELENGTH = 955.5
RADIANCE_OFFSET = 0.443571
RADIANCE_SCALING_FACTOR = 0.00245576
REFLECTANCE_SCALING_FACTOR = 0.000307539
MEX:REFLECTANCE_OFFSET = 0.0555492
/* IMAGE OBJECT DEFINITIONS */
OBJECT = IMAGE
  INTERCHANGE_FORMAT = BINARY
  LINES = 5751
  LINE_SAMPLES = 817
  SAMPLE_TYPE = UNSIGNED_INTEGER
  SAMPLE_BITS = 8
  BANDS = 1
  BAND_STORAGE_TYPE = BAND_SEQUENTIAL
  MAXIMUM = 255
  MEAN = 146.958
  MINIMUM = 1
  STANDARD_DEVIATION = 37.233
END_OBJECT = IMAGE
/* MAP OBJECT DEFINITIONS */
OBJECT = IMAGE_MAP_PROJECTION
  ^DATA_SET_MAP_PROJECTION_CATALOG= "DSMAP.CAT"
  A_AXIS_RADIUS = 3396.0
  B_AXIS_RADIUS = 3396.0
  C_AXIS_RADIUS = 3396.0
  CENTER_LATITUDE = 0.0
  CENTER_LONGITUDE = 50.0
  COORDINATE_SYSTEM_NAME = PLANETOGRAPHIC
  COORDINATE_SYSTEM_TYPE = "BODY-FIXED ROTATING"
  EASTERNMOST_LONGITUDE = 50.5676
  FIRST_STANDARD_PARALLEL = "N/A"
  LINE_FIRST_PIXEL = 1
  LINE_LAST_PIXEL = 5751
  LINE_PROJECTION_OFFSET = -19381.4375
  MAP_PROJECTION_ROTATION = 0.0
  MAP_PROJECTION_TYPE = SINUSOIDAL
  MAP_RESOLUTION = 592.713803866667
  MAP_SCALE = 0.1
  MAXIMUM_LATITUDE = -32.7081
  MINIMUM_LATITUDE = -42.3555
  POSITIVE_LONGITUDE_DIRECTION = EAST
  REFERENCE_LATITUDE = "N/A"
  REFERENCE_LONGITUDE = "N/A"
  SAMPLE_FIRST_PIXEL = 1
  SAMPLE_LAST_PIXEL = 817
  SAMPLE_PROJECTION_OFFSET = 524.1875
  SECOND_STANDARD_PARALLEL = "N/A"
  WESTERNMOST_LONGITUDE = 48.8384
END_OBJECT = IMAGE_MAP_PROJECTION
/* The JPEG2000 image data file associated with this label. */
OBJECT = COMPRESSED_FILE
  FILE_NAME = "HE701_0000_IR3.JP2"
  RECORD_TYPE = UNDEFINED
  FILE_RECORDS = UNK
  ENCODING_TYPE = "JP2"
  INTERCHANGE_FORMAT = BINARY
  UNCOMPRESSED_FILE_NAME = "HE701_0000_IR3.IMG"
  REQUIRED_STORAGE_BYTES = "4716541"
  ^DESCRIPTION = "JP2INFO.TXT"
END_OBJECT = COMPRESSED_FILE
END
