PDS_VERSION_ID = PDS3
/* FILE DATA ELEMENTS */
RECORD_TYPE = STREAM
/* POINTERS TO DATA OBJECTS */
^COMPRESSED_FILE = "HA409_0000_IR3.JP2"
/* IDENTIFICATION DATA ELEMENTS */
DATA_SET_ID = "MEX-M-HRSC-5-REFDR-MAPPROJECTED-V3.0"
DATA_SET_NAME = "MARS EXPRESS HRSC MAP PROJECTED REFDR V3.0"
DETECTOR_ID = MEX_HRSC_IR
EVENT_TYPE = "MARS-REGIONAL-MAPPING-Vo"
INSTRUMENT_HOST_ID = MEX
INSTRUMENT_HOST_NAME = "MARS EXPRESS"
INSTRUMENT_ID = HRSC
INSTRUMENT_NAME = "HIGH RESOLUTION STEREO CAMERA"
MISSION_NAME = "MARS EXPRESS"
MISSION_PHASE_NAME = ME_Phase_25
PROCESSING_LEVEL_ID = 3
PRODUCT_CREATION_TIME = 2016-10-27T12:16:28.000Z
PRODUCT_ID = "HA409_0000_IR3.JP2"
RELEASE_ID = 0107
REVISION_ID = 0000
/* QUALITY DATA ELEMENTS */
DATA_QUALITY_ID = 1
DATA_QUALITY_DESC = "Data calculated based on original SPICE kernels"
/* TIME DATA ELEMENTS */
SPACECRAFT_CLOCK_START_COUNT = "1/0278791518.09043"
SPACECRAFT_CLOCK_STOP_COUNT = "1/0278791821.42232"
START_TIME = 2012-03-02T18:06:23.429Z
STOP_TIME = 2012-03-02T18:10:13.930Z
/* ORBITAL DATA ELEMENTS */
ASCENDING_NODE_LONGITUDE = 18.6
MAXIMUM_RESOLUTION = 63.1
FOOTPRINT_POINT_LATITUDE = (-5.99806,-6.01073,-6.02596,-5.75791, -5.37381,-5.12012,-4.85605,-4.57544, -4.31619,-4.06004,-3.80468,-3.42199, -3.16726,-2.91288,-2.53244,-2.2788, -2.0256,-1.7665,-1.37799,-1.11966, -0.861646,-0.597813,-0.333997, -0.0703313,0.192786,0.460901,0.729708, 0.998059,1.2657,1.53928,1.94925,2.22238 ,2.50141,2.77973,3.05736,3.33897,3.6217 ,3.90341,4.18875,4.47556,4.76168, 5.05141,5.34217,5.77976,6.07503,6.36935 ,6.66911,7.11786,7.57411,7.5997,7.61284 ,7.62218,7.62969,7.48373,7.17803, 6.87847,6.42883,6.1347,5.8393,5.54604, 5.10976,4.81893,4.53285,4.24557,3.9598, 3.6773,3.39443,3.11294,2.69616,2.41802, 2.00615,1.73306,1.45932,1.05447, 0.786189,0.517263,0.248636,-0.0148159, -0.278627,-0.542837,-0.806901,-1.06532, -1.32401,-1.71284,-1.97242,-2.2258, -2.47965,-2.7335,-2.98783,-3.24244, -3.49775,-3.75341,-4.00991,-4.2672, -4.53207,-5.04856,-5.44344,-5.71512, -5.97542,-5.99806)
FOOTPRINT_POINT_LONGITUDE = (268.021,267.62,267.059,267.06,267.051, 267.043,267.042,267.052,267.048,267.042 ,267.036,267.027,267.022,267.016, 267.006,267.0,266.994,266.988,266.978, 266.971,266.965,266.958,266.951,266.944 ,266.937,266.929,266.922,266.915, 266.907,266.899,266.887,266.879,266.871 ,266.863,266.854,266.846,266.837, 266.827,266.818,266.808,266.798,266.788 ,266.777,266.761,266.75,266.739,266.727 ,266.71,266.692,267.099,267.539,267.875 ,268.177,268.497,268.493,268.49,268.484 ,268.48,268.477,268.474,268.469,268.466 ,268.463,268.46,268.458,268.455,268.453 ,268.45,268.447,268.445,268.442,268.439 ,268.438,268.435,268.433,268.431, 268.429,268.428,268.426,268.425,268.423 ,268.422,268.42,268.418,268.417,268.416 ,268.415,268.413,268.412,268.411,268.41 ,268.409,268.408,268.407,268.407, 268.405,268.405,268.406,268.405, 268.021)
ORBIT_NUMBER = 10409
ORBITAL_ECCENTRICITY = 0.579
ORBITAL_INCLINATION = 86.87
ORBITAL_SEMIMAJOR_AXIS = 8857.76
PERIAPSIS_ALTITUDE = 337.7
PERIAPSIS_ARGUMENT_ANGLE = 341.12
PERIAPSIS_TIME = 2012-03-02T18:02:37.000Z
SPACECRAFT_ORIENTATION = (0.0,1.0,0.0)
^MEX_ORIENTATION_DESC = "MEX_ORIENTATION_DESC.TXT"
SPACECRAFT_POINTING_MODE = ACROSSTRACK
^MEX_POINTING_DESC = "MEX_POINTING_DESC.TXT"
RIGHT_ASCENSION = -1e+32
DECLINATION = -1e+32
OFFSET_ANGLE = 0.5
SPACECRAFT_SOLAR_DISTANCE = 2.4904e+08
TARGET_NAME = MARS
/* CAMERA DATA ELEMENTS */
DETECTOR_TEMPERATURE = 17.9627
FOCAL_PLANE_TEMPERATURE = 9.6028
INST_CMPRS_NAME = "DISCRETE COSINE TRANSFORMATION (DCT)"
INST_CMPRS_RATIO = 10.7425
INST_CMPRS_QUALITY = 0
INST_CMPRS_QUANTZ_TBL_ID = 0
INSTRUMENT_TEMPERATURE = 12.4574
LENS_TEMPERATURE = 10.2145
MACROPIXEL_SIZE = 4
MISSING_FRAMES = 0
PIXEL_SUBSAMPLING_FLAG = N
SIGNAL_CHAIN_ID = 2
/* RADIOMETRIC DATA ELEMENTS */
BANDWIDTH = 81.0
CENTER_FILTER_WAVELENGTH = 955.5
RADIANCE_OFFSET = 0.125193
RADIANCE_SCALING_FACTOR = 0.00369658
REFLECTANCE_SCALING_FACTOR = 0.000494614
MEX:REFLECTANCE_OFFSET = 0.0167512
/* IMAGE OBJECT DEFINITIONS */
OBJECT = IMAGE
  INTERCHANGE_FORMAT = BINARY
  LINES = 16153
  LINE_SAMPLES = 2114
  SAMPLE_TYPE = UNSIGNED_INTEGER
  SAMPLE_BITS = 8
  BANDS = 1
  BAND_STORAGE_TYPE = BAND_SEQUENTIAL
  MAXIMUM = 255
  MEAN = 116.53
  MINIMUM = 1
  STANDARD_DEVIATION = 34.0441
END_OBJECT = IMAGE
/* MAP OBJECT DEFINITIONS */
OBJECT = IMAGE_MAP_PROJECTION
  ^DATA_SET_MAP_PROJECTION_CATALOG= "DSMAP.CAT"
  A_AXIS_RADIUS = 3396.0
  B_AXIS_RADIUS = 3396.0
  C_AXIS_RADIUS = 3396.0
  CENTER_LATITUDE = 0.0
  CENTER_LONGITUDE = 268.0
  COORDINATE_SYSTEM_NAME = PLANETOGRAPHIC
  COORDINATE_SYSTEM_TYPE = "BODY-FIXED ROTATING"
  EASTERNMOST_LONGITUDE = 268.497
  FIRST_STANDARD_PARALLEL = "N/A"
  LINE_FIRST_PIXEL = 1
  LINE_LAST_PIXEL = 16153
  LINE_PROJECTION_OFFSET = 9016.125
  MAP_PROJECTION_ROTATION = 0.0
  MAP_PROJECTION_TYPE = SINUSOIDAL
  MAP_RESOLUTION = 1185.42760773333
  MAP_SCALE = 0.05
  MAXIMUM_LATITUDE = 7.62969
  MINIMUM_LATITUDE = -6.02596
  POSITIVE_LONGITUDE_DIRECTION = EAST
  REFERENCE_LATITUDE = "N/A"
  REFERENCE_LONGITUDE = "N/A"
  SAMPLE_FIRST_PIXEL = 1
  SAMPLE_LAST_PIXEL = 2114
  SAMPLE_PROJECTION_OFFSET = 1566.875
  SECOND_STANDARD_PARALLEL = "N/A"
  WESTERNMOST_LONGITUDE = 266.692
END_OBJECT = IMAGE_MAP_PROJECTION
/* The JPEG2000 image data file associated with this label. */
OBJECT = COMPRESSED_FILE
  FILE_NAME = "HA409_0000_IR3.JP2"
  RECORD_TYPE = UNDEFINED
  FILE_RECORDS = UNK
  ENCODING_TYPE = "JP2"
  INTERCHANGE_FORMAT = BINARY
  UNCOMPRESSED_FILE_NAME = "HA409_0000_IR3.IMG"
  REQUIRED_STORAGE_BYTES = "34168582"
  ^DESCRIPTION = "JP2INFO.TXT"
END_OBJECT = COMPRESSED_FILE
END
