PDS_VERSION_ID = PDS3
/* FILE DATA ELEMENTS */
RECORD_TYPE = STREAM
/* POINTERS TO DATA OBJECTS */
^COMPRESSED_FILE = "H7324_0000_RE3.JP2"
/* IDENTIFICATION DATA ELEMENTS */
DATA_SET_ID = "MEX-M-HRSC-5-REFDR-MAPPROJECTED-V3.0"
DATA_SET_NAME = "MARS EXPRESS HRSC MAP PROJECTED REFDR V3.0"
DETECTOR_ID = MEX_HRSC_RED
EVENT_TYPE = "MARS-REGIONAL-MAPPING-Vo-Pf"
INSTRUMENT_HOST_ID = MEX
INSTRUMENT_HOST_NAME = "MARS EXPRESS"
INSTRUMENT_ID = HRSC
INSTRUMENT_NAME = "HIGH RESOLUTION STEREO CAMERA"
MISSION_NAME = "MARS EXPRESS"
MISSION_PHASE_NAME = ME_Phase_18
PROCESSING_LEVEL_ID = 3
PRODUCT_CREATION_TIME = 2016-06-30T16:05:12.000Z
PRODUCT_ID = "H7324_0000_RE3.JP2"
RELEASE_ID = 0081
REVISION_ID = 0000
/* QUALITY DATA ELEMENTS */
DATA_QUALITY_ID = 1
DATA_QUALITY_DESC = "Data calculated based on original SPICE kernels"
/* TIME DATA ELEMENTS */
SPACECRAFT_CLOCK_START_COUNT = "1/0201316876.08226"
SPACECRAFT_CLOCK_STOP_COUNT = "1/0201317100.65014"
START_TIME = 2009-09-18T01:22:26.192Z
STOP_TIME = 2009-09-18T01:24:56.163Z
/* ORBITAL DATA ELEMENTS */
ASCENDING_NODE_LONGITUDE = 77.71
MAXIMUM_RESOLUTION = 116.4
FOOTPRINT_POINT_LATITUDE = (40.7956,40.7875,40.7798,40.7719, 40.7636,40.7551,40.8021,40.4732,40.1446 ,39.8157,39.5965,39.377,39.1576,38.8284 ,38.6089,38.3895,38.0604,37.8405, 37.6212,37.4296,37.2458,37.0619,36.8782 ,36.6939,36.5101,36.2342,36.0501, 35.8663,35.6826,35.4985,35.3148,35.1308 ,34.8552,34.6713,34.4875,34.3037, 34.0277,33.8441,33.5687,33.2921,33.1072 ,32.9223,32.7356,32.5496,32.365,32.0829 ,31.8937,31.7114,31.5279,31.347,31.1663 ,30.986,30.9633,30.9655,30.9699,30.9747 ,30.9797,30.9852,31.2572,31.4347, 31.6151,31.7997,31.9855,32.1719,32.4548 ,32.7398,32.931,33.1204,33.3088,33.4964 ,33.7747,34.0508,34.2348,34.4189, 34.6028,34.7867,34.9713,35.2475,35.5237 ,35.8,35.9842,36.2605,36.4447,36.6289, 36.9054,37.1816,37.3659,37.5499,37.7559 ,37.9757,38.1955,38.4155,38.7455, 38.9656,39.2953,39.6252,39.9549,40.1747 ,40.5043,40.7956)
FOOTPRINT_POINT_LONGITUDE = (150.332,150.034,149.771,149.51,149.25, 148.992,148.591,148.606,148.622,148.636 ,148.646,148.655,148.665,148.678, 148.687,148.696,148.708,148.717,148.725 ,148.732,148.738,148.745,148.751, 148.757,148.763,148.772,148.778,148.783 ,148.789,148.794,148.8,148.805,148.813, 148.818,148.822,148.827,148.834,148.839 ,148.845,148.852,148.856,148.86,148.865 ,148.869,148.872,148.879,148.883, 148.886,148.889,148.892,148.895,148.898 ,149.069,149.267,149.572,149.799, 149.987,150.204,150.317,150.313,150.311 ,150.313,150.315,150.318,150.325, 150.333,150.34,150.345,150.349,150.353, 150.356,150.357,150.358,150.359,150.359 ,150.36,150.361,150.362,150.363,150.365 ,150.365,150.367,150.367,150.368, 150.369,150.37,150.371,150.372,150.373, 150.374,150.374,150.375,150.377,150.378 ,150.379,150.381,150.382,150.383, 150.384,150.332)
ORBIT_NUMBER = 7324
ORBITAL_ECCENTRICITY = 0.573
ORBITAL_INCLINATION = 86.8
ORBITAL_SEMIMAJOR_AXIS = 8755.22
PERIAPSIS_ALTITUDE = 346.08
PERIAPSIS_ARGUMENT_ANGLE = 153.51
PERIAPSIS_TIME = 2009-09-18T01:25:39.000Z
SPACECRAFT_ORIENTATION = (0.0,-1.0,0.0)
^MEX_ORIENTATION_DESC = "MEX_ORIENTATION_DESC.TXT"
SPACECRAFT_POINTING_MODE = ACROSSTRACK
^MEX_POINTING_DESC = "MEX_POINTING_DESC.TXT"
RIGHT_ASCENSION = -1e+32
DECLINATION = -1e+32
OFFSET_ANGLE = 0.5
SPACECRAFT_SOLAR_DISTANCE = 2.25615e+08
TARGET_NAME = MARS
/* CAMERA DATA ELEMENTS */
DETECTOR_TEMPERATURE = 18.7783
FOCAL_PLANE_TEMPERATURE = 8.9911
INST_CMPRS_NAME = "DISCRETE COSINE TRANSFORMATION (DCT)"
INST_CMPRS_RATIO = 7.75477
INST_CMPRS_QUALITY = 0
INST_CMPRS_QUANTZ_TBL_ID = 0
INSTRUMENT_TEMPERATURE = 11.4379
LENS_TEMPERATURE = 8.9911
MACROPIXEL_SIZE = 8
MISSING_FRAMES = 0
PIXEL_SUBSAMPLING_FLAG = N
SIGNAL_CHAIN_ID = 2
/* RADIOMETRIC DATA ELEMENTS */
BANDWIDTH = 48.0
CENTER_FILTER_WAVELENGTH = 748.0
RADIANCE_OFFSET = 1.03738
RADIANCE_SCALING_FACTOR = 0.00610221
REFLECTANCE_SCALING_FACTOR = 0.000708835
MEX:REFLECTANCE_OFFSET = 0.120502
/* IMAGE OBJECT DEFINITIONS */
OBJECT = IMAGE
  INTERCHANGE_FORMAT = BINARY
  LINES = 5836
  LINE_SAMPLES = 854
  SAMPLE_TYPE = UNSIGNED_INTEGER
  SAMPLE_BITS = 8
  BANDS = 1
  BAND_STORAGE_TYPE = BAND_SEQUENTIAL
  MAXIMUM = 255
  MEAN = 92.7458
  MINIMUM = 1
  STANDARD_DEVIATION = 27.3798
END_OBJECT = IMAGE
/* MAP OBJECT DEFINITIONS */
OBJECT = IMAGE_MAP_PROJECTION
  ^DATA_SET_MAP_PROJECTION_CATALOG= "DSMAP.CAT"
  A_AXIS_RADIUS = 3396.0
  B_AXIS_RADIUS = 3396.0
  C_AXIS_RADIUS = 3396.0
  CENTER_LATITUDE = 0.0
  CENTER_LONGITUDE = 150.0
  COORDINATE_SYSTEM_NAME = PLANETOGRAPHIC
  COORDINATE_SYSTEM_TYPE = "BODY-FIXED ROTATING"
  EASTERNMOST_LONGITUDE = 150.384
  FIRST_STANDARD_PARALLEL = "N/A"
  LINE_FIRST_PIXEL = 1
  LINE_LAST_PIXEL = 5836
  LINE_PROJECTION_OFFSET = 24205.0625
  MAP_PROJECTION_ROTATION = 0.0
  MAP_PROJECTION_TYPE = SINUSOIDAL
  MAP_RESOLUTION = 592.713803866667
  MAP_SCALE = 0.1
  MAXIMUM_LATITUDE = 40.8021
  MINIMUM_LATITUDE = 30.9633
  POSITIVE_LONGITUDE_DIRECTION = EAST
  REFERENCE_LATITUDE = "N/A"
  REFERENCE_LONGITUDE = "N/A"
  SAMPLE_FIRST_PIXEL = 1
  SAMPLE_LAST_PIXEL = 854
  SAMPLE_PROJECTION_OFFSET = 649.6875
  SECOND_STANDARD_PARALLEL = "N/A"
  WESTERNMOST_LONGITUDE = 148.591
END_OBJECT = IMAGE_MAP_PROJECTION
/* The JPEG2000 image data file associated with this label. */
OBJECT = COMPRESSED_FILE
  FILE_NAME = "H7324_0000_RE3.JP2"
  RECORD_TYPE = UNDEFINED
  FILE_RECORDS = UNK
  ENCODING_TYPE = "JP2"
  INTERCHANGE_FORMAT = BINARY
  UNCOMPRESSED_FILE_NAME = "H7324_0000_RE3.IMG"
  REQUIRED_STORAGE_BYTES = "5001878"
  ^DESCRIPTION = "JP2INFO.TXT"
END_OBJECT = COMPRESSED_FILE
END
