PDS_VERSION_ID = PDS3
/* FILE DATA ELEMENTS */
RECORD_TYPE = STREAM
/* POINTERS TO DATA OBJECTS */
^COMPRESSED_FILE = "H7167_0000_RE3.JP2"
/* IDENTIFICATION DATA ELEMENTS */
DATA_SET_ID = "MEX-M-HRSC-5-REFDR-MAPPROJECTED-V3.0"
DATA_SET_NAME = "MARS EXPRESS HRSC MAP PROJECTED REFDR V3.0"
DETECTOR_ID = MEX_HRSC_RED
EVENT_TYPE = "MARS-REGIONAL-MAPPING-Im-Fl"
INSTRUMENT_HOST_ID = MEX
INSTRUMENT_HOST_NAME = "MARS EXPRESS"
INSTRUMENT_ID = HRSC
INSTRUMENT_NAME = "HIGH RESOLUTION STEREO CAMERA"
MISSION_NAME = "MARS EXPRESS"
MISSION_PHASE_NAME = ME_Phase_18
PROCESSING_LEVEL_ID = 3
PRODUCT_CREATION_TIME = 2016-06-29T18:20:58.000Z
PRODUCT_ID = "H7167_0000_RE3.JP2"
RELEASE_ID = 0079
REVISION_ID = 0000
/* QUALITY DATA ELEMENTS */
DATA_QUALITY_ID = 1
DATA_QUALITY_DESC = "Data calculated based on original SPICE kernels"
/* TIME DATA ELEMENTS */
SPACECRAFT_CLOCK_START_COUNT = "1/0197420273.07289"
SPACECRAFT_CLOCK_STOP_COUNT = "1/0197420492.04272"
START_TIME = 2009-08-03T22:58:54.982Z
STOP_TIME = 2009-08-03T23:01:24.842Z
/* ORBITAL DATA ELEMENTS */
ASCENDING_NODE_LONGITUDE = 80.8
MAXIMUM_RESOLUTION = 61.4
FOOTPRINT_POINT_LATITUDE = (-12.611,-12.6108,-12.6099,-12.6076, -12.6866,-13.0387,-13.2189,-13.4022, -13.6754,-13.8567,-14.1284,-14.3099, -14.4899,-14.6705,-14.8505,-15.0305, -15.2105,-15.4801,-15.6594,-15.8384, -16.0176,-16.1964,-16.3755,-16.6437, -16.8227,-17.0002,-17.1754,-17.3529, -17.6187,-17.796,-17.9731,-18.1519, -18.3305,-18.5119,-18.6924,-18.8724, -19.0525,-19.2326,-19.5052,-19.6893, -19.8735,-20.0571,-20.2403,-20.5173, -20.7047,-20.8917,-21.0785,-21.2661, -21.4541,-21.6685,-21.67,-21.6729, -21.6736,-21.6756,-21.6719,-21.5748, -21.3849,-21.1979,-21.0105,-20.7299, -20.5423,-20.3568,-20.1738,-19.9909, -19.8073,-19.6204,-19.3451,-19.1654, -18.986,-18.8081,-18.6278,-18.4461, -18.2655,-17.9145,-17.6491,-17.4713, -17.2931,-17.1155,-16.9379,-16.7598, -16.5815,-16.3143,-16.1361,-15.9566, -15.6873,-15.5075,-15.3281,-15.1496, -14.97,-14.7896,-14.5183,-14.3373, -14.0659,-13.8851,-13.6129,-13.4313, -13.2495,-12.9769,-12.7129,-12.611)
FOOTPRINT_POINT_LONGITUDE = (140.884,140.639,140.331,139.975, 139.799,139.793,139.789,139.787,139.782 ,139.778,139.773,139.77,139.766,139.763 ,139.759,139.755,139.752,139.746, 139.743,139.739,139.735,139.731,139.728 ,139.722,139.719,139.715,139.71,139.706 ,139.7,139.696,139.693,139.689,139.686, 139.682,139.677,139.673,139.669,139.665 ,139.658,139.654,139.649,139.645,139.64 ,139.634,139.629,139.624,139.619, 139.615,139.61,139.695,139.928,140.208, 140.409,140.734,141.059,141.263,141.259 ,141.254,141.25,141.244,141.24,141.235, 141.231,141.227,141.223,141.22,141.215, 141.211,141.207,141.203,141.199,141.196 ,141.193,141.186,141.181,141.179, 141.176,141.173,141.17,141.167,141.165, 141.161,141.158,141.155,141.152,141.149 ,141.147,141.144,141.142,141.14,141.136 ,141.134,141.131,141.129,141.126, 141.124,141.123,141.12,141.117,140.884)
ORBIT_NUMBER = 7167
ORBITAL_ECCENTRICITY = 0.575
ORBITAL_INCLINATION = 86.78
ORBITAL_SEMIMAJOR_AXIS = 8774.61
PERIAPSIS_ALTITUDE = 329.37
PERIAPSIS_ARGUMENT_ANGLE = 180.96
PERIAPSIS_TIME = 2009-08-03T22:55:27.000Z
SPACECRAFT_ORIENTATION = (0.0,-1.0,0.0)
^MEX_ORIENTATION_DESC = "MEX_ORIENTATION_DESC.TXT"
SPACECRAFT_POINTING_MODE = NADIR
^MEX_POINTING_DESC = "MEX_POINTING_DESC.TXT"
RIGHT_ASCENSION = -1e+32
DECLINATION = -1e+32
OFFSET_ANGLE = -1e+32
SPACECRAFT_SOLAR_DISTANCE = 2.17098e+08
TARGET_NAME = MARS
/* CAMERA DATA ELEMENTS */
DETECTOR_TEMPERATURE = 18.5744
FOCAL_PLANE_TEMPERATURE = 8.3794
INST_CMPRS_NAME = "DISCRETE COSINE TRANSFORMATION (DCT)"
INST_CMPRS_RATIO = 17.758
INST_CMPRS_QUALITY = 0
INST_CMPRS_QUANTZ_TBL_ID = 0
INSTRUMENT_TEMPERATURE = 11.4379
LENS_TEMPERATURE = 8.7872
MACROPIXEL_SIZE = 4
MISSING_FRAMES = 0
PIXEL_SUBSAMPLING_FLAG = N
SIGNAL_CHAIN_ID = 2
/* RADIOMETRIC DATA ELEMENTS */
BANDWIDTH = 48.0
CENTER_FILTER_WAVELENGTH = 748.0
RADIANCE_OFFSET = 0.352529
RADIANCE_SCALING_FACTOR = 0.0031217
REFLECTANCE_SCALING_FACTOR = 0.000335761
MEX:REFLECTANCE_OFFSET = 0.037917
/* IMAGE OBJECT DEFINITIONS */
OBJECT = IMAGE
  INTERCHANGE_FORMAT = BINARY
  LINES = 10743
  LINE_SAMPLES = 1827
  SAMPLE_TYPE = UNSIGNED_INTEGER
  SAMPLE_BITS = 8
  BANDS = 1
  BAND_STORAGE_TYPE = BAND_SEQUENTIAL
  MAXIMUM = 255
  MEAN = 78.124
  MINIMUM = 1
  STANDARD_DEVIATION = 29.7552
END_OBJECT = IMAGE
/* MAP OBJECT DEFINITIONS */
OBJECT = IMAGE_MAP_PROJECTION
  ^DATA_SET_MAP_PROJECTION_CATALOG= "DSMAP.CAT"
  A_AXIS_RADIUS = 3396.0
  B_AXIS_RADIUS = 3396.0
  C_AXIS_RADIUS = 3396.0
  CENTER_LATITUDE = 0.0
  CENTER_LONGITUDE = 140.0
  COORDINATE_SYSTEM_NAME = PLANETOGRAPHIC
  COORDINATE_SYSTEM_TYPE = "BODY-FIXED ROTATING"
  EASTERNMOST_LONGITUDE = 141.263
  FIRST_STANDARD_PARALLEL = "N/A"
  LINE_FIRST_PIXEL = 1
  LINE_LAST_PIXEL = 10743
  LINE_PROJECTION_OFFSET = -14935.625
  MAP_PROJECTION_ROTATION = 0.0
  MAP_PROJECTION_TYPE = SINUSOIDAL
  MAP_RESOLUTION = 1185.42760773333
  MAP_SCALE = 0.05
  MAXIMUM_LATITUDE = -12.6076
  MINIMUM_LATITUDE = -21.6756
  POSITIVE_LONGITUDE_DIRECTION = EAST
  REFERENCE_LATITUDE = "N/A"
  REFERENCE_LONGITUDE = "N/A"
  SAMPLE_FIRST_PIXEL = 1
  SAMPLE_LAST_PIXEL = 1827
  SAMPLE_PROJECTION_OFFSET = 430.875
  SECOND_STANDARD_PARALLEL = "N/A"
  WESTERNMOST_LONGITUDE = 139.61
END_OBJECT = IMAGE_MAP_PROJECTION
/* The JPEG2000 image data file associated with this label. */
OBJECT = COMPRESSED_FILE
  FILE_NAME = "H7167_0000_RE3.JP2"
  RECORD_TYPE = UNDEFINED
  FILE_RECORDS = UNK
  ENCODING_TYPE = "JP2"
  INTERCHANGE_FORMAT = BINARY
  UNCOMPRESSED_FILE_NAME = "H7167_0000_RE3.IMG"
  REQUIRED_STORAGE_BYTES = "19647558"
  ^DESCRIPTION = "JP2INFO.TXT"
END_OBJECT = COMPRESSED_FILE
END
