PDS_VERSION_ID = PDS3
/* FILE DATA ELEMENTS */
RECORD_TYPE = STREAM
/* POINTERS TO DATA OBJECTS */
^COMPRESSED_FILE = "H5782_0000_BL3.JP2"
/* IDENTIFICATION DATA ELEMENTS */
DATA_SET_ID = "MEX-M-HRSC-5-REFDR-MAPPROJECTED-V3.0"
DATA_SET_NAME = "MARS EXPRESS HRSC MAP PROJECTED REFDR V3.0"
DETECTOR_ID = MEX_HRSC_BLUE
EVENT_TYPE = "MARS-LOCAL-MAPPING-Vo-Fl-La"
INSTRUMENT_HOST_ID = MEX
INSTRUMENT_HOST_NAME = "MARS EXPRESS"
INSTRUMENT_ID = HRSC
INSTRUMENT_NAME = "HIGH RESOLUTION STEREO CAMERA"
MISSION_NAME = "MARS EXPRESS"
MISSION_PHASE_NAME = ME_Phase_14
PROCESSING_LEVEL_ID = 3
PRODUCT_CREATION_TIME = 2016-05-15T20:04:19.000Z
PRODUCT_ID = "H5782_0000_BL3.JP2"
RELEASE_ID = 0065
REVISION_ID = 0000
/* QUALITY DATA ELEMENTS */
DATA_QUALITY_ID = 1
DATA_QUALITY_DESC = "Data calculated based on original SPICE kernels"
/* TIME DATA ELEMENTS */
SPACECRAFT_CLOCK_START_COUNT = "1/0163164464.08271"
SPACECRAFT_CLOCK_STOP_COUNT = "1/0163164797.21648"
START_TIME = 2008-07-03T11:28:31.566Z
STOP_TIME = 2008-07-03T11:31:29.992Z
/* ORBITAL DATA ELEMENTS */
ASCENDING_NODE_LONGITUDE = 108.25
MAXIMUM_RESOLUTION = 90.9
FOOTPRINT_POINT_LATITUDE = (84.9038,85.2509,85.5293,85.7316,85.936 ,86.1145,85.663,85.1844,85.0204,84.8534 ,84.6852,84.516,84.3429,84.1688,83.9939 ,83.8165,83.6372,83.3672,83.1843, 83.0002,82.8159,82.6289,82.4409,82.2526 ,82.0618,81.8701,81.6783,81.4836, 81.1909,80.9936,80.7952,80.5969,80.3957 ,80.0936,79.7876,79.5833,79.2735, 79.0664,78.7521,78.5424,78.2241,78.0117 ,77.7968,77.5818,77.3647,77.1471, 76.8177,76.5977,76.5394,76.485,76.4504, 76.3786,76.3367,76.2807,76.2021,76.1102 ,76.0025,76.2154,76.5339,76.7439, 76.9535,77.1606,77.3676,77.6737,77.8772 ,78.1782,78.3783,78.5756,78.8707, 79.1615,79.3547,79.5453,79.7354,80.0163 ,80.2024,80.3868,80.5686,80.75,81.0191, 81.1967,81.3726,81.5451,81.7166,81.8868 ,82.0535,82.2191,82.3831,82.5434, 82.7023,82.9372,83.0897,83.2406,83.3897 ,83.5345,83.6764,83.8178,84.1526, 84.4061,84.6427,84.9038)
FOOTPRINT_POINT_LONGITUDE = (275.248,278.454,281.523,284.122, 287.162,293.188,297.504,301.022,302.054 ,303.028,303.932,304.781,305.593, 306.354,307.069,307.756,308.405,309.314 ,309.882,310.424,310.934,311.423,311.89 ,312.332,312.757,313.164,313.549, 313.921,314.45,314.787,315.109,315.418, 315.717,316.144,316.548,316.804,317.172 ,317.406,317.744,317.958,318.268, 318.466,318.658,318.844,319.024,319.198 ,319.451,319.613,318.622,317.207, 316.405,314.915,314.127,313.147,311.886 ,310.545,309.092,308.835,308.434, 308.157,307.871,307.578,307.274,306.804 ,306.477,305.968,305.613,305.249, 304.679,304.083,303.666,303.241,302.797 ,302.103,301.62,301.117,300.6,300.062, 299.225,298.639,298.027,297.398,296.74, 296.055,295.349,294.611,293.841,293.047 ,292.217,290.903,289.989,289.032,288.03 ,286.998,285.916,284.787,281.759, 279.092,276.213,275.248)
ORBIT_NUMBER = 5782
ORBITAL_ECCENTRICITY = 0.568
ORBITAL_INCLINATION = 86.76
ORBITAL_SEMIMAJOR_AXIS = 8656.1
PERIAPSIS_ALTITUDE = 355.28
PERIAPSIS_ARGUMENT_ANGLE = 61.38
PERIAPSIS_TIME = 2008-07-03T11:20:16.000Z
SPACECRAFT_ORIENTATION = (0.0,1.0,0.0)
^MEX_ORIENTATION_DESC = "MEX_ORIENTATION_DESC.TXT"
SPACECRAFT_POINTING_MODE = NADIR
^MEX_POINTING_DESC = "MEX_POINTING_DESC.TXT"
RIGHT_ASCENSION = -1e+32
DECLINATION = -1e+32
OFFSET_ANGLE = -1e+32
SPACECRAFT_SOLAR_DISTANCE = 2.47275e+08
TARGET_NAME = MARS
/* CAMERA DATA ELEMENTS */
DETECTOR_TEMPERATURE = 17.9627
FOCAL_PLANE_TEMPERATURE = 7.9716
INST_CMPRS_NAME = "DISCRETE COSINE TRANSFORMATION (DCT)"
INST_CMPRS_RATIO = 29.8707
INST_CMPRS_QUALITY = 0
INST_CMPRS_QUANTZ_TBL_ID = 0
INSTRUMENT_TEMPERATURE = 11.0301
LENS_TEMPERATURE = 8.3794
MACROPIXEL_SIZE = 4
MISSING_FRAMES = 0
PIXEL_SUBSAMPLING_FLAG = N
SIGNAL_CHAIN_ID = 2
/* RADIOMETRIC DATA ELEMENTS */
BANDWIDTH = 76.0
CENTER_FILTER_WAVELENGTH = 444.0
RADIANCE_OFFSET = 0.341272
RADIANCE_SCALING_FACTOR = 0.00747229
REFLECTANCE_SCALING_FACTOR = 0.000469426
MEX:REFLECTANCE_OFFSET = 0.0214394
/* IMAGE OBJECT DEFINITIONS */
OBJECT = IMAGE
  INTERCHANGE_FORMAT = BINARY
  LINES = 6024
  LINE_SAMPLES = 3554
  SAMPLE_TYPE = UNSIGNED_INTEGER
  SAMPLE_BITS = 8
  BANDS = 1
  BAND_STORAGE_TYPE = BAND_SEQUENTIAL
  MAXIMUM = 255
  MEAN = 53.1699
  MINIMUM = 1
  STANDARD_DEVIATION = 45.8665
END_OBJECT = IMAGE
/* MAP OBJECT DEFINITIONS */
OBJECT = IMAGE_MAP_PROJECTION
  ^DATA_SET_MAP_PROJECTION_CATALOG= "DSMAP.CAT"
  A_AXIS_RADIUS = 3396.0
  B_AXIS_RADIUS = 3396.0
  C_AXIS_RADIUS = 3396.0
  CENTER_LATITUDE = 0.0
  CENTER_LONGITUDE = 306.0
  COORDINATE_SYSTEM_NAME = PLANETOGRAPHIC
  COORDINATE_SYSTEM_TYPE = "BODY-FIXED ROTATING"
  EASTERNMOST_LONGITUDE = 319.613
  FIRST_STANDARD_PARALLEL = "N/A"
  LINE_FIRST_PIXEL = 1
  LINE_LAST_PIXEL = 6024
  LINE_PROJECTION_OFFSET = 51078.125
  MAP_PROJECTION_ROTATION = 0.0
  MAP_PROJECTION_TYPE = SINUSOIDAL
  MAP_RESOLUTION = 592.713803866667
  MAP_SCALE = 0.1
  MAXIMUM_LATITUDE = 86.11450000000001
  MINIMUM_LATITUDE = 76.0025
  POSITIVE_LONGITUDE_DIRECTION = EAST
  REFERENCE_LATITUDE = "N/A"
  REFERENCE_LONGITUDE = "N/A"
  SAMPLE_FIRST_PIXEL = 1
  SAMPLE_LAST_PIXEL = 3554
  SAMPLE_PROJECTION_OFFSET = 1684.625
  SECOND_STANDARD_PARALLEL = "N/A"
  WESTERNMOST_LONGITUDE = 275.248
END_OBJECT = IMAGE_MAP_PROJECTION
/* The JPEG2000 image data file associated with this label. */
OBJECT = COMPRESSED_FILE
  FILE_NAME = "H5782_0000_BL3.JP2"
  RECORD_TYPE = UNDEFINED
  FILE_RECORDS = UNK
  ENCODING_TYPE = "JP2"
  INTERCHANGE_FORMAT = BINARY
  UNCOMPRESSED_FILE_NAME = "H5782_0000_BL3.IMG"
  REQUIRED_STORAGE_BYTES = "21430620"
  ^DESCRIPTION = "JP2INFO.TXT"
END_OBJECT = COMPRESSED_FILE
END
