PDS_VERSION_ID = PDS3
/* FILE DATA ELEMENTS */
RECORD_TYPE = STREAM
/* POINTERS TO DATA OBJECTS */
^COMPRESSED_FILE = "H2348_0000_P13.JP2"
/* IDENTIFICATION DATA ELEMENTS */
DATA_SET_ID = "MEX-M-HRSC-5-REFDR-MAPPROJECTED-V3.0"
DATA_SET_NAME = "MARS EXPRESS HRSC MAP PROJECTED REFDR V3.0"
DETECTOR_ID = MEX_HRSC_P1
EVENT_TYPE = "MARS-REGIONAL-MAPPING-Gl-La"
INSTRUMENT_HOST_ID = MEX
INSTRUMENT_HOST_NAME = "MARS EXPRESS"
INSTRUMENT_ID = HRSC
INSTRUMENT_NAME = "HIGH RESOLUTION STEREO CAMERA"
MISSION_NAME = "MARS EXPRESS"
MISSION_PHASE_NAME = MR_Phase_8
PROCESSING_LEVEL_ID = 3
PRODUCT_CREATION_TIME = 2016-03-15T10:38:17.000Z
PRODUCT_ID = "H2348_0000_P13.JP2"
RELEASE_ID = 0029
REVISION_ID = 0000
/* QUALITY DATA ELEMENTS */
DATA_QUALITY_ID = 1
DATA_QUALITY_DESC = "Data calculated based on original SPICE kernels"
/* TIME DATA ELEMENTS */
SPACECRAFT_CLOCK_START_COUNT = "1/0079762354.57150"
SPACECRAFT_CLOCK_STOP_COUNT = "1/0079762557.05081"
START_TIME = 2005-11-11T04:13:01.622Z
STOP_TIME = 2005-11-11T04:14:58.890Z
/* ORBITAL DATA ELEMENTS */
ASCENDING_NODE_LONGITUDE = 178.96
MAXIMUM_RESOLUTION = 69.6
FOOTPRINT_POINT_LATITUDE = (-83.9678,-84.1384,-84.2338,-84.3276, -84.4198,-84.5771,-84.6966,-84.7812, -84.8638,-84.9543,-85.0612,-85.0349, -84.9111,-84.7858,-84.659,-84.5314, -84.3407,-84.1472,-84.0168,-83.8881, -83.7611,-83.6352,-83.507,-83.3776, -83.2498,-83.122,-82.9932,-82.8638, -82.7346,-82.6069,-82.4786,-82.3499, -82.2202,-82.0272,-81.8984,-81.77, -81.6415,-81.5135,-81.3867,-81.1372, -81.0104,-80.8834,-80.6934,-80.5685, -80.4431,-80.2549,-80.1291,-79.8798, -79.6325,-79.3845,-79.0165,-78.7742, -78.7159,-78.6691,-78.6033,-78.5331, -78.4871,-78.3807,-78.3027,-78.5316, -78.7632,-78.996,-79.2287,-79.459, -79.6346,-79.7512,-79.8673,-80.0981, -80.2726,-80.3886,-80.5619,-80.7336, -80.8487,-80.9632,-81.0757,-81.1903, -81.3066,-81.4256,-81.5415,-81.6561, -81.7699,-81.8827,-81.9939,-82.157, -82.2703,-82.3807,-82.4894,-82.6006, -82.7121,-82.8755,-83.0375,-83.1443, -83.2494,-83.3527,-83.4542,-83.5557, -83.6556,-83.7536,-83.8497,-83.9678)
FOOTPRINT_POINT_LONGITUDE = (127.894,129.374,130.257,131.168, 132.109,133.83,135.251,136.323,137.429, 138.717,140.354,142.7,143.551,144.366, 145.148,145.891,146.936,147.921,148.546 ,149.129,149.671,150.175,150.676, 151.162,151.624,152.065,152.493,152.907 ,153.304,153.682,154.048,154.402, 154.748,155.24,155.558,155.862,156.155, 156.435,156.704,157.203,157.449,157.689 ,158.035,158.254,158.469,158.78,158.98, 159.363,159.723,160.067,160.547,160.845 ,159.768,158.961,157.896,156.84,156.185 ,154.76,153.777,153.294,152.795,152.26, 151.704,151.122,150.66,150.342,150.017, 149.345,148.811,148.442,147.872,147.281 ,146.87,146.444,146.007,145.56,145.102, 144.629,144.134,143.627,143.105,142.57, 142.017,141.147,140.544,139.925,139.289 ,138.62,137.929,136.856,135.726,134.934 ,134.118,133.277,132.411,131.503, 130.564,129.597,128.6,127.894)
ORBIT_NUMBER = 2348
ORBITAL_ECCENTRICITY = 0.572
ORBITAL_INCLINATION = 86.63
ORBITAL_SEMIMAJOR_AXIS = 8558.7
PERIAPSIS_ALTITUDE = 277.89
PERIAPSIS_ARGUMENT_ANGLE = 305.46
PERIAPSIS_TIME = 2005-11-11T04:21:39.000Z
SPACECRAFT_ORIENTATION = (0.0,-1.0,0.0)
^MEX_ORIENTATION_DESC = "MEX_ORIENTATION_DESC.TXT"
SPACECRAFT_POINTING_MODE = ACROSSTRACK
^MEX_POINTING_DESC = "MEX_POINTING_DESC.TXT"
RIGHT_ASCENSION = -1e+32
DECLINATION = -1e+32
OFFSET_ANGLE = 0.25
SPACECRAFT_SOLAR_DISTANCE = 2.19263e+08
TARGET_NAME = MARS
/* CAMERA DATA ELEMENTS */
DETECTOR_TEMPERATURE = 17.7588
FOCAL_PLANE_TEMPERATURE = 8.5833
INST_CMPRS_NAME = "DISCRETE COSINE TRANSFORMATION (DCT)"
INST_CMPRS_RATIO = 22.0753
INST_CMPRS_QUALITY = 0
INST_CMPRS_QUANTZ_TBL_ID = 0
INSTRUMENT_TEMPERATURE = 11.0301
LENS_TEMPERATURE = 8.7872
MACROPIXEL_SIZE = 4
MISSING_FRAMES = 0
PIXEL_SUBSAMPLING_FLAG = N
SIGNAL_CHAIN_ID = 3
/* RADIOMETRIC DATA ELEMENTS */
BANDWIDTH = 174.0
CENTER_FILTER_WAVELENGTH = 675.0
RADIANCE_OFFSET = 3.71077
RADIANCE_SCALING_FACTOR = 0.00605366
REFLECTANCE_SCALING_FACTOR = 0.000156542
MEX:REFLECTANCE_OFFSET = 0.0959572
/* IMAGE OBJECT DEFINITIONS */
OBJECT = IMAGE
  INTERCHANGE_FORMAT = BINARY
  LINES = 7968
  LINE_SAMPLES = 5120
  SAMPLE_TYPE = UNSIGNED_INTEGER
  SAMPLE_BITS = 8
  BANDS = 1
  BAND_STORAGE_TYPE = BAND_SEQUENTIAL
  MAXIMUM = 181
  MEAN = 153.508
  MINIMUM = 124
  STANDARD_DEVIATION = 9.44458
END_OBJECT = IMAGE
/* MAP OBJECT DEFINITIONS */
OBJECT = IMAGE_MAP_PROJECTION
  ^DATA_SET_MAP_PROJECTION_CATALOG= "DSMAP.CAT"
  A_AXIS_RADIUS = 3396.0
  B_AXIS_RADIUS = 3396.0
  C_AXIS_RADIUS = 3396.0
  CENTER_LATITUDE = 0.0
  CENTER_LONGITUDE = 150.0
  COORDINATE_SYSTEM_NAME = PLANETOGRAPHIC
  COORDINATE_SYSTEM_TYPE = "BODY-FIXED ROTATING"
  EASTERNMOST_LONGITUDE = 160.845
  FIRST_STANDARD_PARALLEL = "N/A"
  LINE_FIRST_PIXEL = 1
  LINE_LAST_PIXEL = 7968
  LINE_PROJECTION_OFFSET = -92828.375
  MAP_PROJECTION_ROTATION = 0.0
  MAP_PROJECTION_TYPE = SINUSOIDAL
  MAP_RESOLUTION = 1185.42760773333
  MAP_SCALE = 0.05
  MAXIMUM_LATITUDE = -78.3027
  MINIMUM_LATITUDE = -85.0612
  POSITIVE_LONGITUDE_DIRECTION = EAST
  REFERENCE_LATITUDE = "N/A"
  REFERENCE_LONGITUDE = "N/A"
  SAMPLE_FIRST_PIXEL = 1
  SAMPLE_LAST_PIXEL = 5120
  SAMPLE_PROJECTION_OFFSET = 2646.625
  SECOND_STANDARD_PARALLEL = "N/A"
  WESTERNMOST_LONGITUDE = 127.894
END_OBJECT = IMAGE_MAP_PROJECTION
/* The JPEG2000 image data file associated with this label. */
OBJECT = COMPRESSED_FILE
  FILE_NAME = "H2348_0000_P13.JP2"
  RECORD_TYPE = UNDEFINED
  FILE_RECORDS = UNK
  ENCODING_TYPE = "JP2"
  INTERCHANGE_FORMAT = BINARY
  UNCOMPRESSED_FILE_NAME = "H2348_0000_P13.IMG"
  REQUIRED_STORAGE_BYTES = "40821760"
  ^DESCRIPTION = "JP2INFO.TXT"
END_OBJECT = COMPRESSED_FILE
END
