PDS_VERSION_ID = PDS3
/* FILE DATA ELEMENTS */
RECORD_TYPE = STREAM
/* POINTERS TO DATA OBJECTS */
^COMPRESSED_FILE = "H2017_0000_IR3.JP2"
/* IDENTIFICATION DATA ELEMENTS */
DATA_SET_ID = "MEX-M-HRSC-5-REFDR-MAPPROJECTED-V3.0"
DATA_SET_NAME = "MARS EXPRESS HRSC MAP PROJECTED REFDR V3.0"
DETECTOR_ID = MEX_HRSC_IR
EVENT_TYPE = "MARS-LOCAL-STEREO-Te-La"
INSTRUMENT_HOST_ID = MEX
INSTRUMENT_HOST_NAME = "MARS EXPRESS"
INSTRUMENT_ID = HRSC
INSTRUMENT_NAME = "HIGH RESOLUTION STEREO CAMERA"
MISSION_NAME = "MARS EXPRESS"
MISSION_PHASE_NAME = MR_Phase_7
PROCESSING_LEVEL_ID = 3
PRODUCT_CREATION_TIME = 2016-03-10T10:27:20.000Z
PRODUCT_ID = "H2017_0000_IR3.JP2"
RELEASE_ID = 0026
REVISION_ID = 0000
/* QUALITY DATA ELEMENTS */
DATA_QUALITY_ID = 1
DATA_QUALITY_DESC = "Data calculated based on original SPICE kernels"
/* TIME DATA ELEMENTS */
SPACECRAFT_CLOCK_START_COUNT = "1/0071757257.57301"
SPACECRAFT_CLOCK_STOP_COUNT = "1/0071757512.08446"
START_TIME = 2005-08-10T12:35:30.720Z
STOP_TIME = 2005-08-10T12:38:32.818Z
/* ORBITAL DATA ELEMENTS */
ASCENDING_NODE_LONGITUDE = 185.98
MAXIMUM_RESOLUTION = 100.2 <m/pixel>
FOOTPRINT_POINT_LATITUDE = (-16.1839,-16.1836,-16.1833,-16.1678, -15.9159,-15.6639,-15.4115,-15.1593, -14.9065,-14.6536,-14.4015,-14.1496, -13.7733,-13.5431,-13.2963,-12.9176, -12.6608,-12.4035,-12.1636,-11.9141, -11.5472,-11.3014,-11.0482,-10.7857, -10.3925,-10.1464,-9.78368,-9.54533, -9.30832,-9.0715,-8.83241,-8.59381, -8.35833,-8.14267,-7.78672,-7.55002, -7.32352,-7.10945,-6.89105,-6.53559, -6.28212,-6.04105,-5.81167,-5.46755, -5.23825,-4.89764,-4.56569,-4.34477, -4.04073,-4.04065,-4.04194,-4.04258, -4.15517,-4.3757,-4.59662,-4.92814, -5.1546,-5.38393,-5.72781,-5.957, -6.18667,-6.55073,-6.7875,-7.14705, -7.36471,-7.58724,-7.81643,-8.05165, -8.2893,-8.51013,-8.74271,-8.98019, -9.21718,-9.45734,-9.69359,-9.93226, -10.176,-10.4224,-10.7919,-11.0479, -11.3167,-11.5792,-11.8223,-12.0767, -12.3299,-12.5673,-12.7977,-13.0725, -13.3375,-13.5749,-13.804,-14.0529, -14.3067,-14.6866,-14.9399,-15.193, -15.4452,-15.6972,-15.949,-16.1839)
FOOTPRINT_POINT_LONGITUDE = (293.33,292.934,292.575,292.141,292.145 ,292.149,292.154,292.157,292.161, 292.165,292.169,292.172,292.176,292.171 ,292.172,292.177,292.181,292.186, 292.184,292.185,292.189,292.191,292.197 ,292.205,292.218,292.22,292.224,292.227 ,292.228,292.23,292.232,292.234,292.235 ,292.229,292.231,292.235,292.236, 292.231,292.229,292.235,292.244,292.25, 292.251,292.252,292.253,292.254,292.255 ,292.256,292.257,292.48,292.851,293.066 ,293.298,293.3,293.301,293.304,293.305, 293.307,293.31,293.312,293.314,293.325, 293.329,293.338,293.336,293.336,293.338 ,293.34,293.342,293.339,293.339,293.342 ,293.344,293.348,293.35,293.354,293.357 ,293.36,293.365,293.372,293.384,293.394 ,293.397,293.401,293.405,293.402, 293.397,293.409,293.417,293.415,293.41, 293.412,293.417,293.423,293.427,293.432 ,293.436,293.44,293.444,293.33)
ORBIT_NUMBER = 2017
ORBITAL_ECCENTRICITY = 0.572
ORBITAL_INCLINATION = 86.6
ORBITAL_SEMIMAJOR_AXIS = 8626.82
PERIAPSIS_ALTITUDE = 293.87
PERIAPSIS_ARGUMENT_ANGLE = 4.06
PERIAPSIS_TIME = 2005-08-10T12:40:14.000Z
SPACECRAFT_ORIENTATION = (0.0,1.0,0.0)
^MEX_ORIENTATION_DESC = "MEX_ORIENTATION_DESC.TXT"
SPACECRAFT_POINTING_MODE = NADIR
^MEX_POINTING_DESC = "MEX_POINTING_DESC.TXT"
RIGHT_ASCENSION = -1e+32
DECLINATION = -1e+32
OFFSET_ANGLE = -1e+32
SPACECRAFT_SOLAR_DISTANCE = 2.07253e+08
TARGET_NAME = MARS
/* CAMERA DATA ELEMENTS */
DETECTOR_TEMPERATURE = 17.9627 <degC>
FOCAL_PLANE_TEMPERATURE = 10.0106 <degC>
INST_CMPRS_NAME = "DISCRETE COSINE TRANSFORMATION (DCT)"
INST_CMPRS_RATIO = 7.65272
INST_CMPRS_QUALITY = 0
INST_CMPRS_QUANTZ_TBL_ID = 0
INSTRUMENT_TEMPERATURE = 11.6418 <degC>
LENS_TEMPERATURE = 10.2145 <degC>
MACROPIXEL_SIZE = 8
MISSING_FRAMES = 0
PIXEL_SUBSAMPLING_FLAG = N
SIGNAL_CHAIN_ID = 2
/* RADIOMETRIC DATA ELEMENTS */
BANDWIDTH = 81.0 <nm>
CENTER_FILTER_WAVELENGTH = 955.5 <nm>
RADIANCE_OFFSET = 0.82472 <W*m**-2*sr**-1>
RADIANCE_SCALING_FACTOR = 0.00664227 <W*m**-2*sr**-1>
REFLECTANCE_SCALING_FACTOR = 0.000615524
MEX:REFLECTANCE_OFFSET = 0.0764249
/* IMAGE OBJECT DEFINITIONS */
OBJECT = IMAGE
  INTERCHANGE_FORMAT = BINARY
  LINES = 7203
  LINE_SAMPLES = 831
  SAMPLE_TYPE = UNSIGNED_INTEGER
  SAMPLE_BITS = 8
  BANDS = 1
  BAND_STORAGE_TYPE = BAND_SEQUENTIAL
  MAXIMUM = 285
  MEAN = 203.258
  MINIMUM = 88
  STANDARD_DEVIATION = 39.2815
END_OBJECT = IMAGE
/* MAP OBJECT DEFINITIONS */
OBJECT = IMAGE_MAP_PROJECTION
  ^DATA_SET_MAP_PROJECTION_CATALOG= "DSMAP.CAT"
  A_AXIS_RADIUS = 3396.0 <km>
  B_AXIS_RADIUS = 3396.0 <km>
  C_AXIS_RADIUS = 3396.0 <km>
  CENTER_LATITUDE = 0.0
  CENTER_LONGITUDE = 293.0
  COORDINATE_SYSTEM_NAME = PLANETOGRAPHIC
  COORDINATE_SYSTEM_TYPE = "BODY-FIXED ROTATING"
  EASTERNMOST_LONGITUDE = 293.444
  FIRST_STANDARD_PARALLEL = "N/A"
  LINE_FIRST_PIXEL = 1
  LINE_LAST_PIXEL = 7203
  LINE_PROJECTION_OFFSET = -2401.9375
  MAP_PROJECTION_ROTATION = 0.0
  MAP_PROJECTION_TYPE = SINUSOIDAL
  MAP_RESOLUTION = 592.713803866667 <pixel/degree>
  MAP_SCALE = 0.1 <km/pixel>
  MAXIMUM_LATITUDE = -4.04065
  MINIMUM_LATITUDE = -16.1839
  POSITIVE_LONGITUDE_DIRECTION = EAST
  REFERENCE_LATITUDE = "N/A"
  REFERENCE_LONGITUDE = "N/A"
  SAMPLE_FIRST_PIXEL = 1
  SAMPLE_LAST_PIXEL = 831
  SAMPLE_PROJECTION_OFFSET = 535.0625
  SECOND_STANDARD_PARALLEL = "N/A"
  WESTERNMOST_LONGITUDE = 292.141
END_OBJECT = IMAGE_MAP_PROJECTION
/* The JPEG2000 image data file associated with this label. */
OBJECT = COMPRESSED_FILE
  FILE_NAME = "H2017_0000_IR3.JP2"
  RECORD_TYPE = UNDEFINED
  FILE_RECORDS = UNK
  ENCODING_TYPE = "JP2"
  INTERCHANGE_FORMAT = BINARY
  UNCOMPRESSED_FILE_NAME = "H2017_0000_IR3.IMG"
  REQUIRED_STORAGE_BYTES = "6003975"
  ^DESCRIPTION = "JP2INFO.TXT"
END_OBJECT = COMPRESSED_FILE
END
