PDS_VERSION_ID = PDS3
/* FILE DATA ELEMENTS */
RECORD_TYPE = STREAM
/* POINTERS TO DATA OBJECTS */
^COMPRESSED_FILE = "H1987_0000_S23.JP2"
/* IDENTIFICATION DATA ELEMENTS */
DATA_SET_ID = "MEX-M-HRSC-5-REFDR-MAPPROJECTED-V3.0"
DATA_SET_NAME = "MARS EXPRESS HRSC MAP PROJECTED REFDR V3.0"
DETECTOR_ID = MEX_HRSC_S2
EVENT_TYPE = "MARS-REGIONAL-MAPPING-Lc-Tc-Ts"
INSTRUMENT_HOST_ID = MEX
INSTRUMENT_HOST_NAME = "MARS EXPRESS"
INSTRUMENT_ID = HRSC
INSTRUMENT_NAME = "HIGH RESOLUTION STEREO CAMERA"
MISSION_NAME = "MARS EXPRESS"
MISSION_PHASE_NAME = MR_Phase_7
PROCESSING_LEVEL_ID = 3
PRODUCT_CREATION_TIME = 2016-03-09T16:25:58.000Z
PRODUCT_ID = "H1987_0000_S23.JP2"
RELEASE_ID = 0025
REVISION_ID = 0000
/* QUALITY DATA ELEMENTS */
DATA_QUALITY_ID = 1
DATA_QUALITY_DESC = "Data calculated based on original SPICE kernels"
/* TIME DATA ELEMENTS */
SPACECRAFT_CLOCK_START_COUNT = "1/0071031657.57318"
SPACECRAFT_CLOCK_STOP_COUNT = "1/0071031904.08013"
START_TIME = 2005-08-02T03:01:05.070Z
STOP_TIME = 2005-08-02T03:04:15.329Z
/* ORBITAL DATA ELEMENTS */
ASCENDING_NODE_LONGITUDE = 186.63
MAXIMUM_RESOLUTION = 26.3
FOOTPRINT_POINT_LATITUDE = (-7.58663,-7.59527,-7.60347,-7.6112, -7.61843,-7.62526,-7.61973,-7.33971, -7.05829,-6.77688,-6.38633,-6.14907, -5.912,-5.67389,-5.43514,-5.07731, -4.83711,-4.47781,-4.11608,-3.87393, -3.63486,-3.39239,-3.02959,-2.78735, -2.54466,-2.30065,-2.05954,-1.82333, -1.46902,-1.11332,-0.758093,-0.520772, -0.166318,0.0643004,0.295156,0.642278, 0.874048,1.10645,1.45437,1.68703, 2.03597,2.26341,2.48857,2.71436,2.9394, 3.16558,3.39208,3.73166,4.07209,4.29871 ,4.32216,4.32847,4.34175,4.35243, 4.12674,3.90608,3.68153,3.33787,3.10861 ,2.88265,2.65665,2.31922,2.09259, 1.86003,1.51128,1.27894,1.04805,0.81674 ,0.469851,0.239065,0.00861388,-0.222878 ,-0.578547,-0.817453,-1.0546,-1.29154, -1.52732,-1.76371,-1.999,-2.24172, -2.60689,-2.84987,-3.21192,-3.45384, -3.69574,-3.9363,-4.17752,-4.53829, -4.76713,-5.00603,-5.2468,-5.49545, -5.73267,-5.97064,-6.20662,-6.44472, -6.85477,-7.13679,-7.4183,-7.58663)
FOOTPRINT_POINT_LONGITUDE = (1.93078,1.72064,1.51187,1.30449,1.0986 ,0.89377,0.697922,0.701439,0.704834, 0.708186,0.712645,0.715292,0.717918, 0.72046,0.722942,0.726619,0.728958, 0.732452,0.735773,0.737911,0.740133, 0.742196,0.745261,0.74725,0.749192, 0.751059,0.752882,0.754626,0.757183, 0.759633,0.762025,0.763567,0.765779, 0.767169,0.768525,0.77049,0.771758, 0.772987,0.774788,0.775942,0.777621, 0.778664,0.779677,0.780657,0.781618, 0.782542,0.783438,0.784734,0.785967, 0.786758,1.11143,1.27015,1.60189,1.8194 ,1.88922,1.89407,1.89657,1.89621,1.8958 ,1.89725,1.89862,1.90145,1.90313, 1.90516,1.90811,1.91006,1.91277,1.91515 ,1.91859,1.92105,1.9236,1.92599,1.93071 ,1.93272,1.93561,1.93852,1.94197, 1.94497,1.94847,1.95046,1.95522,1.9585, 1.96452,1.96807,1.97151,1.97555,1.97909 ,1.98474,1.99472,1.99905,2.00222, 2.00096,2.0058,2.01007,2.01529,2.01921, 2.02739,2.03273,2.03814,1.93078)
ORBIT_NUMBER = 1987
ORBITAL_ECCENTRICITY = 0.572
ORBITAL_INCLINATION = 86.58
ORBITAL_SEMIMAJOR_AXIS = 8622.13
PERIAPSIS_ALTITUDE = 297.6
PERIAPSIS_ARGUMENT_ANGLE = 9.38
PERIAPSIS_TIME = 2005-08-02T03:05:59.000Z
SPACECRAFT_ORIENTATION = (0.0,1.0,0.0)
^MEX_ORIENTATION_DESC = "MEX_ORIENTATION_DESC.TXT"
SPACECRAFT_POINTING_MODE = ACROSSTRACK
^MEX_POINTING_DESC = "MEX_POINTING_DESC.TXT"
RIGHT_ASCENSION = -1e+32
DECLINATION = -1e+32
OFFSET_ANGLE = -0.53
SPACECRAFT_SOLAR_DISTANCE = 2.06898e+08
TARGET_NAME = MARS
/* CAMERA DATA ELEMENTS */
DETECTOR_TEMPERATURE = 19.1861
FOCAL_PLANE_TEMPERATURE = 9.8067
INST_CMPRS_NAME = "DISCRETE COSINE TRANSFORMATION (DCT)"
INST_CMPRS_RATIO = 10.2546
INST_CMPRS_QUALITY = 0
INST_CMPRS_QUANTZ_TBL_ID = 0
INSTRUMENT_TEMPERATURE = 11.6418
LENS_TEMPERATURE = 10.2145
MACROPIXEL_SIZE = 2
MISSING_FRAMES = 0
PIXEL_SUBSAMPLING_FLAG = N
SIGNAL_CHAIN_ID = 1
/* RADIOMETRIC DATA ELEMENTS */
BANDWIDTH = 178.0
CENTER_FILTER_WAVELENGTH = 679.0
RADIANCE_OFFSET = 4.2698
RADIANCE_SCALING_FACTOR = 0.00870704
REFLECTANCE_SCALING_FACTOR = 0.000197384
MEX:REFLECTANCE_OFFSET = 0.0967942
/* IMAGE OBJECT DEFINITIONS */
OBJECT = IMAGE
  INTERCHANGE_FORMAT = BINARY
  LINES = 28258
  LINE_SAMPLES = 3174
  SAMPLE_TYPE = UNSIGNED_INTEGER
  SAMPLE_BITS = 8
  BANDS = 1
  BAND_STORAGE_TYPE = BAND_SEQUENTIAL
  MAXIMUM = 197
  MEAN = 153.69
  MINIMUM = 121
  STANDARD_DEVIATION = 9.70564
END_OBJECT = IMAGE
/* MAP OBJECT DEFINITIONS */
OBJECT = IMAGE_MAP_PROJECTION
  ^DATA_SET_MAP_PROJECTION_CATALOG= "DSMAP.CAT"
  A_AXIS_RADIUS = 3396.0
  B_AXIS_RADIUS = 3396.0
  C_AXIS_RADIUS = 3396.0
  CENTER_LATITUDE = 0.0
  CENTER_LONGITUDE = 1.0
  COORDINATE_SYSTEM_NAME = PLANETOGRAPHIC
  COORDINATE_SYSTEM_TYPE = "BODY-FIXED ROTATING"
  EASTERNMOST_LONGITUDE = 2.03814
  FIRST_STANDARD_PARALLEL = "N/A"
  LINE_FIRST_PIXEL = 1
  LINE_LAST_PIXEL = 28258
  LINE_PROJECTION_OFFSET = 10248.25
  MAP_PROJECTION_ROTATION = 0.0
  MAP_PROJECTION_TYPE = SINUSOIDAL
  MAP_RESOLUTION = 2370.85521546667
  MAP_SCALE = 0.025
  MAXIMUM_LATITUDE = 4.35243
  MINIMUM_LATITUDE = -7.62526
  POSITIVE_LONGITUDE_DIRECTION = EAST
  REFERENCE_LATITUDE = "N/A"
  REFERENCE_LONGITUDE = "N/A"
  SAMPLE_FIRST_PIXEL = 1
  SAMPLE_LAST_PIXEL = 3174
  SAMPLE_PROJECTION_OFFSET = 646.75
  SECOND_STANDARD_PARALLEL = "N/A"
  WESTERNMOST_LONGITUDE = 0.697922
END_OBJECT = IMAGE_MAP_PROJECTION
/* The JPEG2000 image data file associated with this label. */
OBJECT = COMPRESSED_FILE
  FILE_NAME = "H1987_0000_S23.JP2"
  RECORD_TYPE = UNDEFINED
  FILE_RECORDS = UNK
  ENCODING_TYPE = "JP2"
  INTERCHANGE_FORMAT = BINARY
  UNCOMPRESSED_FILE_NAME = "H1987_0000_S23.IMG"
  REQUIRED_STORAGE_BYTES = "89713110"
  ^DESCRIPTION = "JP2INFO.TXT"
END_OBJECT = COMPRESSED_FILE
END
