PDS_VERSION_ID = PDS3
/* FILE DATA ELEMENTS */
RECORD_TYPE = STREAM
/* POINTERS TO DATA OBJECTS */
^COMPRESSED_FILE = "H1619_0005_SR3.JP2"
/* IDENTIFICATION DATA ELEMENTS */
DATA_SET_ID = "MEX-M-HRSC-5-REFDR-MAPPROJECTED-V3.0"
DATA_SET_NAME = "MARS EXPRESS HRSC MAP PROJECTED REFDR V3.0"
DETECTOR_ID = MEX_HRSC_SRC
EVENT_TYPE = "MARS-REGIONAL-MAPPING-Fl-Pf-Eo"
INSTRUMENT_HOST_ID = MEX
INSTRUMENT_HOST_NAME = "MARS EXPRESS"
INSTRUMENT_ID = HRSC
INSTRUMENT_NAME = "HIGH RESOLUTION STEREO CAMERA"
MISSION_NAME = "MARS EXPRESS"
MISSION_PHASE_NAME = MR_Phase_6
PROCESSING_LEVEL_ID = 3
PRODUCT_CREATION_TIME = 2016-03-09T06:48:11.000Z
PRODUCT_ID = "H1619_0005_SR3.JP2"
RELEASE_ID = 0021
REVISION_ID = 0000
/* QUALITY DATA ELEMENTS */
DATA_QUALITY_ID = 1
DATA_QUALITY_DESC = "Data calculated based on original SPICE kernels"
/* TIME DATA ELEMENTS */
SPACECRAFT_CLOCK_START_COUNT = "1/0062131352.57963"
SPACECRAFT_CLOCK_STOP_COUNT = "1/0062132360.21437"
IMAGE_TIME = 2005-04-21T02:47:16.857Z
START_TIME = 2005-04-21T02:47:16.855Z
STOP_TIME = 2005-04-21T02:47:16.860Z
/* ORBITAL DATA ELEMENTS */
ASCENDING_NODE_LONGITUDE = 194.53
MAXIMUM_RESOLUTION = 11.657
FOOTPRINT_POINT_LATITUDE = (42.1002,42.0947,42.0877,42.0768, 42.0651,42.0572,42.051,42.0425,42.0346, 42.0275,42.019,42.0083,42.0006,41.9952, 41.9871,41.981,41.9721,41.9663,41.9558, 41.9485,41.9388,41.9301,41.923,41.9151, 41.9067,41.9069,41.9071,41.9072,41.9074 ,41.9076,41.9078,41.9079,41.9081, 41.9083,41.9085,41.9086,41.9088,41.909, 41.9091,41.9093,41.9095,41.9096,41.9098 ,41.9099,41.9101,41.9103,41.9104, 41.9106,41.9107,41.9166,41.9265,41.9327 ,41.9404,41.9457,41.9521,41.9598, 41.9661,41.9725,41.981,41.9913,42.0018, 42.0111,42.0182,42.025,42.0317,42.0418, 42.048,42.0543,42.0646,42.0731,42.0797, 42.0888,42.0991,42.1078,42.1105,42.1104 ,42.1102,42.11,42.1099,42.1097,42.1095, 42.1094,42.1092,42.109,42.1088,42.1087, 42.1085,42.1083,42.1081,42.1079,42.1078 ,42.1076,42.1074,42.1072,42.107,42.1068 ,42.1067,42.1065,42.1063,42.1002)
FOOTPRINT_POINT_LONGITUDE = (329.334,329.334,329.334,329.333, 329.333,329.333,329.333,329.333,329.333 ,329.332,329.333,329.332,329.332, 329.332,329.332,329.332,329.332,329.332 ,329.331,329.331,329.331,329.331, 329.331,329.33,329.325,329.314,329.303, 329.293,329.282,329.271,329.261,329.25, 329.239,329.229,329.218,329.207,329.197 ,329.186,329.175,329.164,329.154, 329.143,329.132,329.122,329.111,329.1, 329.09,329.079,329.068,329.059,329.059, 329.059,329.059,329.059,329.059,329.059 ,329.059,329.06,329.06,329.06,329.06, 329.06,329.06,329.06,329.061,329.061, 329.061,329.061,329.061,329.061,329.061 ,329.061,329.061,329.061,329.075, 329.085,329.096,329.107,329.118,329.128 ,329.139,329.15,329.161,329.171,329.182 ,329.193,329.204,329.214,329.225, 329.236,329.246,329.257,329.268,329.279 ,329.289,329.3,329.311,329.322,329.332, 329.334)
ORBIT_NUMBER = 1619
ORBITAL_ECCENTRICITY = 0.566
ORBITAL_INCLINATION = 86.61
ORBITAL_SEMIMAJOR_AXIS = 8536.48
PERIAPSIS_ALTITUDE = 326.56
PERIAPSIS_ARGUMENT_ANGLE = 75.14
PERIAPSIS_TIME = 2005-04-21T02:28:17.000Z
SPACECRAFT_ORIENTATION = (0.0,1.0,0.0)
^MEX_ORIENTATION_DESC = "MEX_ORIENTATION_DESC.TXT"
SPACECRAFT_POINTING_MODE = INERT
^MEX_POINTING_DESC = "MEX_POINTING_DESC.TXT"
RIGHT_ASCENSION = 118.698
DECLINATION = -44.223
OFFSET_ANGLE = -1e+32
SPACECRAFT_SOLAR_DISTANCE = 2.14242e+08
TARGET_NAME = MARS
/* CAMERA DATA ELEMENTS */
BUFFER_MODE_ID = BUFFER_8
EXPOSURE_DURATION = 5.04
INST_CMPRS_NAME = NONE
INST_CMPRS_RATIO = 1.0
INST_CMPRS_QUALITY = -2147483648
INST_CMPRS_QUANTZ_TBL_ID = -2147483648
INSTRUMENT_TEMPERATURE = 14.2424
MISSING_FRAMES = 0
START_BIT = 0
/* RADIOMETRIC DATA ELEMENTS */
BANDWIDTH = 250.0
CENTER_FILTER_WAVELENGTH = 600.0
RADIANCE_OFFSET = -9.99e+31
RADIANCE_SCALING_FACTOR = -9.99e+31
REFLECTANCE_SCALING_FACTOR = -9.99e+31
MEX:REFLECTANCE_OFFSET = -9.99e+31
/* IMAGE OBJECT DEFINITIONS */
OBJECT = IMAGE
  INTERCHANGE_FORMAT = BINARY
  LINES = 1258
  LINE_SAMPLES = 1262
  SAMPLE_TYPE = UNSIGNED_INTEGER
  SAMPLE_BITS = 8
  BANDS = 1
  BAND_STORAGE_TYPE = BAND_SEQUENTIAL
  MAXIMUM = 5915
  MEAN = 4058.04
  MINIMUM = 2761
  STANDARD_DEVIATION = 451.451
END_OBJECT = IMAGE
/* MAP OBJECT DEFINITIONS */
OBJECT = IMAGE_MAP_PROJECTION
  ^DATA_SET_MAP_PROJECTION_CATALOG= "DSMAP.CAT"
  A_AXIS_RADIUS = 3396.19
  B_AXIS_RADIUS = 3396.19
  C_AXIS_RADIUS = 3396.19
  CENTER_LATITUDE = 0.0
  CENTER_LONGITUDE = 329.0
  COORDINATE_SYSTEM_NAME = PLANETOGRAPHIC
  COORDINATE_SYSTEM_TYPE = "BODY-FIXED ROTATING"
  EASTERNMOST_LONGITUDE = 329.334
  FIRST_STANDARD_PARALLEL = "N/A"
  LINE_FIRST_PIXEL = 1
  LINE_LAST_PIXEL = 1258
  LINE_PROJECTION_OFFSET = 249455.0
  MAP_PROJECTION_ROTATION = 0.0
  MAP_PROJECTION_TYPE = SINUSOIDAL
  MAP_RESOLUTION = 5927.46965121889
  MAP_SCALE = 0.01
  MAXIMUM_LATITUDE = 42.1105
  MINIMUM_LATITUDE = 41.9067
  POSITIVE_LONGITUDE_DIRECTION = EAST
  REFERENCE_LATITUDE = "N/A"
  REFERENCE_LONGITUDE = "N/A"
  SAMPLE_FIRST_PIXEL = 1
  SAMPLE_LAST_PIXEL = 1262
  SAMPLE_PROJECTION_OFFSET = -129.0
  SECOND_STANDARD_PARALLEL = "N/A"
  WESTERNMOST_LONGITUDE = 329.059
END_OBJECT = IMAGE_MAP_PROJECTION
/* The JPEG2000 image data file associated with this label. */
OBJECT = COMPRESSED_FILE
  FILE_NAME = "H1619_0005_SR3.JP2"
  RECORD_TYPE = UNDEFINED
  FILE_RECORDS = UNK
  ENCODING_TYPE = "JP2"
  INTERCHANGE_FORMAT = BINARY
  UNCOMPRESSED_FILE_NAME = "H1619_0005_SR3.IMG"
  REQUIRED_STORAGE_BYTES = "1606526"
  ^DESCRIPTION = "JP2INFO.TXT"
END_OBJECT = COMPRESSED_FILE
END
