PDS_VERSION_ID = PDS3
/* FILE DATA ELEMENTS */
RECORD_TYPE = STREAM
/* POINTERS TO DATA OBJECTS */
^COMPRESSED_FILE = "H1590_0003_SR3.JP2"
/* IDENTIFICATION DATA ELEMENTS */
DATA_SET_ID = "MEX-M-HRSC-5-REFDR-MAPPROJECTED-V3.0"
DATA_SET_NAME = "MARS EXPRESS HRSC MAP PROJECTED REFDR V3.0"
DETECTOR_ID = MEX_HRSC_SRC
EVENT_TYPE = "MARS-REGIONAL-MAPPING-Vo-Te-Pf"
INSTRUMENT_HOST_ID = MEX
INSTRUMENT_HOST_NAME = "MARS EXPRESS"
INSTRUMENT_ID = HRSC
INSTRUMENT_NAME = "HIGH RESOLUTION STEREO CAMERA"
MISSION_NAME = "MARS EXPRESS"
MISSION_PHASE_NAME = MR_Phase_6
PROCESSING_LEVEL_ID = 3
PRODUCT_CREATION_TIME = 2016-03-08T06:50:01.000Z
PRODUCT_ID = "H1590_0003_SR3.JP2"
RELEASE_ID = 0020
REVISION_ID = 0000
/* QUALITY DATA ELEMENTS */
DATA_QUALITY_ID = 1
DATA_QUALITY_DESC = "Data calculated based on original SPICE kernels"
/* TIME DATA ELEMENTS */
SPACECRAFT_CLOCK_START_COUNT = "1/0061428986.57147"
SPACECRAFT_CLOCK_STOP_COUNT = "1/0061430264.57488"
IMAGE_TIME = 2005-04-12T23:41:53.954Z
START_TIME = 2005-04-12T23:41:53.950Z
STOP_TIME = 2005-04-12T23:41:53.957Z
/* ORBITAL DATA ELEMENTS */
ASCENDING_NODE_LONGITUDE = 195.15
MAXIMUM_RESOLUTION = 6.11
FOOTPRINT_POINT_LATITUDE = (59.7273,59.7236,59.7179,59.7137, 59.7096,59.7061,59.7003,59.6954,59.6902 ,59.6862,59.6804,59.6776,59.6741, 59.6712,59.6673,59.6624,59.6595,59.6552 ,59.6524,59.6492,59.6444,59.641,59.6367 ,59.6298,59.6276,59.6273,59.627,59.6266 ,59.6263,59.626,59.6257,59.6254,59.6251 ,59.6248,59.6245,59.6242,59.6239, 59.6236,59.6233,59.623,59.6227,59.6224, 59.6221,59.6218,59.6215,59.6212,59.6209 ,59.6206,59.6212,59.6248,59.63,59.6336, 59.6376,59.6432,59.6464,59.6522,59.6553 ,59.6591,59.6641,59.6679,59.6721,59.675 ,59.6815,59.6865,59.6904,59.6934, 59.6972,59.7005,59.7054,59.7084,59.7114 ,59.7157,59.7209,59.7244,59.7247,59.725 ,59.7253,59.7257,59.726,59.7263,59.7266 ,59.7269,59.7272,59.7275,59.7278, 59.7281,59.7284,59.7287,59.729,59.7293, 59.7296,59.7299,59.7302,59.7305,59.7308 ,59.7311,59.7313,59.7317,59.7319, 59.7273)
FOOTPRINT_POINT_LONGITUDE = (302.351,302.351,302.352,302.353, 302.353,302.354,302.355,302.355,302.356 ,302.357,302.358,302.358,302.358, 302.359,302.359,302.36,302.36,302.361, 302.361,302.362,302.363,302.363,302.364 ,302.364,302.356,302.348,302.34,302.328 ,302.319,302.311,302.303,302.295, 302.287,302.279,302.27,302.262,302.254, 302.246,302.238,302.229,302.221,302.213 ,302.205,302.197,302.189,302.18,302.172 ,302.164,302.157,302.156,302.155, 302.155,302.154,302.153,302.153,302.152 ,302.152,302.151,302.15,302.15,302.149, 302.149,302.148,302.147,302.147,302.146 ,302.146,302.145,302.144,302.144, 302.143,302.143,302.142,302.142,302.15, 302.158,302.166,302.175,302.183,302.191 ,302.199,302.207,302.216,302.224, 302.232,302.24,302.248,302.257,302.265, 302.273,302.281,302.289,302.298,302.306 ,302.314,302.322,302.331,302.339, 302.347,302.351)
ORBIT_NUMBER = 1590
ORBITAL_ECCENTRICITY = 0.566
ORBITAL_INCLINATION = 86.6
ORBITAL_SEMIMAJOR_AXIS = 8534.54
PERIAPSIS_ALTITUDE = 327.57
PERIAPSIS_ARGUMENT_ANGLE = 80.34
PERIAPSIS_TIME = 2005-04-12T23:31:11.000Z
SPACECRAFT_ORIENTATION = (0.0,1.0,0.0)
^MEX_ORIENTATION_DESC = "MEX_ORIENTATION_DESC.TXT"
SPACECRAFT_POINTING_MODE = ACROSSTRACK
^MEX_POINTING_DESC = "MEX_POINTING_DESC.TXT"
RIGHT_ASCENSION = -1e+32
DECLINATION = -1e+32
OFFSET_ANGLE = 0.3
SPACECRAFT_SOLAR_DISTANCE = 2.15568e+08
TARGET_NAME = MARS
/* CAMERA DATA ELEMENTS */
BUFFER_MODE_ID = BUFFER_8
EXPOSURE_DURATION = 7.056
INST_CMPRS_NAME = NONE
INST_CMPRS_RATIO = 1.0
INST_CMPRS_QUALITY = -2147483648
INST_CMPRS_QUANTZ_TBL_ID = -2147483648
INSTRUMENT_TEMPERATURE = 14.2424
MISSING_FRAMES = 0
START_BIT = 0
/* RADIOMETRIC DATA ELEMENTS */
BANDWIDTH = 250.0
CENTER_FILTER_WAVELENGTH = 600.0
RADIANCE_OFFSET = -9.99e+31
RADIANCE_SCALING_FACTOR = -9.99e+31
REFLECTANCE_SCALING_FACTOR = -9.99e+31
MEX:REFLECTANCE_OFFSET = -9.99e+31
/* IMAGE OBJECT DEFINITIONS */
OBJECT = IMAGE
  INTERCHANGE_FORMAT = BINARY
  LINES = 1394
  LINE_SAMPLES = 1411
  SAMPLE_TYPE = UNSIGNED_INTEGER
  SAMPLE_BITS = 8
  BANDS = 1
  BAND_STORAGE_TYPE = BAND_SEQUENTIAL
  MAXIMUM = 5452
  MEAN = 5063.79
  MINIMUM = 4281
  STANDARD_DEVIATION = 90.4086
END_OBJECT = IMAGE
/* MAP OBJECT DEFINITIONS */
OBJECT = IMAGE_MAP_PROJECTION
  ^DATA_SET_MAP_PROJECTION_CATALOG= "DSMAP.CAT"
  A_AXIS_RADIUS = 3396.19
  B_AXIS_RADIUS = 3396.19
  C_AXIS_RADIUS = 3396.19
  CENTER_LATITUDE = 0.0
  CENTER_LONGITUDE = 302.0
  COORDINATE_SYSTEM_NAME = PLANETOGRAPHIC
  COORDINATE_SYSTEM_TYPE = "BODY-FIXED ROTATING"
  EASTERNMOST_LONGITUDE = 302.364
  FIRST_STANDARD_PARALLEL = "N/A"
  LINE_FIRST_PIXEL = 1
  LINE_LAST_PIXEL = 1394
  LINE_PROJECTION_OFFSET = 706941.0
  MAP_PROJECTION_ROTATION = 0.0
  MAP_PROJECTION_TYPE = SINUSOIDAL
  MAP_RESOLUTION = 11854.9393024378
  MAP_SCALE = 0.005
  MAXIMUM_LATITUDE = 59.7319
  MINIMUM_LATITUDE = 59.6206
  POSITIVE_LONGITUDE_DIRECTION = EAST
  REFERENCE_LATITUDE = "N/A"
  REFERENCE_LONGITUDE = "N/A"
  SAMPLE_FIRST_PIXEL = 1
  SAMPLE_LAST_PIXEL = 1411
  SAMPLE_PROJECTION_OFFSET = -900.0
  SECOND_STANDARD_PARALLEL = "N/A"
  WESTERNMOST_LONGITUDE = 302.142
END_OBJECT = IMAGE_MAP_PROJECTION
/* The JPEG2000 image data file associated with this label. */
OBJECT = COMPRESSED_FILE
  FILE_NAME = "H1590_0003_SR3.JP2"
  RECORD_TYPE = UNDEFINED
  FILE_RECORDS = UNK
  ENCODING_TYPE = "JP2"
  INTERCHANGE_FORMAT = BINARY
  UNCOMPRESSED_FILE_NAME = "H1590_0003_SR3.IMG"
  REQUIRED_STORAGE_BYTES = "1986688"
  ^DESCRIPTION = "JP2INFO.TXT"
END_OBJECT = COMPRESSED_FILE
END
