PDS_VERSION_ID = PDS3
/* FILE DATA ELEMENTS */
RECORD_TYPE = STREAM
/* POINTERS TO DATA OBJECTS */
^COMPRESSED_FILE = "H1550_0034_SR3.JP2"
/* IDENTIFICATION DATA ELEMENTS */
DATA_SET_ID = "MEX-M-HRSC-5-REFDR-MAPPROJECTED-V3.0"
DATA_SET_NAME = "MARS EXPRESS HRSC MAP PROJECTED REFDR V3.0"
DETECTOR_ID = MEX_HRSC_SRC
EVENT_TYPE = "MARS-LOCAL-STEREO-Vo-Te-Pf"
INSTRUMENT_HOST_ID = MEX
INSTRUMENT_HOST_NAME = "MARS EXPRESS"
INSTRUMENT_ID = HRSC
INSTRUMENT_NAME = "HIGH RESOLUTION STEREO CAMERA"
MISSION_NAME = "MARS EXPRESS"
MISSION_PHASE_NAME = MR_Phase_6
PROCESSING_LEVEL_ID = 3
PRODUCT_CREATION_TIME = 2016-03-08T06:50:01.000Z
PRODUCT_ID = "H1550_0034_SR3.JP2"
RELEASE_ID = 0020
REVISION_ID = 0000
/* QUALITY DATA ELEMENTS */
DATA_QUALITY_ID = 1
DATA_QUALITY_DESC = "Data calculated based on original SPICE kernels"
/* TIME DATA ELEMENTS */
SPACECRAFT_CLOCK_START_COUNT = "1/0060460791.56189"
SPACECRAFT_CLOCK_STOP_COUNT = "1/0060461497.02968"
IMAGE_TIME = 2005-04-01T18:50:20.924Z
START_TIME = 2005-04-01T18:50:20.922Z
STOP_TIME = 2005-04-01T18:50:20.927Z
/* ORBITAL DATA ELEMENTS */
ASCENDING_NODE_LONGITUDE = 196.0
MAXIMUM_RESOLUTION = 7.384
FOOTPRINT_POINT_LATITUDE = (45.3149,45.3093,45.3045,45.2995, 45.2925,45.2878,45.2834,45.2796,45.2734 ,45.2654,45.2593,45.2545,45.2506, 45.2448,45.2405,45.237,45.2319,45.2277, 45.2229,45.2196,45.2151,45.2105,45.2043 ,45.1963,45.1961,45.196,45.1958,45.1957 ,45.1955,45.1954,45.1952,45.1951, 45.1949,45.1948,45.1946,45.1944,45.1943 ,45.1941,45.194,45.1938,45.1937,45.1935 ,45.1934,45.1932,45.193,45.1929,45.1927 ,45.1926,45.1937,45.1977,45.2043, 45.2098,45.2134,45.2184,45.2262,45.2315 ,45.2365,45.2437,45.248,45.2539,45.2574 ,45.2629,45.2686,45.2735,45.277,45.283, 45.2899,45.2942,45.2974,45.3021,45.3063 ,45.3095,45.3132,45.3181,45.3183, 45.3184,45.3186,45.3188,45.3189,45.3191 ,45.3192,45.3194,45.3195,45.3197, 45.3199,45.32,45.3202,45.3203,45.3205, 45.3206,45.3208,45.3209,45.3211,45.3212 ,45.3214,45.3215,45.3217,45.3218,45.322 ,45.3149)
FOOTPRINT_POINT_LONGITUDE = (275.675,275.675,275.675,275.675, 275.675,275.676,275.676,275.676,275.676 ,275.677,275.677,275.677,275.677, 275.677,275.678,275.678,275.678,275.678 ,275.678,275.679,275.679,275.679, 275.679,275.679,275.672,275.665,275.658 ,275.651,275.644,275.637,275.63,275.623 ,275.616,275.608,275.601,275.594, 275.587,275.58,275.573,275.566,275.559, 275.552,275.545,275.538,275.531,275.523 ,275.516,275.509,275.499,275.499, 275.499,275.499,275.498,275.498,275.498 ,275.498,275.497,275.497,275.497, 275.497,275.496,275.496,275.496,275.496 ,275.495,275.495,275.495,275.495, 275.495,275.494,275.494,275.494,275.494 ,275.496,275.503,275.51,275.517,275.524 ,275.531,275.538,275.545,275.552, 275.559,275.567,275.574,275.581,275.588 ,275.595,275.602,275.609,275.616, 275.623,275.631,275.638,275.645,275.652 ,275.659,275.666,275.673,275.675)
ORBIT_NUMBER = 1550
ORBITAL_ECCENTRICITY = 0.566
ORBITAL_INCLINATION = 86.59
ORBITAL_SEMIMAJOR_AXIS = 8532.44
PERIAPSIS_ALTITUDE = 327.89
PERIAPSIS_ARGUMENT_ANGLE = 87.45
PERIAPSIS_TIME = 2005-04-01T18:37:20.000Z
SPACECRAFT_ORIENTATION = (0.0,1.0,0.0)
^MEX_ORIENTATION_DESC = "MEX_ORIENTATION_DESC.TXT"
SPACECRAFT_POINTING_MODE = ACROSSTRACK
^MEX_POINTING_DESC = "MEX_POINTING_DESC.TXT"
RIGHT_ASCENSION = -1e+32
DECLINATION = -1e+32
OFFSET_ANGLE = -0.1
SPACECRAFT_SOLAR_DISTANCE = 2.17507e+08
TARGET_NAME = MARS
/* CAMERA DATA ELEMENTS */
BUFFER_MODE_ID = DIRECT
EXPOSURE_DURATION = 5.04
INST_CMPRS_NAME = NONE
INST_CMPRS_RATIO = 1.0
INST_CMPRS_QUALITY = -2147483648
INST_CMPRS_QUANTZ_TBL_ID = -2147483648
INSTRUMENT_TEMPERATURE = 17.2727
MISSING_FRAMES = 0
START_BIT = 0
/* RADIOMETRIC DATA ELEMENTS */
BANDWIDTH = 250.0
CENTER_FILTER_WAVELENGTH = 600.0
RADIANCE_OFFSET = -9.99e+31
RADIANCE_SCALING_FACTOR = -9.99e+31
REFLECTANCE_SCALING_FACTOR = -9.99e+31
MEX:REFLECTANCE_OFFSET = -9.99e+31
/* IMAGE OBJECT DEFINITIONS */
OBJECT = IMAGE
  INTERCHANGE_FORMAT = BINARY
  LINES = 1597
  LINE_SAMPLES = 1605
  SAMPLE_TYPE = UNSIGNED_INTEGER
  SAMPLE_BITS = 8
  BANDS = 1
  BAND_STORAGE_TYPE = BAND_SEQUENTIAL
  MAXIMUM = 6995
  MEAN = 5684.36
  MINIMUM = 4114
  STANDARD_DEVIATION = 608.682
END_OBJECT = IMAGE
/* MAP OBJECT DEFINITIONS */
OBJECT = IMAGE_MAP_PROJECTION
  ^DATA_SET_MAP_PROJECTION_CATALOG= "DSMAP.CAT"
  A_AXIS_RADIUS = 3396.19
  B_AXIS_RADIUS = 3396.19
  C_AXIS_RADIUS = 3396.19
  CENTER_LATITUDE = 0.0
  CENTER_LONGITUDE = 276.0
  COORDINATE_SYSTEM_NAME = PLANETOGRAPHIC
  COORDINATE_SYSTEM_TYPE = "BODY-FIXED ROTATING"
  EASTERNMOST_LONGITUDE = 275.679
  FIRST_STANDARD_PARALLEL = "N/A"
  LINE_FIRST_PIXEL = 1
  LINE_LAST_PIXEL = 1597
  LINE_PROJECTION_OFFSET = 536746.0
  MAP_PROJECTION_ROTATION = 0.0
  MAP_PROJECTION_TYPE = SINUSOIDAL
  MAP_RESOLUTION = 11854.9393024378
  MAP_SCALE = 0.005
  MAXIMUM_LATITUDE = 45.322
  MINIMUM_LATITUDE = 45.1926
  POSITIVE_LONGITUDE_DIRECTION = EAST
  REFERENCE_LATITUDE = "N/A"
  REFERENCE_LONGITUDE = "N/A"
  SAMPLE_FIRST_PIXEL = 1
  SAMPLE_LAST_PIXEL = 1605
  SAMPLE_PROJECTION_OFFSET = 4261.0
  SECOND_STANDARD_PARALLEL = "N/A"
  WESTERNMOST_LONGITUDE = 275.494
END_OBJECT = IMAGE_MAP_PROJECTION
/* The JPEG2000 image data file associated with this label. */
OBJECT = COMPRESSED_FILE
  FILE_NAME = "H1550_0034_SR3.JP2"
  RECORD_TYPE = UNDEFINED
  FILE_RECORDS = UNK
  ENCODING_TYPE = "JP2"
  INTERCHANGE_FORMAT = BINARY
  UNCOMPRESSED_FILE_NAME = "H1550_0034_SR3.IMG"
  REQUIRED_STORAGE_BYTES = "2582445"
  ^DESCRIPTION = "JP2INFO.TXT"
END_OBJECT = COMPRESSED_FILE
END
