PDS_VERSION_ID = PDS3
/* FILE DATA ELEMENTS */
RECORD_TYPE = STREAM
/* POINTERS TO DATA OBJECTS */
^COMPRESSED_FILE = "H1532_0004_SR3.JP2"
/* IDENTIFICATION DATA ELEMENTS */
DATA_SET_ID = "MEX-M-HRSC-5-REFDR-MAPPROJECTED-V3.0"
DATA_SET_NAME = "MARS EXPRESS HRSC MAP PROJECTED REFDR V3.0"
DETECTOR_ID = MEX_HRSC_SRC
EVENT_TYPE = "MARS-REGIONAL-MAPPING-Vo-Te-Ot"
INSTRUMENT_HOST_ID = MEX
INSTRUMENT_HOST_NAME = "MARS EXPRESS"
INSTRUMENT_ID = HRSC
INSTRUMENT_NAME = "HIGH RESOLUTION STEREO CAMERA"
MISSION_NAME = "MARS EXPRESS"
MISSION_PHASE_NAME = MR_Phase_6
PROCESSING_LEVEL_ID = 3
PRODUCT_CREATION_TIME = 2016-03-08T06:50:01.000Z
PRODUCT_ID = "H1532_0004_SR3.JP2"
RELEASE_ID = 0020
REVISION_ID = 0000
/* QUALITY DATA ELEMENTS */
DATA_QUALITY_ID = 1
DATA_QUALITY_DESC = "Data calculated based on original SPICE kernels"
/* TIME DATA ELEMENTS */
SPACECRAFT_CLOCK_START_COUNT = "1/0060025098.57156"
SPACECRAFT_CLOCK_STOP_COUNT = "1/0060025674.64909"
IMAGE_TIME = 2005-03-27T17:42:02.993Z
START_TIME = 2005-03-27T17:42:02.990Z
STOP_TIME = 2005-03-27T17:42:02.995Z
/* ORBITAL DATA ELEMENTS */
ASCENDING_NODE_LONGITUDE = 196.38
MAXIMUM_RESOLUTION = 3.698
FOOTPRINT_POINT_LATITUDE = (69.8934,69.8902,69.888,69.8853,69.8835 ,69.8808,69.8777,69.874,69.8716,69.8684 ,69.8661,69.8632,69.8603,69.8582, 69.8565,69.8549,69.8524,69.8505,69.848, 69.8445,69.8422,69.8396,69.8368,69.8348 ,69.8321,69.8317,69.8313,69.8309, 69.8305,69.8302,69.8298,69.8294,69.829, 69.8286,69.8282,69.8278,69.8274,69.827, 69.8266,69.8262,69.8259,69.8255,69.8251 ,69.8247,69.8243,69.8239,69.8235, 69.8231,69.8225,69.8251,69.8287,69.8322 ,69.835,69.8377,69.8396,69.8413,69.8439 ,69.8457,69.8475,69.8499,69.8515, 69.8541,69.857,69.8591,69.8617,69.8641, 69.8661,69.8687,69.8703,69.8727,69.8749 ,69.8776,69.8814,69.8832,69.885,69.8854 ,69.8858,69.8862,69.8866,69.887,69.8873 ,69.8877,69.8881,69.8885,69.8889, 69.8893,69.8897,69.8901,69.8905,69.8909 ,69.8913,69.8917,69.8921,69.8924, 69.8928,69.8932,69.8936,69.894,69.8944, 69.8934)
FOOTPRINT_POINT_LONGITUDE = (241.128,241.13,241.131,241.132,241.133 ,241.134,241.136,241.137,241.138,241.14 ,241.141,241.142,241.143,241.144, 241.145,241.146,241.147,241.148,241.149 ,241.151,241.152,241.153,241.154, 241.155,241.152,241.145,241.138,241.131 ,241.124,241.116,241.109,241.102, 241.095,241.088,241.08,241.073,241.066, 241.059,241.052,241.045,241.037,241.03, 241.023,241.016,241.009,241.001,240.994 ,240.987,240.976,240.972,240.97,240.969 ,240.967,240.966,240.965,240.965, 240.963,240.963,240.962,240.961,240.96, 240.959,240.957,240.956,240.955,240.954 ,240.953,240.952,240.951,240.95,240.949 ,240.948,240.946,240.945,240.948, 240.955,240.963,240.97,240.977,240.984, 240.991,240.999,241.006,241.013,241.02, 241.028,241.035,241.042,241.049,241.056 ,241.064,241.071,241.078,241.085, 241.092,241.1,241.107,241.114,241.121, 241.128)
ORBIT_NUMBER = 1532
ORBITAL_ECCENTRICITY = 0.566
ORBITAL_INCLINATION = 86.61
ORBITAL_SEMIMAJOR_AXIS = 8531.27
PERIAPSIS_ALTITUDE = 327.45
PERIAPSIS_ARGUMENT_ANGLE = 90.65
PERIAPSIS_TIME = 2005-03-27T17:37:07.000Z
SPACECRAFT_ORIENTATION = (0.0,1.0,0.0)
^MEX_ORIENTATION_DESC = "MEX_ORIENTATION_DESC.TXT"
SPACECRAFT_POINTING_MODE = ACROSSTRACK
^MEX_POINTING_DESC = "MEX_POINTING_DESC.TXT"
RIGHT_ASCENSION = -1e+32
DECLINATION = -1e+32
OFFSET_ANGLE = -0.1
SPACECRAFT_SOLAR_DISTANCE = 2.18414e+08
TARGET_NAME = MARS
/* CAMERA DATA ELEMENTS */
BUFFER_MODE_ID = BUFFER_8
EXPOSURE_DURATION = 5.04
INST_CMPRS_NAME = NONE
INST_CMPRS_RATIO = 1.0
INST_CMPRS_QUALITY = -2147483648
INST_CMPRS_QUANTZ_TBL_ID = -2147483648
INSTRUMENT_TEMPERATURE = 11.2121
MISSING_FRAMES = 0
START_BIT = 0
/* RADIOMETRIC DATA ELEMENTS */
BANDWIDTH = 250.0
CENTER_FILTER_WAVELENGTH = 600.0
RADIANCE_OFFSET = -9.99e+31
RADIANCE_SCALING_FACTOR = -9.99e+31
REFLECTANCE_SCALING_FACTOR = -9.99e+31
MEX:REFLECTANCE_OFFSET = -9.99e+31
/* IMAGE OBJECT DEFINITIONS */
OBJECT = IMAGE
  INTERCHANGE_FORMAT = BINARY
  LINES = 1831
  LINE_SAMPLES = 1845
  SAMPLE_TYPE = UNSIGNED_INTEGER
  SAMPLE_BITS = 8
  BANDS = 1
  BAND_STORAGE_TYPE = BAND_SEQUENTIAL
  MAXIMUM = 3485
  MEAN = 3182.58
  MINIMUM = 2711
  STANDARD_DEVIATION = 64.9983
END_OBJECT = IMAGE
/* MAP OBJECT DEFINITIONS */
OBJECT = IMAGE_MAP_PROJECTION
  ^DATA_SET_MAP_PROJECTION_CATALOG= "DSMAP.CAT"
  A_AXIS_RADIUS = 3396.19
  B_AXIS_RADIUS = 3396.19
  C_AXIS_RADIUS = 3396.19
  CENTER_LATITUDE = 0.0
  CENTER_LONGITUDE = 241.0
  COORDINATE_SYSTEM_NAME = PLANETOGRAPHIC
  COORDINATE_SYSTEM_TYPE = "BODY-FIXED ROTATING"
  EASTERNMOST_LONGITUDE = 241.155
  FIRST_STANDARD_PARALLEL = "N/A"
  LINE_FIRST_PIXEL = 1
  LINE_LAST_PIXEL = 1831
  LINE_PROJECTION_OFFSET = 1653653.0
  MAP_PROJECTION_ROTATION = 0.0
  MAP_PROJECTION_TYPE = SINUSOIDAL
  MAP_RESOLUTION = 23709.8786048756
  MAP_SCALE = 0.0025
  MAXIMUM_LATITUDE = 69.8944
  MINIMUM_LATITUDE = 69.82250000000001
  POSITIVE_LONGITUDE_DIRECTION = EAST
  REFERENCE_LATITUDE = "N/A"
  REFERENCE_LONGITUDE = "N/A"
  SAMPLE_FIRST_PIXEL = 1
  SAMPLE_LAST_PIXEL = 1845
  SAMPLE_PROJECTION_OFFSET = 638.0
  SECOND_STANDARD_PARALLEL = "N/A"
  WESTERNMOST_LONGITUDE = 240.945
END_OBJECT = IMAGE_MAP_PROJECTION
/* The JPEG2000 image data file associated with this label. */
OBJECT = COMPRESSED_FILE
  FILE_NAME = "H1532_0004_SR3.JP2"
  RECORD_TYPE = UNDEFINED
  FILE_RECORDS = UNK
  ENCODING_TYPE = "JP2"
  INTERCHANGE_FORMAT = BINARY
  UNCOMPRESSED_FILE_NAME = "H1532_0004_SR3.IMG"
  REQUIRED_STORAGE_BYTES = "3396645"
  ^DESCRIPTION = "JP2INFO.TXT"
END_OBJECT = COMPRESSED_FILE
END
