PDS_VERSION_ID = PDS3
/* FILE DATA ELEMENTS */
RECORD_TYPE = UNDEFINED
/* POINTERS TO DATA OBJECTS */
^IMAGE = ("H0103_0015_SR4.TIF")
/* IDENTIFICATION DATA ELEMENTS */
DATA_SET_ID = "MEX-M-HRSC-4-REFDR-MAPPROJECT-V4.0"
DATA_SET_NAME = "MARS EXPRESS HRSC MAP PROJECTED REFDR V4.0"
DETECTOR_ID = MEX_HRSC_SRC
EVENT_TYPE = "MARS-REGIONAL-MAPPING-Fl-Mw"
INSTRUMENT_HOST_ID = MEX
INSTRUMENT_HOST_NAME = "MARS EXPRESS"
INSTRUMENT_ID = HRSC
INSTRUMENT_NAME = "HIGH RESOLUTION STEREO CAMERA"
MISSION_NAME = "MARS EXPRESS"
MISSION_PHASE_NAME = MC_Phase_2
PROCESSING_LEVEL_ID = 4
PRODUCT_CREATION_TIME = 2022-11-22T09:57:07.000Z
PRODUCT_ID = "H0103_0015_SR4.TIF"
RELEASE_ID = 0002
REVISION_ID = 0000
/* QUALITY DATA ELEMENTS */
DATA_QUALITY_ID = 1
DATA_QUALITY_DESC = "Data calculated based on original SPICE kernels"
/* TIME DATA ELEMENTS */
SPACECRAFT_CLOCK_START_COUNT = "1/0024599406.57157"
SPACECRAFT_CLOCK_STOP_COUNT = "1/0024599857.13084"
IMAGE_TIME = 2004-02-11T17:12:04.036Z
START_TIME = 2004-02-11T17:12:04.034Z
STOP_TIME = 2004-02-11T17:12:04.037Z
/* ORBITAL DATA ELEMENTS */
ASCENDING_NODE_LONGITUDE = 226.86
MAXIMUM_RESOLUTION = 0.002856
FOOTPRINT_POINT_LATITUDE = (-3.75522,-3.75286,-3.74977,-3.74658, -3.74408,-3.74253,-3.74026,-3.73766, -3.73578,-3.73341,-3.73129,-3.72984, -3.7283,-3.72666,-3.72434,-3.72232, -3.71956,-3.71763,-3.71566,-3.71421, -3.71122,-3.709,-3.70668,-3.70663, -3.70663,-3.70663,-3.70663,-3.70662, -3.70662,-3.70662,-3.70662,-3.70661, -3.70661,-3.70661,-3.7066,-3.7066, -3.7066,-3.7066,-3.70659,-3.70659, -3.70659,-3.70658,-3.70658,-3.70658, -3.70658,-3.70657,-3.70657,-3.70657, -3.70656,-3.70656,-3.70656,-3.70656, -3.7097,-3.71139,-3.71419,-3.71607, -3.71785,-3.71954,-3.72205,-3.72528, -3.72784,-3.73006,-3.73276,-3.73542, -3.73754,-3.74072,-3.74294,-3.74463, -3.74651,-3.74801,-3.74951,-3.75144, -3.75308,-3.7551,-3.75515,-3.75515, -3.75515,-3.75515,-3.75516,-3.75516, -3.75516,-3.75516,-3.75517,-3.75517, -3.75517,-3.75518,-3.75518,-3.75519, -3.75519,-3.75519,-3.7552,-3.7552, -3.7552,-3.75521,-3.75521,-3.75521, -3.75521,-3.75522,-3.75522,-3.75522)
FOOTPRINT_POINT_LONGITUDE = (333.931,333.931,333.931,333.931, 333.931,333.931,333.931,333.931,333.931 ,333.931,333.931,333.931,333.931, 333.931,333.931,333.931,333.931,333.931 ,333.931,333.931,333.931,333.931, 333.931,333.931,333.931,333.934,333.936 ,333.937,333.939,333.941,333.943, 333.945,333.947,333.949,333.95,333.952, 333.954,333.956,333.958,333.96,333.963, 333.964,333.966,333.968,333.97,333.972, 333.974,333.976,333.978,333.979,333.98, 333.98,333.98,333.98,333.98,333.98, 333.98,333.98,333.98,333.98,333.98, 333.98,333.98,333.98,333.98,333.98, 333.98,333.98,333.98,333.98,333.98, 333.98,333.98,333.98,333.98,333.98, 333.979,333.977,333.976,333.974,333.973 ,333.971,333.968,333.965,333.963,333.96 ,333.957,333.955,333.953,333.951, 333.948,333.945,333.943,333.942,333.939 ,333.937,333.935,333.932,333.931, 333.931)
ORBIT_NUMBER = 103
ORBITAL_ECCENTRICITY = 0.608
ORBITAL_INCLINATION = 86.6
ORBITAL_SEMIMAJOR_AXIS = 9333.55
PERIAPSIS_ALTITUDE = 269.05
PERIAPSIS_ARGUMENT_ANGLE = 342.26
PERIAPSIS_TIME = 2004-02-11T17:08:37.000Z
SPACECRAFT_ORIENTATION = (0.0,1.0,0.0)
^MEX_ORIENTATION_DESC = "MEX_ORIENTATION_DESC.TXT"
SPACECRAFT_POINTING_MODE = NADIR
^MEX_POINTING_DESC = "MEX_POINTING_DESC.TXT"
RIGHT_ASCENSION = -1e+32
DECLINATION = -1e+32
OFFSET_ANGLE = -1e+32
SPACECRAFT_SOLAR_DISTANCE = 2.28666e+08
TARGET_NAME = MARS
/* CAMERA DATA ELEMENTS */
BUFFER_MODE_ID = BUFFER_8
EXPOSURE_DURATION = 3.528
INST_CMPRS_NAME = NONE
INST_CMPRS_RATIO = 1.0
INST_CMPRS_QUALITY = -2147483648
INST_CMPRS_QUANTZ_TBL_ID = -2147483648
INSTRUMENT_TEMPERATURE = 20.2597
MISSING_FRAMES = 0
START_BIT = 0
/* RADIOMETRIC DATA ELEMENTS */
BANDWIDTH = 250.0
CENTER_FILTER_WAVELENGTH = 600.0
RADIANCE_OFFSET = -9.99e+31
RADIANCE_SCALING_FACTOR = -9.99e+31
REFLECTANCE_SCALING_FACTOR = -9.99e+31
MEX:REFLECTANCE_OFFSET = -9.99e+31
/* IMAGE OBJECT DEFINITIONS */
OBJECT = IMAGE
  INTERCHANGE_FORMAT = BINARY
  LINES = 1195
  LINE_SAMPLES = 1206
  SAMPLE_TYPE = UNSIGNED_INTEGER
  SAMPLE_BITS = 8
  BANDS = 1
  BAND_STORAGE_TYPE = BAND_SEQUENTIAL
  MAXIMUM = 254
  MEAN = 104.066
  MINIMUM = 2
  STANDARD_DEVIATION = 33.6941
END_OBJECT = IMAGE
/* MAP OBJECT DEFINITIONS */
OBJECT = IMAGE_MAP_PROJECTION
  ^DATA_SET_MAP_PROJECTION_CATALOG= "DSMAP.CAT"
  A_AXIS_RADIUS = 3396.19
  B_AXIS_RADIUS = 3396.19
  C_AXIS_RADIUS = 3396.19
  CENTER_LATITUDE = 0.0
  CENTER_LONGITUDE = 334.0
  COORDINATE_SYSTEM_NAME = PLANETOGRAPHIC
  COORDINATE_SYSTEM_TYPE = "BODY-FIXED ROTATING"
  EASTERNMOST_LONGITUDE = 333.98
  FIRST_STANDARD_PARALLEL = "N/A"
  LINE_FIRST_PIXEL = 1
  LINE_LAST_PIXEL = 1195
  LINE_PROJECTION_OFFSET = -87861.0
  MAP_PROJECTION_ROTATION = 0.0
  MAP_PROJECTION_TYPE = SINUSOIDAL
  MAP_RESOLUTION = 23709.8786048756
  MAP_SCALE = 0.0025
  MAXIMUM_LATITUDE = -3.70656
  MINIMUM_LATITUDE = -3.75522
  POSITIVE_LONGITUDE_DIRECTION = EAST
  REFERENCE_LATITUDE = "N/A"
  REFERENCE_LONGITUDE = "N/A"
  SAMPLE_FIRST_PIXEL = 1
  SAMPLE_LAST_PIXEL = 1206
  SAMPLE_PROJECTION_OFFSET = 1651.0
  SECOND_STANDARD_PARALLEL = "N/A"
  WESTERNMOST_LONGITUDE = 333.931
END_OBJECT = IMAGE_MAP_PROJECTION
END
