PDS_VERSION_ID = PDS3
/* FILE DATA ELEMENTS */
RECORD_TYPE = UNDEFINED
/* POINTERS TO DATA OBJECTS */
^IMAGE = ("H0103_0014_SR4.TIF")
/* IDENTIFICATION DATA ELEMENTS */
DATA_SET_ID = "MEX-M-HRSC-4-REFDR-MAPPROJECT-V4.0"
DATA_SET_NAME = "MARS EXPRESS HRSC MAP PROJECTED REFDR V4.0"
DETECTOR_ID = MEX_HRSC_SRC
EVENT_TYPE = "MARS-REGIONAL-MAPPING-Fl-Mw"
INSTRUMENT_HOST_ID = MEX
INSTRUMENT_HOST_NAME = "MARS EXPRESS"
INSTRUMENT_ID = HRSC
INSTRUMENT_NAME = "HIGH RESOLUTION STEREO CAMERA"
MISSION_NAME = "MARS EXPRESS"
MISSION_PHASE_NAME = MC_Phase_2
PROCESSING_LEVEL_ID = 4
PRODUCT_CREATION_TIME = 2022-11-22T09:57:07.000Z
PRODUCT_ID = "H0103_0014_SR4.TIF"
RELEASE_ID = 0002
REVISION_ID = 0000
/* QUALITY DATA ELEMENTS */
DATA_QUALITY_ID = 1
DATA_QUALITY_DESC = "Data calculated based on original SPICE kernels"
/* TIME DATA ELEMENTS */
SPACECRAFT_CLOCK_START_COUNT = "1/0024599406.57157"
SPACECRAFT_CLOCK_STOP_COUNT = "1/0024599857.13084"
IMAGE_TIME = 2004-02-11T17:12:03.491Z
START_TIME = 2004-02-11T17:12:03.489Z
STOP_TIME = 2004-02-11T17:12:03.492Z
/* ORBITAL DATA ELEMENTS */
ASCENDING_NODE_LONGITUDE = 226.86
MAXIMUM_RESOLUTION = 0.002854
FOOTPRINT_POINT_LATITUDE = (-3.79132,-3.78829,-3.78564,-3.78376, -3.78096,-3.7786,-3.77701,-3.77431, -3.77175,-3.76982,-3.76775,-3.76476, -3.76153,-3.75873,-3.75608,-3.75415, -3.75193,-3.75044,-3.74812,-3.74658, -3.74504,-3.74282,-3.74277,-3.74277, -3.74277,-3.74276,-3.74276,-3.74276, -3.74275,-3.74275,-3.74275,-3.74275, -3.74274,-3.74274,-3.74274,-3.74273, -3.74273,-3.74273,-3.74273,-3.74272, -3.74272,-3.74272,-3.74272,-3.74271, -3.74271,-3.74271,-3.7427,-3.7427, -3.7427,-3.7427,-3.74472,-3.74873, -3.75148,-3.75461,-3.7575,-3.75914, -3.76112,-3.76281,-3.76517,-3.76715, -3.76941,-3.77115,-3.7738,-3.77669, -3.77896,-3.78045,-3.78248,-3.78465, -3.78619,-3.78807,-3.78966,-3.79121, -3.79125,-3.79125,-3.79126,-3.79126, -3.79126,-3.79127,-3.79127,-3.79127, -3.79127,-3.79128,-3.79128,-3.79128, -3.79129,-3.79129,-3.79129,-3.7913, -3.7913,-3.7913,-3.7913,-3.79131, -3.79131,-3.79131,-3.79132,-3.79132, -3.79132,-3.79132,-3.79132,-3.79132)
FOOTPRINT_POINT_LONGITUDE = (333.931,333.931,333.931,333.931, 333.931,333.931,333.931,333.931,333.931 ,333.931,333.931,333.931,333.931, 333.931,333.931,333.931,333.931,333.931 ,333.931,333.931,333.931,333.931, 333.931,333.931,333.933,333.936,333.937 ,333.94,333.942,333.944,333.946,333.948 ,333.95,333.951,333.954,333.956,333.958 ,333.96,333.962,333.964,333.965,333.967 ,333.969,333.971,333.973,333.975, 333.977,333.979,333.98,333.98,333.98, 333.98,333.98,333.98,333.98,333.98, 333.98,333.98,333.98,333.98,333.98, 333.98,333.98,333.98,333.98,333.98, 333.98,333.98,333.98,333.98,333.98, 333.98,333.98,333.98,333.978,333.977, 333.975,333.973,333.971,333.969,333.967 ,333.964,333.962,333.959,333.958, 333.956,333.954,333.952,333.95,333.948, 333.946,333.944,333.942,333.94,333.938, 333.936,333.935,333.932,333.931, 333.931)
ORBIT_NUMBER = 103
ORBITAL_ECCENTRICITY = 0.608
ORBITAL_INCLINATION = 86.6
ORBITAL_SEMIMAJOR_AXIS = 9333.55
PERIAPSIS_ALTITUDE = 269.05
PERIAPSIS_ARGUMENT_ANGLE = 342.26
PERIAPSIS_TIME = 2004-02-11T17:08:37.000Z
SPACECRAFT_ORIENTATION = (0.0,1.0,0.0)
^MEX_ORIENTATION_DESC = "MEX_ORIENTATION_DESC.TXT"
SPACECRAFT_POINTING_MODE = NADIR
^MEX_POINTING_DESC = "MEX_POINTING_DESC.TXT"
RIGHT_ASCENSION = -1e+32
DECLINATION = -1e+32
OFFSET_ANGLE = -1e+32
SPACECRAFT_SOLAR_DISTANCE = 2.28666e+08
TARGET_NAME = MARS
/* CAMERA DATA ELEMENTS */
BUFFER_MODE_ID = BUFFER_8
EXPOSURE_DURATION = 3.528
INST_CMPRS_NAME = NONE
INST_CMPRS_RATIO = 1.0
INST_CMPRS_QUALITY = -2147483648
INST_CMPRS_QUANTZ_TBL_ID = -2147483648
INSTRUMENT_TEMPERATURE = 20.2597
MISSING_FRAMES = 0
START_BIT = 0
/* RADIOMETRIC DATA ELEMENTS */
BANDWIDTH = 250.0
CENTER_FILTER_WAVELENGTH = 600.0
RADIANCE_OFFSET = -9.99e+31
RADIANCE_SCALING_FACTOR = -9.99e+31
REFLECTANCE_SCALING_FACTOR = -9.99e+31
MEX:REFLECTANCE_OFFSET = -9.99e+31
/* IMAGE OBJECT DEFINITIONS */
OBJECT = IMAGE
  INTERCHANGE_FORMAT = BINARY
  LINES = 1194
  LINE_SAMPLES = 1204
  SAMPLE_TYPE = UNSIGNED_INTEGER
  SAMPLE_BITS = 8
  BANDS = 1
  BAND_STORAGE_TYPE = BAND_SEQUENTIAL
  MAXIMUM = 250
  MEAN = 115.445
  MINIMUM = 9
  STANDARD_DEVIATION = 30.409
END_OBJECT = IMAGE
/* MAP OBJECT DEFINITIONS */
OBJECT = IMAGE_MAP_PROJECTION
  ^DATA_SET_MAP_PROJECTION_CATALOG= "DSMAP.CAT"
  A_AXIS_RADIUS = 3396.19
  B_AXIS_RADIUS = 3396.19
  C_AXIS_RADIUS = 3396.19
  CENTER_LATITUDE = 0.0
  CENTER_LONGITUDE = 334.0
  COORDINATE_SYSTEM_NAME = PLANETOGRAPHIC
  COORDINATE_SYSTEM_TYPE = "BODY-FIXED ROTATING"
  EASTERNMOST_LONGITUDE = 333.98
  FIRST_STANDARD_PARALLEL = "N/A"
  LINE_FIRST_PIXEL = 1
  LINE_LAST_PIXEL = 1194
  LINE_PROJECTION_OFFSET = -88718.0
  MAP_PROJECTION_ROTATION = 0.0
  MAP_PROJECTION_TYPE = SINUSOIDAL
  MAP_RESOLUTION = 23709.8786048756
  MAP_SCALE = 0.0025
  MAXIMUM_LATITUDE = -3.7427
  MINIMUM_LATITUDE = -3.79132
  POSITIVE_LONGITUDE_DIRECTION = EAST
  REFERENCE_LATITUDE = "N/A"
  REFERENCE_LONGITUDE = "N/A"
  SAMPLE_FIRST_PIXEL = 1
  SAMPLE_LAST_PIXEL = 1204
  SAMPLE_PROJECTION_OFFSET = 1649.0
  SECOND_STANDARD_PARALLEL = "N/A"
  WESTERNMOST_LONGITUDE = 333.931
END_OBJECT = IMAGE_MAP_PROJECTION
END
