PDS_VERSION_ID = PDS3
/* FILE DATA ELEMENTS */
RECORD_TYPE = UNDEFINED
/* POINTERS TO DATA OBJECTS */
^IMAGE = ("H0103_0004_SR4.TIF")
/* IDENTIFICATION DATA ELEMENTS */
DATA_SET_ID = "MEX-M-HRSC-4-REFDR-MAPPROJECT-V4.0"
DATA_SET_NAME = "MARS EXPRESS HRSC MAP PROJECTED REFDR V4.0"
DETECTOR_ID = MEX_HRSC_SRC
EVENT_TYPE = "MARS-GLOBAL-COLOR-Gl-Pf-La"
INSTRUMENT_HOST_ID = MEX
INSTRUMENT_HOST_NAME = "MARS EXPRESS"
INSTRUMENT_ID = HRSC
INSTRUMENT_NAME = "HIGH RESOLUTION STEREO CAMERA"
MISSION_NAME = "MARS EXPRESS"
MISSION_PHASE_NAME = MC_Phase_2
PROCESSING_LEVEL_ID = 4
PRODUCT_CREATION_TIME = 2022-11-22T09:57:07.000Z
PRODUCT_ID = "H0103_0004_SR4.TIF"
RELEASE_ID = 0002
REVISION_ID = 0000
/* QUALITY DATA ELEMENTS */
DATA_QUALITY_ID = 1
DATA_QUALITY_DESC = "Data calculated based on original SPICE kernels"
/* TIME DATA ELEMENTS */
SPACECRAFT_CLOCK_START_COUNT = "1/0024597477.57307"
SPACECRAFT_CLOCK_STOP_COUNT = "1/0024598387.15100"
IMAGE_TIME = 2004-02-11T16:49:38.760Z
START_TIME = 2004-02-11T16:49:38.758Z
STOP_TIME = 2004-02-11T16:49:38.762Z
/* ORBITAL DATA ELEMENTS */
ASCENDING_NODE_LONGITUDE = 226.86
MAXIMUM_RESOLUTION = 0.011882
FOOTPRINT_POINT_LATITUDE = (-81.7439,-81.7378,-81.7308,-81.7226, -81.7171,-81.7095,-81.7027,-81.6961, -81.6836,-81.6764,-81.6709,-81.665, -81.6553,-81.645,-81.6365,-81.6286, -81.6231,-81.6146,-81.6071,-81.5995, -81.592,-81.5826,-81.5745,-81.5588, -81.5586,-81.5587,-81.5635,-81.5676, -81.5708,-81.574,-81.5772,-81.5804, -81.5853,-81.5884,-81.5916,-81.5948, -81.598,-81.6011,-81.6043,-81.609, -81.6122,-81.6153,-81.6184,-81.6215, -81.6247,-81.6285,-81.6316,-81.6347, -81.6378,-81.6386,-81.6391,-81.6554, -81.6625,-81.6696,-81.6809,-81.6898, -81.6954,-81.7036,-81.711,-81.7174, -81.7307,-81.7389,-81.7469,-81.753, -81.7642,-81.7738,-81.7797,-81.792, -81.8003,-81.8113,-81.8202,-81.8259, -81.8261,-81.826,-81.8221,-81.8189, -81.8158,-81.8126,-81.8094,-81.8062, -81.8014,-81.7982,-81.795,-81.7918, -81.7885,-81.7853,-81.7805,-81.7772, -81.7739,-81.7707,-81.7674,-81.7641, -81.7617,-81.7592,-81.7568,-81.7535, -81.7477,-81.7452,-81.7444,-81.7439)
FOOTPRINT_POINT_LONGITUDE = (314.849,314.868,314.89,314.916,314.934 ,314.957,314.978,314.999,315.038,315.06 ,315.077,315.095,315.125,315.157, 315.182,315.207,315.224,315.249,315.272 ,315.295,315.318,315.346,315.371, 315.418,315.419,315.42,315.495,315.558, 315.608,315.659,315.709,315.76,315.836, 315.886,315.937,315.987,316.038,316.089 ,316.14,316.216,316.267,316.317,316.368 ,316.419,316.47,316.534,316.585,316.636 ,316.688,316.7,316.708,316.661,316.641, 316.621,316.588,316.562,316.546,316.523 ,316.501,316.483,316.444,316.42,316.397 ,316.379,316.346,316.318,316.3,316.264, 316.239,316.207,316.18,316.163,316.162, 316.161,316.096,316.044,315.992,315.94, 315.888,315.836,315.758,315.706,315.655 ,315.603,315.551,315.499,315.422,315.37 ,315.319,315.267,315.216,315.165, 315.126,315.088,315.049,314.998,314.908 ,314.87,314.857,314.849)
ORBIT_NUMBER = 103
ORBITAL_ECCENTRICITY = 0.608
ORBITAL_INCLINATION = 86.6
ORBITAL_SEMIMAJOR_AXIS = 9333.55
PERIAPSIS_ALTITUDE = 269.05
PERIAPSIS_ARGUMENT_ANGLE = 342.26
PERIAPSIS_TIME = 2004-02-11T17:08:37.000Z
SPACECRAFT_ORIENTATION = (0.0,1.0,0.0)
^MEX_ORIENTATION_DESC = "MEX_ORIENTATION_DESC.TXT"
SPACECRAFT_POINTING_MODE = NADIR
^MEX_POINTING_DESC = "MEX_POINTING_DESC.TXT"
RIGHT_ASCENSION = -1e+32
DECLINATION = -1e+32
OFFSET_ANGLE = -1e+32
SPACECRAFT_SOLAR_DISTANCE = 2.28666e+08
TARGET_NAME = MARS
/* CAMERA DATA ELEMENTS */
BUFFER_MODE_ID = BUFFER_8
EXPOSURE_DURATION = 3.528
INST_CMPRS_NAME = NONE
INST_CMPRS_RATIO = 1.0
INST_CMPRS_QUALITY = -2147483648
INST_CMPRS_QUANTZ_TBL_ID = -2147483648
INSTRUMENT_TEMPERATURE = 20.2597
MISSING_FRAMES = 0
START_BIT = 0
/* RADIOMETRIC DATA ELEMENTS */
BANDWIDTH = 250.0
CENTER_FILTER_WAVELENGTH = 600.0
RADIANCE_OFFSET = -9.99e+31
RADIANCE_SCALING_FACTOR = -9.99e+31
REFLECTANCE_SCALING_FACTOR = -9.99e+31
MEX:REFLECTANCE_OFFSET = -9.99e+31
/* IMAGE OBJECT DEFINITIONS */
OBJECT = IMAGE
  INTERCHANGE_FORMAT = BINARY
  LINES = 1650
  LINE_SAMPLES = 1654
  SAMPLE_TYPE = UNSIGNED_INTEGER
  SAMPLE_BITS = 8
  BANDS = 1
  BAND_STORAGE_TYPE = BAND_SEQUENTIAL
  MAXIMUM = 252
  MEAN = 127.477
  MINIMUM = 14
  STANDARD_DEVIATION = 22.2418
END_OBJECT = IMAGE
/* MAP OBJECT DEFINITIONS */
OBJECT = IMAGE_MAP_PROJECTION
  ^DATA_SET_MAP_PROJECTION_CATALOG= "DSMAP.CAT"
  A_AXIS_RADIUS = 3396.19
  B_AXIS_RADIUS = 3396.19
  C_AXIS_RADIUS = 3396.19
  CENTER_LATITUDE = 0.0
  CENTER_LONGITUDE = 316.0
  COORDINATE_SYSTEM_NAME = PLANETOGRAPHIC
  COORDINATE_SYSTEM_TYPE = "BODY-FIXED ROTATING"
  EASTERNMOST_LONGITUDE = 316.708
  FIRST_STANDARD_PARALLEL = "N/A"
  LINE_FIRST_PIXEL = 1
  LINE_LAST_PIXEL = 1650
  LINE_PROJECTION_OFFSET = -482106.0
  MAP_PROJECTION_ROTATION = 0.0
  MAP_PROJECTION_TYPE = SINUSOIDAL
  MAP_RESOLUTION = 5927.46965121889
  MAP_SCALE = 0.01
  MAXIMUM_LATITUDE = -81.5586
  MINIMUM_LATITUDE = -81.8261
  POSITIVE_LONGITUDE_DIRECTION = EAST
  REFERENCE_LATITUDE = "N/A"
  REFERENCE_LONGITUDE = "N/A"
  SAMPLE_FIRST_PIXEL = 1
  SAMPLE_LAST_PIXEL = 1654
  SAMPLE_PROJECTION_OFFSET = 998.0
  SECOND_STANDARD_PARALLEL = "N/A"
  WESTERNMOST_LONGITUDE = 314.849
END_OBJECT = IMAGE_MAP_PROJECTION
END
