PDS_VERSION_ID = PDS3
/* FILE DATA ELEMENTS */
RECORD_TYPE = UNDEFINED
/* POINTERS TO DATA OBJECTS */
^IMAGE = ("H0100_0012_SR4.TIF")
/* IDENTIFICATION DATA ELEMENTS */
DATA_SET_ID = "MEX-M-HRSC-4-REFDR-MAPPROJECT-V4.0"
DATA_SET_NAME = "MARS EXPRESS HRSC MAP PROJECTED REFDR V4.0"
DETECTOR_ID = MEX_HRSC_SRC
EVENT_TYPE = "MARS-REGIONAL-STEREO-Fl-Mw-Ts"
INSTRUMENT_HOST_ID = MEX
INSTRUMENT_HOST_NAME = "MARS EXPRESS"
INSTRUMENT_ID = HRSC
INSTRUMENT_NAME = "HIGH RESOLUTION STEREO CAMERA"
MISSION_NAME = "MARS EXPRESS"
MISSION_PHASE_NAME = MC_Phase_2
PROCESSING_LEVEL_ID = 4
PRODUCT_CREATION_TIME = 2022-11-22T09:57:07.000Z
PRODUCT_ID = "H0100_0012_SR4.TIF"
RELEASE_ID = 0002
REVISION_ID = 0000
/* QUALITY DATA ELEMENTS */
DATA_QUALITY_ID = 1
DATA_QUALITY_DESC = "Data calculated based on original SPICE kernels"
/* TIME DATA ELEMENTS */
SPACECRAFT_CLOCK_START_COUNT = "1/0024517974.57147"
SPACECRAFT_CLOCK_STOP_COUNT = "1/0024518456.45479"
IMAGE_TIME = 2004-02-10T18:37:31.724Z
START_TIME = 2004-02-10T18:37:31.723Z
STOP_TIME = 2004-02-10T18:37:31.726Z
/* ORBITAL DATA ELEMENTS */
ASCENDING_NODE_LONGITUDE = 226.92
MAXIMUM_RESOLUTION = 0.007158
FOOTPRINT_POINT_LATITUDE = (30.1731,30.1782,30.1851,30.1931,30.199 ,30.2042,30.2098,30.2183,30.2264, 30.2326,30.2394,30.2452,30.2493,30.2539 ,30.2588,30.2628,30.2671,30.2722, 30.2776,30.2815,30.2889,30.2949,30.2951 ,30.2951,30.295,30.295,30.295,30.295, 30.295,30.295,30.295,30.295,30.295, 30.295,30.295,30.295,30.295,30.295, 30.295,30.2949,30.2949,30.2949,30.2949, 30.2949,30.2949,30.2949,30.2949,30.2949 ,30.2949,30.2949,30.2898,30.283,30.278, 30.2743,30.2681,30.2637,30.2588,30.2537 ,30.2497,30.2436,30.2352,30.228,30.2225 ,30.2181,30.2127,30.2064,30.2019, 30.1966,30.1889,30.1834,30.179,30.1731, 30.1729,30.1729,30.173,30.173,30.173, 30.173,30.173,30.173,30.173,30.173, 30.173,30.173,30.173,30.1731,30.1731, 30.1731,30.1731,30.1731,30.1731,30.1731 ,30.1731,30.1731,30.1731,30.1731, 30.1731,30.1731,30.1731,30.1731)
FOOTPRINT_POINT_LONGITUDE = (306.22,306.22,306.22,306.22,306.22, 306.22,306.22,306.22,306.22,306.22, 306.22,306.22,306.22,306.22,306.22, 306.22,306.22,306.22,306.22,306.22, 306.22,306.22,306.22,306.22,306.23, 306.236,306.241,306.247,306.253,306.258 ,306.264,306.269,306.275,306.281, 306.286,306.292,306.297,306.303,306.309 ,306.314,306.32,306.325,306.331,306.337 ,306.342,306.348,306.354,306.361, 306.362,306.363,306.363,306.363,306.363 ,306.363,306.363,306.363,306.363, 306.363,306.363,306.363,306.363,306.363 ,306.363,306.363,306.363,306.363, 306.363,306.363,306.362,306.362,306.362 ,306.362,306.362,306.362,306.357, 306.351,306.346,306.34,306.334,306.329, 306.323,306.318,306.312,306.306,306.301 ,306.295,306.289,306.284,306.278, 306.273,306.267,306.262,306.252,306.246 ,306.24,306.235,306.229,306.222,306.221 ,306.22)
ORBIT_NUMBER = 100
ORBITAL_ECCENTRICITY = 0.608
ORBITAL_INCLINATION = 86.6
ORBITAL_SEMIMAJOR_AXIS = 9336.32
PERIAPSIS_ALTITUDE = 269.01
PERIAPSIS_ARGUMENT_ANGLE = 342.82
PERIAPSIS_TIME = 2004-02-10T18:24:48.000Z
SPACECRAFT_ORIENTATION = (0.0,1.0,0.0)
^MEX_ORIENTATION_DESC = "MEX_ORIENTATION_DESC.TXT"
SPACECRAFT_POINTING_MODE = ACROSSTRACK
^MEX_POINTING_DESC = "MEX_POINTING_DESC.TXT"
RIGHT_ASCENSION = -1e+32
DECLINATION = -1e+32
OFFSET_ANGLE = -1.48
SPACECRAFT_SOLAR_DISTANCE = 2.28482e+08
TARGET_NAME = MARS
/* CAMERA DATA ELEMENTS */
BUFFER_MODE_ID = BUFFER_8
EXPOSURE_DURATION = 3.528
INST_CMPRS_NAME = NONE
INST_CMPRS_RATIO = 1.0
INST_CMPRS_QUALITY = -2147483648
INST_CMPRS_QUANTZ_TBL_ID = -2147483648
INSTRUMENT_TEMPERATURE = 17.2727
MISSING_FRAMES = 0
START_BIT = 0
/* RADIOMETRIC DATA ELEMENTS */
BANDWIDTH = 250.0
CENTER_FILTER_WAVELENGTH = 600.0
RADIANCE_OFFSET = -9.99e+31
RADIANCE_SCALING_FACTOR = -9.99e+31
REFLECTANCE_SCALING_FACTOR = -9.99e+31
MEX:REFLECTANCE_OFFSET = -9.99e+31
/* IMAGE OBJECT DEFINITIONS */
OBJECT = IMAGE
  INTERCHANGE_FORMAT = BINARY
  LINES = 1498
  LINE_SAMPLES = 1511
  SAMPLE_TYPE = UNSIGNED_INTEGER
  SAMPLE_BITS = 8
  BANDS = 1
  BAND_STORAGE_TYPE = BAND_SEQUENTIAL
  MAXIMUM = 249
  MEAN = 142.005
  MINIMUM = 2
  STANDARD_DEVIATION = 21.5687
END_OBJECT = IMAGE
/* MAP OBJECT DEFINITIONS */
OBJECT = IMAGE_MAP_PROJECTION
  ^DATA_SET_MAP_PROJECTION_CATALOG= "DSMAP.CAT"
  A_AXIS_RADIUS = 3396.19
  B_AXIS_RADIUS = 3396.19
  C_AXIS_RADIUS = 3396.19
  CENTER_LATITUDE = 0.0
  CENTER_LONGITUDE = 306.0
  COORDINATE_SYSTEM_NAME = PLANETOGRAPHIC
  COORDINATE_SYSTEM_TYPE = "BODY-FIXED ROTATING"
  EASTERNMOST_LONGITUDE = 306.363
  FIRST_STANDARD_PARALLEL = "N/A"
  LINE_FIRST_PIXEL = 1
  LINE_LAST_PIXEL = 1498
  LINE_PROJECTION_OFFSET = 358990.0
  MAP_PROJECTION_ROTATION = 0.0
  MAP_PROJECTION_TYPE = SINUSOIDAL
  MAP_RESOLUTION = 11854.9393024378
  MAP_SCALE = 0.005
  MAXIMUM_LATITUDE = 30.2951
  MINIMUM_LATITUDE = 30.1729
  POSITIVE_LONGITUDE_DIRECTION = EAST
  REFERENCE_LATITUDE = "N/A"
  REFERENCE_LONGITUDE = "N/A"
  SAMPLE_FIRST_PIXEL = 1
  SAMPLE_LAST_PIXEL = 1511
  SAMPLE_PROJECTION_OFFSET = -2227.0
  SECOND_STANDARD_PARALLEL = "N/A"
  WESTERNMOST_LONGITUDE = 306.22
END_OBJECT = IMAGE_MAP_PROJECTION
END
