PDS_VERSION_ID = PDS3
/* FILE DATA ELEMENTS */
RECORD_TYPE = UNDEFINED
/* POINTERS TO DATA OBJECTS */
^IMAGE = ("H0097_0007_SR4.TIF")
/* IDENTIFICATION DATA ELEMENTS */
DATA_SET_ID = "MEX-M-HRSC-4-REFDR-MAPPROJECT-V4.0"
DATA_SET_NAME = "MARS EXPRESS HRSC MAP PROJECTED REFDR V4.0"
DETECTOR_ID = MEX_HRSC_SRC
EVENT_TYPE = "MARS-REGIONAL-STEREO-Vo-Te-Fl"
INSTRUMENT_HOST_ID = MEX
INSTRUMENT_HOST_NAME = "MARS EXPRESS"
INSTRUMENT_ID = HRSC
INSTRUMENT_NAME = "HIGH RESOLUTION STEREO CAMERA"
MISSION_NAME = "MARS EXPRESS"
MISSION_PHASE_NAME = MC_Phase_2
PROCESSING_LEVEL_ID = 4
PRODUCT_CREATION_TIME = 2022-11-22T09:57:07.000Z
PRODUCT_ID = "H0097_0007_SR4.TIF"
RELEASE_ID = 0002
REVISION_ID = 0000
/* QUALITY DATA ELEMENTS */
DATA_QUALITY_ID = 1
DATA_QUALITY_DESC = "Data calculated based on original SPICE kernels"
/* TIME DATA ELEMENTS */
SPACECRAFT_CLOCK_START_COUNT = "1/0024435619.56199"
SPACECRAFT_CLOCK_STOP_COUNT = "1/0024436001.17361"
IMAGE_TIME = 2004-02-09T19:46:39.736Z
START_TIME = 2004-02-09T19:46:39.734Z
STOP_TIME = 2004-02-09T19:46:39.737Z
/* ORBITAL DATA ELEMENTS */
ASCENDING_NODE_LONGITUDE = 226.98
MAXIMUM_RESOLUTION = 0.003512
FOOTPRINT_POINT_LATITUDE = (6.69825,6.70038,6.70341,6.70714, 6.70975,6.71283,6.7162,6.7181,6.72053, 6.72343,6.72645,6.72847,6.73161,6.73392 ,6.73593,6.73884,6.74061,6.74417, 6.74838,6.75098,6.753,6.75572,6.75786, 6.75792,6.75792,6.75792,6.75793,6.75794 ,6.75795,6.75795,6.75796,6.75797, 6.75797,6.75798,6.75799,6.758,6.758, 6.75801,6.75802,6.75803,6.75803,6.75804 ,6.75805,6.75806,6.75806,6.75807, 6.75808,6.75809,6.75809,6.7581,6.75811, 6.75811,6.75574,6.75277,6.75082,6.74774 ,6.74495,6.74258,6.74045,6.73838, 6.73636,6.73334,6.72943,6.72635,6.72422 ,6.72238,6.72007,6.71764,6.71479, 6.71302,6.70905,6.70638,6.70277,6.70028 ,6.6985,6.69844,6.69844,6.69843,6.69843 ,6.69842,6.69841,6.69841,6.6984,6.69839 ,6.69838,6.69837,6.69837,6.69836, 6.69835,6.69833,6.69832,6.69831,6.6983, 6.69829,6.69829,6.69827,6.69826,6.69826 ,6.69825,6.69825)
FOOTPRINT_POINT_LONGITUDE = (278.78,278.78,278.78,278.78,278.78, 278.78,278.78,278.78,278.78,278.78, 278.78,278.78,278.78,278.78,278.78, 278.78,278.78,278.78,278.78,278.78, 278.78,278.78,278.78,278.78,278.78, 278.783,278.784,278.787,278.79,278.792, 278.794,278.796,278.799,278.801,278.803 ,278.806,278.808,278.811,278.813, 278.815,278.818,278.82,278.823,278.824, 278.827,278.83,278.832,278.834,278.837, 278.84,278.84,278.841,278.841,278.841, 278.841,278.841,278.841,278.841,278.841 ,278.841,278.841,278.841,278.841, 278.841,278.841,278.841,278.841,278.841 ,278.841,278.841,278.841,278.841, 278.841,278.841,278.841,278.841,278.841 ,278.838,278.836,278.833,278.831, 278.829,278.827,278.825,278.822,278.819 ,278.816,278.814,278.81,278.806,278.803 ,278.799,278.796,278.793,278.791, 278.787,278.784,278.781,278.781,278.78)
ORBIT_NUMBER = 97
ORBITAL_ECCENTRICITY = 0.608
ORBITAL_INCLINATION = 86.58
ORBITAL_SEMIMAJOR_AXIS = 9347.87
PERIAPSIS_ALTITUDE = 269.21
PERIAPSIS_ARGUMENT_ANGLE = 343.35
PERIAPSIS_TIME = 2004-02-09T19:40:48.000Z
SPACECRAFT_ORIENTATION = (0.0,1.0,0.0)
^MEX_ORIENTATION_DESC = "MEX_ORIENTATION_DESC.TXT"
SPACECRAFT_POINTING_MODE = ACROSSTRACK
^MEX_POINTING_DESC = "MEX_POINTING_DESC.TXT"
RIGHT_ASCENSION = -1e+32
DECLINATION = -1e+32
OFFSET_ANGLE = -0.79
SPACECRAFT_SOLAR_DISTANCE = 2.28297e+08
TARGET_NAME = MARS
/* CAMERA DATA ELEMENTS */
BUFFER_MODE_ID = BUFFER_8
EXPOSURE_DURATION = 3.528
INST_CMPRS_NAME = NONE
INST_CMPRS_RATIO = 1.0
INST_CMPRS_QUALITY = -2147483648
INST_CMPRS_QUANTZ_TBL_ID = -2147483648
INSTRUMENT_TEMPERATURE = 14.2424
MISSING_FRAMES = 0
START_BIT = 0
/* RADIOMETRIC DATA ELEMENTS */
BANDWIDTH = 250.0
CENTER_FILTER_WAVELENGTH = 600.0
RADIANCE_OFFSET = -9.99e+31
RADIANCE_SCALING_FACTOR = -9.99e+31
REFLECTANCE_SCALING_FACTOR = -9.99e+31
MEX:REFLECTANCE_OFFSET = -9.99e+31
/* IMAGE OBJECT DEFINITIONS */
OBJECT = IMAGE
  INTERCHANGE_FORMAT = BINARY
  LINES = 1461
  LINE_SAMPLES = 1474
  SAMPLE_TYPE = UNSIGNED_INTEGER
  SAMPLE_BITS = 8
  BANDS = 1
  BAND_STORAGE_TYPE = BAND_SEQUENTIAL
  MAXIMUM = 249
  MEAN = 151.097
  MINIMUM = 19
  STANDARD_DEVIATION = 17.9321
END_OBJECT = IMAGE
/* MAP OBJECT DEFINITIONS */
OBJECT = IMAGE_MAP_PROJECTION
  ^DATA_SET_MAP_PROJECTION_CATALOG= "DSMAP.CAT"
  A_AXIS_RADIUS = 3396.19
  B_AXIS_RADIUS = 3396.19
  C_AXIS_RADIUS = 3396.19
  CENTER_LATITUDE = 0.0
  CENTER_LONGITUDE = 279.0
  COORDINATE_SYSTEM_NAME = PLANETOGRAPHIC
  COORDINATE_SYSTEM_TYPE = "BODY-FIXED ROTATING"
  EASTERNMOST_LONGITUDE = 278.841
  FIRST_STANDARD_PARALLEL = "N/A"
  LINE_FIRST_PIXEL = 1
  LINE_LAST_PIXEL = 1461
  LINE_PROJECTION_OFFSET = 160250.0
  MAP_PROJECTION_ROTATION = 0.0
  MAP_PROJECTION_TYPE = SINUSOIDAL
  MAP_RESOLUTION = 23709.8786048756
  MAP_SCALE = 0.0025
  MAXIMUM_LATITUDE = 6.75811
  MINIMUM_LATITUDE = 6.69825
  POSITIVE_LONGITUDE_DIRECTION = EAST
  REFERENCE_LATITUDE = "N/A"
  REFERENCE_LONGITUDE = "N/A"
  SAMPLE_FIRST_PIXEL = 1
  SAMPLE_LAST_PIXEL = 1474
  SAMPLE_PROJECTION_OFFSET = 5197.0
  SECOND_STANDARD_PARALLEL = "N/A"
  WESTERNMOST_LONGITUDE = 278.78
END_OBJECT = IMAGE_MAP_PROJECTION
END
