PDS_VERSION_ID = PDS3
/* FILE DATA ELEMENTS */
RECORD_TYPE = UNDEFINED
/* POINTERS TO DATA OBJECTS */
^IMAGE = ("H0072_0005_SR4.TIF")
/* IDENTIFICATION DATA ELEMENTS */
DATA_SET_ID = "MEX-M-HRSC-4-REFDR-MAPPROJECT-V4.0"
DATA_SET_NAME = "MARS EXPRESS HRSC MAP PROJECTED REFDR V4.0"
DETECTOR_ID = MEX_HRSC_SRC
EVENT_TYPE = "MARS-LOCAL-COLOR-Im-Lc-Tc"
INSTRUMENT_HOST_ID = MEX
INSTRUMENT_HOST_NAME = "MARS EXPRESS"
INSTRUMENT_ID = HRSC
INSTRUMENT_NAME = "HIGH RESOLUTION STEREO CAMERA"
MISSION_NAME = "MARS EXPRESS"
MISSION_PHASE_NAME = MC_Phase_2
PROCESSING_LEVEL_ID = 4
PRODUCT_CREATION_TIME = 2022-11-22T09:57:07.000Z
PRODUCT_ID = "H0072_0005_SR4.TIF"
RELEASE_ID = 0002
REVISION_ID = 0000
/* QUALITY DATA ELEMENTS */
DATA_QUALITY_ID = 1
DATA_QUALITY_DESC = "Data calculated based on original SPICE kernels"
/* TIME DATA ELEMENTS */
SPACECRAFT_CLOCK_START_COUNT = "1/0023753324.32969"
SPACECRAFT_CLOCK_STOP_COUNT = "1/0023753728.05252"
IMAGE_TIME = 2004-02-01T22:12:22.473Z
START_TIME = 2004-02-01T22:12:22.471Z
STOP_TIME = 2004-02-01T22:12:22.476Z
/* ORBITAL DATA ELEMENTS */
ASCENDING_NODE_LONGITUDE = 227.5
MAXIMUM_RESOLUTION = 0.004025
FOOTPRINT_POINT_LATITUDE = (-13.8499,-13.8545,-13.8575,-13.8623, -13.8652,-13.8688,-13.8728,-13.8773, -13.8799,-13.8834,-13.886,-13.8894, -13.8919,-13.8951,-13.8999,-13.9033, -13.9059,-13.9092,-13.9143,-13.9192, -13.9192,-13.9192,-13.9193,-13.9193, -13.9194,-13.9194,-13.9194,-13.9195, -13.9196,-13.9196,-13.9197,-13.9198, -13.9199,-13.92,-13.9201,-13.9202, -13.9202,-13.9203,-13.9204,-13.9205, -13.9206,-13.9206,-13.9207,-13.9208, -13.9209,-13.921,-13.9211,-13.9211, -13.9212,-13.9213,-13.9213,-13.9213, -13.9184,-13.9153,-13.91,-13.9047, -13.9012,-13.8962,-13.8937,-13.8907, -13.8857,-13.8827,-13.8785,-13.8733, -13.8695,-13.8659,-13.8632,-13.8587, -13.853,-13.8529,-13.8529,-13.8528, -13.8527,-13.8526,-13.8524,-13.8523, -13.8522,-13.8521,-13.852,-13.8519, -13.8517,-13.8516,-13.8515,-13.8514, -13.8513,-13.8511,-13.851,-13.8509, -13.8508,-13.8507,-13.8505,-13.8504, -13.8503,-13.8502,-13.8501,-13.8501, -13.85,-13.8499,-13.8499,-13.8499)
FOOTPRINT_POINT_LONGITUDE = (175.602,175.602,175.602,175.602, 175.602,175.602,175.602,175.603,175.603 ,175.603,175.603,175.603,175.603, 175.603,175.603,175.603,175.603,175.603 ,175.604,175.604,175.604,175.604, 175.601,175.599,175.596,175.594,175.591 ,175.589,175.584,175.579,175.574, 175.569,175.564,175.559,175.554,175.549 ,175.545,175.54,175.535,175.53,175.525, 175.52,175.515,175.511,175.506,175.501, 175.496,175.491,175.486,175.482,175.48, 175.48,175.48,175.479,175.479,175.479, 175.479,175.479,175.479,175.479,175.479 ,175.479,175.478,175.478,175.478, 175.478,175.478,175.478,175.478,175.478 ,175.478,175.483,175.488,175.492, 175.497,175.502,175.507,175.512,175.517 ,175.521,175.526,175.531,175.536, 175.541,175.546,175.551,175.556,175.56, 175.565,175.57,175.575,175.58,175.585, 175.59,175.592,175.595,175.597,175.6, 175.601,175.602)
ORBIT_NUMBER = 72
ORBITAL_ECCENTRICITY = 0.607
ORBITAL_INCLINATION = 86.59
ORBITAL_SEMIMAJOR_AXIS = 9338.81
PERIAPSIS_ALTITUDE = 270.87
PERIAPSIS_ARGUMENT_ANGLE = 347.61
PERIAPSIS_TIME = 2004-02-01T22:12:46.000Z
SPACECRAFT_ORIENTATION = (0.0,-1.0,0.0)
^MEX_ORIENTATION_DESC = "MEX_ORIENTATION_DESC.TXT"
SPACECRAFT_POINTING_MODE = INERT
^MEX_POINTING_DESC = "MEX_POINTING_DESC.TXT"
RIGHT_ASCENSION = 39.75
DECLINATION = 5.035
OFFSET_ANGLE = -1e+32
SPACECRAFT_SOLAR_DISTANCE = 2.26756e+08
TARGET_NAME = MARS
/* CAMERA DATA ELEMENTS */
BUFFER_MODE_ID = BUFFER_8
EXPOSURE_DURATION = 5.04
INST_CMPRS_NAME = NONE
INST_CMPRS_RATIO = 1.0
INST_CMPRS_QUALITY = -2147483648
INST_CMPRS_QUANTZ_TBL_ID = -2147483648
INSTRUMENT_TEMPERATURE = 14.2424
MISSING_FRAMES = 0
START_BIT = 0
/* RADIOMETRIC DATA ELEMENTS */
BANDWIDTH = 250.0
CENTER_FILTER_WAVELENGTH = 600.0
RADIANCE_OFFSET = -9.99e+31
RADIANCE_SCALING_FACTOR = -9.99e+31
REFLECTANCE_SCALING_FACTOR = -9.99e+31
MEX:REFLECTANCE_OFFSET = -9.99e+31
/* IMAGE OBJECT DEFINITIONS */
OBJECT = IMAGE
  INTERCHANGE_FORMAT = BINARY
  LINES = 892
  LINE_SAMPLES = 1501
  SAMPLE_TYPE = UNSIGNED_INTEGER
  SAMPLE_BITS = 8
  BANDS = 1
  BAND_STORAGE_TYPE = BAND_SEQUENTIAL
  MAXIMUM = 248
  MEAN = 167.9
  MINIMUM = 27
  STANDARD_DEVIATION = 15.7539
END_OBJECT = IMAGE
/* MAP OBJECT DEFINITIONS */
OBJECT = IMAGE_MAP_PROJECTION
  ^DATA_SET_MAP_PROJECTION_CATALOG= "DSMAP.CAT"
  A_AXIS_RADIUS = 3396.19
  B_AXIS_RADIUS = 3396.19
  C_AXIS_RADIUS = 3396.19
  CENTER_LATITUDE = 0.0
  CENTER_LONGITUDE = 176.0
  COORDINATE_SYSTEM_NAME = PLANETOGRAPHIC
  COORDINATE_SYSTEM_TYPE = "BODY-FIXED ROTATING"
  EASTERNMOST_LONGITUDE = 175.604
  FIRST_STANDARD_PARALLEL = "N/A"
  LINE_FIRST_PIXEL = 1
  LINE_LAST_PIXEL = 892
  LINE_PROJECTION_OFFSET = -164143.0
  MAP_PROJECTION_ROTATION = 0.0
  MAP_PROJECTION_TYPE = SINUSOIDAL
  MAP_RESOLUTION = 11854.9393024378
  MAP_SCALE = 0.005
  MAXIMUM_LATITUDE = -13.8499
  MINIMUM_LATITUDE = -13.9213
  POSITIVE_LONGITUDE_DIRECTION = EAST
  REFERENCE_LATITUDE = "N/A"
  REFERENCE_LONGITUDE = "N/A"
  SAMPLE_FIRST_PIXEL = 1
  SAMPLE_LAST_PIXEL = 1501
  SAMPLE_PROJECTION_OFFSET = 5758.0
  SECOND_STANDARD_PARALLEL = "N/A"
  WESTERNMOST_LONGITUDE = 175.478
END_OBJECT = IMAGE_MAP_PROJECTION
END
