PDS_VERSION_ID = PDS3
/* FILE DATA ELEMENTS */
RECORD_TYPE = UNDEFINED
/* POINTERS TO DATA OBJECTS */
^IMAGE = ("H0072_0000_ND4.TIF")
/* IDENTIFICATION DATA ELEMENTS */
DATA_SET_ID = "MEX-M-HRSC-4-REFDR-MAPPROJECT-V4.0"
DATA_SET_NAME = "MARS EXPRESS HRSC MAP PROJECTED REFDR V4.0"
DETECTOR_ID = MEX_HRSC_NADIR
EVENT_TYPE = "MARS-LOCAL-COLOR-Im-Lc-Tc"
INSTRUMENT_HOST_ID = MEX
INSTRUMENT_HOST_NAME = "MARS EXPRESS"
INSTRUMENT_ID = HRSC
INSTRUMENT_NAME = "HIGH RESOLUTION STEREO CAMERA"
MISSION_NAME = "MARS EXPRESS"
MISSION_PHASE_NAME = MC_Phase_2
PROCESSING_LEVEL_ID = 4
PRODUCT_CREATION_TIME = 2022-11-22T09:57:07.000Z
PRODUCT_ID = "H0072_0000_ND4.TIF"
RELEASE_ID = 0002
REVISION_ID = 0000
/* QUALITY DATA ELEMENTS */
DATA_QUALITY_ID = 1
DATA_QUALITY_DESC = "Data calculated based on original SPICE kernels"
/* TIME DATA ELEMENTS */
SPACECRAFT_CLOCK_START_COUNT = "1/0023753324.32969"
SPACECRAFT_CLOCK_STOP_COUNT = "1/0023753728.05252"
START_TIME = 2004-02-01T22:09:32.626Z
STOP_TIME = 2004-02-01T22:14:58.619Z
/* ORBITAL DATA ELEMENTS */
ASCENDING_NODE_LONGITUDE = 227.5
MAXIMUM_RESOLUTION = 0.0155
FOOTPRINT_POINT_LATITUDE = (-26.3806,-26.3683,-26.3599,-26.3495, -26.3364,-26.3149,-26.3136,-26.3223, -25.802,-25.2908,-24.7821,-24.2851, -23.784,-22.5548,-22.0789,-21.6035, -21.1283,-20.4325,-19.9697,-19.5061, -19.0502,-18.5989,-17.9224,-17.4701, -17.0189,-16.5772,-16.1371,-15.697, -15.257,-14.5965,-13.7154,-12.8333, -11.9526,-11.2911,-10.8501,-10.4088, -9.96776,-9.5263,-9.08438,-8.42102, -7.9788,-7.53513,-7.08092,-6.6261, -6.17103,-5.71579,-5.2597,-4.79275, -4.08963,-3.62187,-3.14356,-2.66239, -2.42177,-2.40382,-2.42556,-2.44469, -2.46377,-2.47629,-2.47667,-2.47718, -3.196,-3.6731,-4.14044,-4.60677, -5.07301,-5.76047,-6.21434,-6.66885, -7.12423,-7.58,-8.02645,-8.90875, -9.78818,-10.8872,-11.5476,-12.2082, -13.0889,-13.7498,-14.6306,-15.2911, -15.9515,-16.832,-17.2785,-17.7306, -18.4084,-18.8605,-19.3123,-19.7733, -20.2371,-20.9329,-21.4039,-21.8803, -22.5953,-23.828,-24.3281,-24.8288, -25.3379,-26.1098,-26.3722,-26.3806)
FOOTPRINT_POINT_LONGITUDE = (175.271,176.148,176.653,177.214, 177.841,178.747,178.796,178.948,178.807 ,178.677,178.551,178.472,178.328, 178.069,177.991,177.904,177.82,177.725, 177.674,177.598,177.533,177.497,177.482 ,177.393,177.392,177.314,177.274, 177.225,177.195,177.192,177.186,177.204 ,177.17,177.175,177.177,177.185,177.19, 177.202,177.222,177.258,177.282,177.311 ,177.343,177.382,177.424,177.467, 177.519,177.57,177.666,177.72,177.789, 177.862,177.899,177.902,177.147,176.371 ,175.489,174.764,174.741,174.73,174.672 ,174.633,174.597,174.568,174.538, 174.498,174.476,174.449,174.414,174.372 ,174.321,174.292,174.299,174.327, 174.335,174.341,174.364,174.359,174.379 ,174.387,174.403,174.432,174.445, 174.475,174.513,174.541,174.567,174.593 ,174.628,174.684,174.73,174.779,174.852 ,174.998,175.061,175.124,175.189, 175.296,175.335,175.271)
ORBIT_NUMBER = 72
ORBITAL_ECCENTRICITY = 0.607
ORBITAL_INCLINATION = 86.59
ORBITAL_SEMIMAJOR_AXIS = 9338.81
PERIAPSIS_ALTITUDE = 270.87
PERIAPSIS_ARGUMENT_ANGLE = 347.61
PERIAPSIS_TIME = 2004-02-01T22:12:46.000Z
SPACECRAFT_ORIENTATION = (0.0,-1.0,0.0)
^MEX_ORIENTATION_DESC = "MEX_ORIENTATION_DESC.TXT"
SPACECRAFT_POINTING_MODE = INERT
^MEX_POINTING_DESC = "MEX_POINTING_DESC.TXT"
RIGHT_ASCENSION = 39.75
DECLINATION = 5.035
OFFSET_ANGLE = -1e+32
SPACECRAFT_SOLAR_DISTANCE = 2.26756e+08
TARGET_NAME = MARS
/* CAMERA DATA ELEMENTS */
DETECTOR_TEMPERATURE = 18.3705
FOCAL_PLANE_TEMPERATURE = 9.8067
INST_CMPRS_NAME = "DISCRETE COSINE TRANSFORMATION (DCT)"
INST_CMPRS_RATIO = 7.3939
INST_CMPRS_QUALITY = 0
INST_CMPRS_QUANTZ_TBL_ID = 0
INSTRUMENT_TEMPERATURE = 11.6418
LENS_TEMPERATURE = 10.2145
MACROPIXEL_SIZE = 1
MISSING_FRAMES = 366
PIXEL_SUBSAMPLING_FLAG = N
SIGNAL_CHAIN_ID = 0
/* RADIOMETRIC DATA ELEMENTS */
BANDWIDTH = 177.0
CENTER_FILTER_WAVELENGTH = 677.5
RADIANCE_OFFSET = 7.21003
RADIANCE_SCALING_FACTOR = 0.0259507
REFLECTANCE_SCALING_FACTOR = 0.000708839
MEX:REFLECTANCE_OFFSET = 0.196941
/* IMAGE OBJECT DEFINITIONS */
OBJECT = IMAGE
  INTERCHANGE_FORMAT = BINARY
  LINES = 113743
  LINE_SAMPLES = 20639
  SAMPLE_TYPE = UNSIGNED_INTEGER
  SAMPLE_BITS = 8
  BANDS = 1
  BAND_STORAGE_TYPE = BAND_SEQUENTIAL
  MAXIMUM = 254
  MEAN = 169.042
  MINIMUM = 1
  STANDARD_DEVIATION = 43.2034
END_OBJECT = IMAGE
/* MAP OBJECT DEFINITIONS */
OBJECT = IMAGE_MAP_PROJECTION
  ^DATA_SET_MAP_PROJECTION_CATALOG= "DSMAP.CAT"
  A_AXIS_RADIUS = 3396.0
  B_AXIS_RADIUS = 3396.0
  C_AXIS_RADIUS = 3396.0
  CENTER_LATITUDE = 0.0
  CENTER_LONGITUDE = 176.0
  COORDINATE_SYSTEM_NAME = PLANETOGRAPHIC
  COORDINATE_SYSTEM_TYPE = "BODY-FIXED ROTATING"
  EASTERNMOST_LONGITUDE = 178.948
  FIRST_STANDARD_PARALLEL = "N/A"
  LINE_FIRST_PIXEL = 1
  LINE_LAST_PIXEL = 113743
  LINE_PROJECTION_OFFSET = -11400.0
  MAP_PROJECTION_ROTATION = 0.0
  MAP_PROJECTION_TYPE = SINUSOIDAL
  MAP_RESOLUTION = 4741.71043093333
  MAP_SCALE = 0.0125
  MAXIMUM_LATITUDE = -2.40382
  MINIMUM_LATITUDE = -26.3806
  POSITIVE_LONGITUDE_DIRECTION = EAST
  REFERENCE_LATITUDE = "N/A"
  REFERENCE_LONGITUDE = "N/A"
  SAMPLE_FIRST_PIXEL = 1
  SAMPLE_LAST_PIXEL = 20639
  SAMPLE_PROJECTION_OFFSET = 8103.0
  SECOND_STANDARD_PARALLEL = "N/A"
  WESTERNMOST_LONGITUDE = 174.292
END_OBJECT = IMAGE_MAP_PROJECTION
END
