PDS_VERSION_ID = PDS3
/* FILE DATA ELEMENTS */
RECORD_TYPE = UNDEFINED
/* POINTERS TO DATA OBJECTS */
^IMAGE = ("H0071_0006_SR4.TIF")
/* IDENTIFICATION DATA ELEMENTS */
DATA_SET_ID = "MEX-M-HRSC-4-REFDR-MAPPROJECT-V4.0"
DATA_SET_NAME = "MARS EXPRESS HRSC MAP PROJECTED REFDR V4.0"
DETECTOR_ID = MEX_HRSC_SRC
EVENT_TYPE = "MARS-REGIONAL-STEREO-Vo-Fl-La"
INSTRUMENT_HOST_ID = MEX
INSTRUMENT_HOST_NAME = "MARS EXPRESS"
INSTRUMENT_ID = HRSC
INSTRUMENT_NAME = "HIGH RESOLUTION STEREO CAMERA"
MISSION_NAME = "MARS EXPRESS"
MISSION_PHASE_NAME = MC_Phase_2
PROCESSING_LEVEL_ID = 4
PRODUCT_CREATION_TIME = 2022-11-22T09:57:07.000Z
PRODUCT_ID = "H0071_0006_SR4.TIF"
RELEASE_ID = 0002
REVISION_ID = 0000
/* QUALITY DATA ELEMENTS */
DATA_QUALITY_ID = 1
DATA_QUALITY_DESC = "Data calculated based on original SPICE kernels"
/* TIME DATA ELEMENTS */
SPACECRAFT_CLOCK_START_COUNT = "1/0023726186.32183"
SPACECRAFT_CLOCK_STOP_COUNT = "1/0023726546.63951"
IMAGE_TIME = 2004-02-01T14:41:15.339Z
START_TIME = 2004-02-01T14:41:15.337Z
STOP_TIME = 2004-02-01T14:41:15.342Z
/* ORBITAL DATA ELEMENTS */
ASCENDING_NODE_LONGITUDE = 227.52
MAXIMUM_RESOLUTION = 0.002754
FOOTPRINT_POINT_LATITUDE = (0.548752,0.550609,0.553394,0.555622, 0.557804,0.559243,0.562585,0.565045, 0.566577,0.568852,0.570616,0.572519, 0.575211,0.577579,0.579528,0.581549, 0.584484,0.58644,0.588164,0.590493, 0.593148,0.595617,0.595664,0.595664, 0.595667,0.595669,0.595671,0.595674, 0.595677,0.595679,0.595682,0.595684, 0.595687,0.59569,0.595692,0.595695, 0.595697,0.5957,0.595702,0.595704, 0.595707,0.595709,0.595712,0.595715, 0.595717,0.59572,0.595723,0.595726, 0.59573,0.59573,0.595731,0.593634, 0.590606,0.58879,0.585901,0.583619, 0.581429,0.579966,0.577923,0.576206, 0.573978,0.57226,0.569568,0.567525, 0.565808,0.564276,0.561908,0.560377, 0.558566,0.556524,0.553599,0.552021, 0.548865,0.548818,0.548818,0.548814, 0.548812,0.548809,0.548807,0.548805, 0.548802,0.5488,0.548798,0.548796, 0.548794,0.548791,0.548788,0.548785, 0.548783,0.548779,0.548777,0.548774, 0.548769,0.548766,0.548761,0.548759, 0.548756,0.548753,0.548753,0.548752)
FOOTPRINT_POINT_LONGITUDE = (280.513,280.513,280.513,280.513, 280.513,280.513,280.513,280.513,280.513 ,280.513,280.513,280.513,280.513, 280.513,280.513,280.513,280.513,280.513 ,280.513,280.513,280.513,280.513, 280.513,280.513,280.515,280.517,280.518 ,280.52,280.522,280.524,280.525,280.527 ,280.529,280.531,280.533,280.535, 280.536,280.538,280.54,280.541,280.543, 280.545,280.547,280.549,280.551,280.552 ,280.555,280.557,280.559,280.56,280.56, 280.56,280.56,280.56,280.56,280.56, 280.56,280.56,280.56,280.56,280.56, 280.56,280.56,280.56,280.56,280.56, 280.56,280.56,280.56,280.56,280.56, 280.56,280.56,280.56,280.56,280.557, 280.555,280.554,280.552,280.55,280.549, 280.547,280.546,280.544,280.542,280.541 ,280.538,280.536,280.535,280.532,280.53 ,280.528,280.525,280.523,280.519, 280.517,280.516,280.514,280.513, 280.513)
ORBIT_NUMBER = 71
ORBITAL_ECCENTRICITY = 0.608
ORBITAL_INCLINATION = 86.58
ORBITAL_SEMIMAJOR_AXIS = 9351.6
PERIAPSIS_ALTITUDE = 270.45
PERIAPSIS_ARGUMENT_ANGLE = 347.79
PERIAPSIS_TIME = 2004-02-01T14:38:06.000Z
SPACECRAFT_ORIENTATION = (0.0,1.0,0.0)
^MEX_ORIENTATION_DESC = "MEX_ORIENTATION_DESC.TXT"
SPACECRAFT_POINTING_MODE = NADIR
^MEX_POINTING_DESC = "MEX_POINTING_DESC.TXT"
RIGHT_ASCENSION = -1e+32
DECLINATION = -1e+32
OFFSET_ANGLE = -1e+32
SPACECRAFT_SOLAR_DISTANCE = 2.26694e+08
TARGET_NAME = MARS
/* CAMERA DATA ELEMENTS */
BUFFER_MODE_ID = BUFFER_8
EXPOSURE_DURATION = 5.04
INST_CMPRS_NAME = NONE
INST_CMPRS_RATIO = 1.0
INST_CMPRS_QUALITY = -2147483648
INST_CMPRS_QUANTZ_TBL_ID = -2147483648
INSTRUMENT_TEMPERATURE = 14.2424
MISSING_FRAMES = 0
START_BIT = 0
/* RADIOMETRIC DATA ELEMENTS */
BANDWIDTH = 250.0
CENTER_FILTER_WAVELENGTH = 600.0
RADIANCE_OFFSET = -9.99e+31
RADIANCE_SCALING_FACTOR = -9.99e+31
REFLECTANCE_SCALING_FACTOR = -9.99e+31
MEX:REFLECTANCE_OFFSET = -9.99e+31
/* IMAGE OBJECT DEFINITIONS */
OBJECT = IMAGE
  INTERCHANGE_FORMAT = BINARY
  LINES = 1155
  LINE_SAMPLES = 1164
  SAMPLE_TYPE = UNSIGNED_INTEGER
  SAMPLE_BITS = 8
  BANDS = 1
  BAND_STORAGE_TYPE = BAND_SEQUENTIAL
  MAXIMUM = 251
  MEAN = 161.369
  MINIMUM = 22
  STANDARD_DEVIATION = 16.6316
END_OBJECT = IMAGE
/* MAP OBJECT DEFINITIONS */
OBJECT = IMAGE_MAP_PROJECTION
  ^DATA_SET_MAP_PROJECTION_CATALOG= "DSMAP.CAT"
  A_AXIS_RADIUS = 3396.19
  B_AXIS_RADIUS = 3396.19
  C_AXIS_RADIUS = 3396.19
  CENTER_LATITUDE = 0.0
  CENTER_LONGITUDE = 281.0
  COORDINATE_SYSTEM_NAME = PLANETOGRAPHIC
  COORDINATE_SYSTEM_TYPE = "BODY-FIXED ROTATING"
  EASTERNMOST_LONGITUDE = 280.56
  FIRST_STANDARD_PARALLEL = "N/A"
  LINE_FIRST_PIXEL = 1
  LINE_LAST_PIXEL = 1155
  LINE_PROJECTION_OFFSET = 14144.0
  MAP_PROJECTION_ROTATION = 0.0
  MAP_PROJECTION_TYPE = SINUSOIDAL
  MAP_RESOLUTION = 23709.8786048756
  MAP_SCALE = 0.0025
  MAXIMUM_LATITUDE = 0.595731
  MINIMUM_LATITUDE = 0.548752
  POSITIVE_LONGITUDE_DIRECTION = EAST
  REFERENCE_LATITUDE = "N/A"
  REFERENCE_LONGITUDE = "N/A"
  SAMPLE_FIRST_PIXEL = 1
  SAMPLE_LAST_PIXEL = 1164
  SAMPLE_PROJECTION_OFFSET = 11569.0
  SECOND_STANDARD_PARALLEL = "N/A"
  WESTERNMOST_LONGITUDE = 280.513
END_OBJECT = IMAGE_MAP_PROJECTION
END
