PDS_VERSION_ID = PDS3
/* FILE DATA ELEMENTS */
RECORD_TYPE = UNDEFINED
/* POINTERS TO DATA OBJECTS */
^IMAGE = ("H0071_0000_S24.TIF")
/* IDENTIFICATION DATA ELEMENTS */
DATA_SET_ID = "MEX-M-HRSC-4-REFDR-MAPPROJECT-V4.0"
DATA_SET_NAME = "MARS EXPRESS HRSC MAP PROJECTED REFDR V4.0"
DETECTOR_ID = MEX_HRSC_S2
EVENT_TYPE = "MARS-REGIONAL-STEREO-Vo-Fl-La"
INSTRUMENT_HOST_ID = MEX
INSTRUMENT_HOST_NAME = "MARS EXPRESS"
INSTRUMENT_ID = HRSC
INSTRUMENT_NAME = "HIGH RESOLUTION STEREO CAMERA"
MISSION_NAME = "MARS EXPRESS"
MISSION_PHASE_NAME = MC_Phase_2
PROCESSING_LEVEL_ID = 4
PRODUCT_CREATION_TIME = 2022-11-22T09:57:07.000Z
PRODUCT_ID = "H0071_0000_S24.TIF"
RELEASE_ID = 0002
REVISION_ID = 0000
/* QUALITY DATA ELEMENTS */
DATA_QUALITY_ID = 1
DATA_QUALITY_DESC = "Data calculated based on original SPICE kernels"
/* TIME DATA ELEMENTS */
SPACECRAFT_CLOCK_START_COUNT = "1/0023726186.32183"
SPACECRAFT_CLOCK_STOP_COUNT = "1/0023726546.63951"
START_TIME = 2004-02-01T14:36:35.484Z
STOP_TIME = 2004-02-01T14:46:13.242Z
/* ORBITAL DATA ELEMENTS */
ASCENDING_NODE_LONGITUDE = 227.52
MAXIMUM_RESOLUTION = 0.0227
FOOTPRINT_POINT_LATITUDE = (-16.6264,-16.6204,-16.6203,-16.6337, -15.9242,-15.1997,-14.4878,-13.0954, -12.3977,-11.6972,-10.9942,-10.2904, -9.58481,-8.85781,-8.15166,-7.10911, -6.04552,-4.62077,-3.88461,-3.14138, -2.39652,-1.65182,-0.876545,-0.0984882, 0.673054,1.44771,2.64898,3.45194, 4.27872,5.11034,5.96223,6.8224,7.6808, 8.53848,9.82325,10.6778,11.9578,12.8087 ,13.6581,14.5058,15.3516,16.1957, 17.0376,17.8774,18.7148,19.5497,20.3823 ,21.2108,22.0372,22.4493,22.4566, 22.4578,22.4578,22.4574,21.6328,20.8055 ,19.9752,19.142,18.3047,17.4676,16.2064 ,15.3632,14.5175,13.6703,12.8207, 11.9689,11.116,10.2613,9.40619,8.54958, 7.69111,6.832,5.9719,5.11874,4.28752, 3.4502,2.24522,1.44089,0.655612, -0.12419,-1.27259,-2.01723,-3.135, -3.8783,-4.97678,-5.68406,-6.40225, -7.10099,-8.12248,-8.82285,-9.57212, -10.2864,-10.9916,-11.6953,-12.3956, -13.7899,-15.1957,-16.2743,-16.6337, -16.6264)
FOOTPRINT_POINT_LONGITUDE = (281.025,280.018,280.009,280.009, 280.021,280.028,280.034,280.046,280.051 ,280.054,280.057,280.06,280.062,280.057 ,280.057,280.063,280.062,280.057, 280.055,280.051,280.046,280.04,280.027, 280.019,280.012,280.004,279.991,279.981 ,279.971,279.959,279.947,279.933,279.92 ,279.905,279.882,279.866,279.84,279.822 ,279.803,279.783,279.763,279.742, 279.721,279.698,279.676,279.652,279.628 ,279.603,279.578,279.565,279.565, 281.419,281.437,281.444,281.417,281.392 ,281.367,281.344,281.321,281.3,281.27, 281.252,281.234,281.217,281.201,281.186 ,281.172,281.158,281.146,281.134, 281.123,281.112,281.102,281.093,281.085 ,281.074,281.064,281.057,281.048, 281.041,281.035,281.031,281.025,281.021 ,281.018,281.017,281.013,281.015, 281.026,281.027,281.014,281.011,281.01, 281.01,281.011,281.013,281.016,281.02, 281.021,281.025)
ORBIT_NUMBER = 71
ORBITAL_ECCENTRICITY = 0.608
ORBITAL_INCLINATION = 86.58
ORBITAL_SEMIMAJOR_AXIS = 9351.6
PERIAPSIS_ALTITUDE = 270.45
PERIAPSIS_ARGUMENT_ANGLE = 347.79
PERIAPSIS_TIME = 2004-02-01T14:38:06.000Z
SPACECRAFT_ORIENTATION = (0.0,1.0,0.0)
^MEX_ORIENTATION_DESC = "MEX_ORIENTATION_DESC.TXT"
SPACECRAFT_POINTING_MODE = NADIR
^MEX_POINTING_DESC = "MEX_POINTING_DESC.TXT"
RIGHT_ASCENSION = -1e+32
DECLINATION = -1e+32
OFFSET_ANGLE = -1e+32
SPACECRAFT_SOLAR_DISTANCE = 2.26694e+08
TARGET_NAME = MARS
/* CAMERA DATA ELEMENTS */
DETECTOR_TEMPERATURE = 18.7783
FOCAL_PLANE_TEMPERATURE = 9.195
INST_CMPRS_NAME = "DISCRETE COSINE TRANSFORMATION (DCT)"
INST_CMPRS_RATIO = 10.8571
INST_CMPRS_QUALITY = 0
INST_CMPRS_QUANTZ_TBL_ID = 0
INSTRUMENT_TEMPERATURE = 11.234
LENS_TEMPERATURE = 9.6028
MACROPIXEL_SIZE = 2
MISSING_FRAMES = 0
PIXEL_SUBSAMPLING_FLAG = N
SIGNAL_CHAIN_ID = 1
/* RADIOMETRIC DATA ELEMENTS */
BANDWIDTH = 178.0
CENTER_FILTER_WAVELENGTH = 679.0
RADIANCE_OFFSET = 5.51078
RADIANCE_SCALING_FACTOR = 0.0342893
REFLECTANCE_SCALING_FACTOR = 0.000933184
MEX:REFLECTANCE_OFFSET = 0.149976
/* IMAGE OBJECT DEFINITIONS */
OBJECT = IMAGE
  INTERCHANGE_FORMAT = BINARY
  LINES = 92517
  LINE_SAMPLES = 4425
  SAMPLE_TYPE = UNSIGNED_INTEGER
  SAMPLE_BITS = 8
  BANDS = 1
  BAND_STORAGE_TYPE = BAND_SEQUENTIAL
  MAXIMUM = 255
  MEAN = 171.919
  MINIMUM = 1
  STANDARD_DEVIATION = 34.8128
END_OBJECT = IMAGE
/* MAP OBJECT DEFINITIONS */
OBJECT = IMAGE_MAP_PROJECTION
  ^DATA_SET_MAP_PROJECTION_CATALOG= "DSMAP.CAT"
  A_AXIS_RADIUS = 3396.0
  B_AXIS_RADIUS = 3396.0
  C_AXIS_RADIUS = 3396.0
  CENTER_LATITUDE = 0.0
  CENTER_LONGITUDE = 281.0
  COORDINATE_SYSTEM_NAME = PLANETOGRAPHIC
  COORDINATE_SYSTEM_TYPE = "BODY-FIXED ROTATING"
  EASTERNMOST_LONGITUDE = 281.444
  FIRST_STANDARD_PARALLEL = "N/A"
  LINE_FIRST_PIXEL = 1
  LINE_LAST_PIXEL = 92517
  LINE_PROJECTION_OFFSET = 53145.25
  MAP_PROJECTION_ROTATION = 0.0
  MAP_PROJECTION_TYPE = SINUSOIDAL
  MAP_RESOLUTION = 2370.85521546667
  MAP_SCALE = 0.025
  MAXIMUM_LATITUDE = 22.4578
  MINIMUM_LATITUDE = -16.6337
  POSITIVE_LONGITUDE_DIRECTION = EAST
  REFERENCE_LATITUDE = "N/A"
  REFERENCE_LONGITUDE = "N/A"
  SAMPLE_FIRST_PIXEL = 1
  SAMPLE_LAST_PIXEL = 4425
  SAMPLE_PROJECTION_OFFSET = 3294.75
  SECOND_STANDARD_PARALLEL = "N/A"
  WESTERNMOST_LONGITUDE = 279.565
END_OBJECT = IMAGE_MAP_PROJECTION
END
