PDS_VERSION_ID = PDS3
/* FILE DATA ELEMENTS */
RECORD_TYPE = UNDEFINED
/* POINTERS TO DATA OBJECTS */
^IMAGE = ("H0068_0009_GR4.TIF")
/* IDENTIFICATION DATA ELEMENTS */
DATA_SET_ID = "MEX-M-HRSC-4-REFDR-MAPPROJECT-V4.0"
DATA_SET_NAME = "MARS EXPRESS HRSC MAP PROJECTED REFDR V4.0"
DETECTOR_ID = MEX_HRSC_GREEN
EVENT_TYPE = "MARS-REGIONAL-STEREO-Vo-Te"
INSTRUMENT_HOST_ID = MEX
INSTRUMENT_HOST_NAME = "MARS EXPRESS"
INSTRUMENT_ID = HRSC
INSTRUMENT_NAME = "HIGH RESOLUTION STEREO CAMERA"
MISSION_NAME = "MARS EXPRESS"
MISSION_PHASE_NAME = MC_Phase_2
PROCESSING_LEVEL_ID = 4
PRODUCT_CREATION_TIME = 2022-11-22T09:57:07.000Z
PRODUCT_ID = "H0068_0009_GR4.TIF"
RELEASE_ID = 0002
REVISION_ID = 0000
/* QUALITY DATA ELEMENTS */
DATA_QUALITY_ID = 1
DATA_QUALITY_DESC = "Data calculated based on original SPICE kernels"
/* TIME DATA ELEMENTS */
SPACECRAFT_CLOCK_START_COUNT = "1/0023645171.31240"
SPACECRAFT_CLOCK_STOP_COUNT = "1/0023645584.12322"
START_TIME = 2004-01-31T16:07:53.243Z
STOP_TIME = 2004-01-31T16:10:30.444Z
/* ORBITAL DATA ELEMENTS */
ASCENDING_NODE_LONGITUDE = 227.58
MAXIMUM_RESOLUTION = 0.1421
FOOTPRINT_POINT_LATITUDE = (38.933,38.9591,38.9788,38.9975,39.0151 ,39.0317,39.0473,39.062,39.0757,39.0884 ,39.1003,39.1113,39.1214,39.1306, 39.1317,39.1306,39.2818,39.4327,39.5832 ,39.7336,39.8836,40.0333,40.1827, 40.3319,40.4806,40.6291,40.7773,40.9253 ,41.2202,41.5141,41.8066,42.0981, 42.3884,42.6775,42.9654,43.2522,43.5378 ,43.7513,44.0348,44.3168,44.5975, 44.8773,45.1559,45.433,45.7784,46.0533, 46.2588,46.3271,46.3604,46.3468,46.3314 ,46.3099,46.2885,46.2677,46.2449, 46.2297,46.217,46.2039,46.1903,46.1729, 46.1545,46.1315,46.1156,46.0946,46.0778 ,46.0601,46.0374,46.0329,46.0305, 45.7625,45.4935,45.2232,44.9518,44.679, 44.4049,44.1295,43.8532,43.5753,43.2964 ,43.0165,42.7354,42.4529,42.1692, 41.8846,41.598,41.311,41.0224,40.7323, 40.441,40.2949,40.1484,40.0016,39.8546, 39.7071,39.5592,39.411,39.2625,39.039, 38.9644,38.933)
FOOTPRINT_POINT_LONGITUDE = (258.373,257.975,257.659,257.346, 257.034,256.725,256.418,256.113,255.81, 255.509,255.21,254.913,254.617,254.323, 254.286,254.28,254.276,254.273,254.269, 254.266,254.262,254.259,254.255,254.251 ,254.248,254.244,254.241,254.237,254.23 ,254.223,254.215,254.208,254.2,254.193, 254.185,254.178,254.17,254.164,254.157, 254.149,254.142,254.134,254.127,254.119 ,254.11,254.102,254.096,254.094,254.093 ,254.501,254.915,255.434,255.904, 256.323,256.745,257.01,257.223,257.436, 257.65,257.918,258.187,258.511,258.728, 259.001,259.218,259.438,259.713,259.768 ,259.786,259.723,259.66,259.598,259.536 ,259.476,259.417,259.359,259.3,259.243, 259.186,259.129,259.072,259.016,258.961 ,258.905,258.853,258.798,258.745, 258.693,258.642,258.617,258.592,258.567 ,258.542,258.518,258.495,258.471, 258.448,258.413,258.402,258.373)
ORBIT_NUMBER = 68
ORBITAL_ECCENTRICITY = 0.608
ORBITAL_INCLINATION = 86.57
ORBITAL_SEMIMAJOR_AXIS = 9361.22
PERIAPSIS_ALTITUDE = 270.1
PERIAPSIS_ARGUMENT_ANGLE = 348.25
PERIAPSIS_TIME = 2004-01-31T15:53:43.000Z
SPACECRAFT_ORIENTATION = (0.0,1.0,0.0)
^MEX_ORIENTATION_DESC = "MEX_ORIENTATION_DESC.TXT"
SPACECRAFT_POINTING_MODE = ACROSSTRACK
^MEX_POINTING_DESC = "MEX_POINTING_DESC.TXT"
RIGHT_ASCENSION = -1e+32
DECLINATION = -1e+32
OFFSET_ANGLE = -2.35
SPACECRAFT_SOLAR_DISTANCE = 2.26509e+08
TARGET_NAME = MARS
/* CAMERA DATA ELEMENTS */
DETECTOR_TEMPERATURE = 20.8173
FOCAL_PLANE_TEMPERATURE = 9.6028
INST_CMPRS_NAME = "DISCRETE COSINE TRANSFORMATION (DCT)"
INST_CMPRS_RATIO = 9.52228
INST_CMPRS_QUALITY = 0
INST_CMPRS_QUANTZ_TBL_ID = 0
INSTRUMENT_TEMPERATURE = 15.312
LENS_TEMPERATURE = 10.2145
MACROPIXEL_SIZE = 4
MISSING_FRAMES = 0
PIXEL_SUBSAMPLING_FLAG = N
SIGNAL_CHAIN_ID = 2
/* RADIOMETRIC DATA ELEMENTS */
BANDWIDTH = 88.0
CENTER_FILTER_WAVELENGTH = 538.0
RADIANCE_OFFSET = 1.22965
RADIANCE_SCALING_FACTOR = 0.00765424
REFLECTANCE_SCALING_FACTOR = 0.000338116
MEX:REFLECTANCE_OFFSET = 0.0543183
/* IMAGE OBJECT DEFINITIONS */
OBJECT = IMAGE
  INTERCHANGE_FORMAT = BINARY
  LINES = 4383
  LINE_SAMPLES = 2353
  SAMPLE_TYPE = UNSIGNED_INTEGER
  SAMPLE_BITS = 8
  BANDS = 1
  BAND_STORAGE_TYPE = BAND_SEQUENTIAL
  MAXIMUM = 255
  MEAN = 121.861
  MINIMUM = 1
  STANDARD_DEVIATION = 20.4159
END_OBJECT = IMAGE
/* MAP OBJECT DEFINITIONS */
OBJECT = IMAGE_MAP_PROJECTION
  ^DATA_SET_MAP_PROJECTION_CATALOG= "DSMAP.CAT"
  A_AXIS_RADIUS = 3396.0
  B_AXIS_RADIUS = 3396.0
  C_AXIS_RADIUS = 3396.0
  CENTER_LATITUDE = 0.0
  CENTER_LONGITUDE = 257.0
  COORDINATE_SYSTEM_NAME = PLANETOGRAPHIC
  COORDINATE_SYSTEM_TYPE = "BODY-FIXED ROTATING"
  EASTERNMOST_LONGITUDE = 259.786
  FIRST_STANDARD_PARALLEL = "N/A"
  LINE_FIRST_PIXEL = 1
  LINE_LAST_PIXEL = 4383
  LINE_PROJECTION_OFFSET = 27473.125
  MAP_PROJECTION_ROTATION = 0.0
  MAP_PROJECTION_TYPE = SINUSOIDAL
  MAP_RESOLUTION = 592.713803866667
  MAP_SCALE = 0.1
  MAXIMUM_LATITUDE = 46.3604
  MINIMUM_LATITUDE = 38.933
  POSITIVE_LONGITUDE_DIRECTION = EAST
  REFERENCE_LATITUDE = "N/A"
  REFERENCE_LONGITUDE = "N/A"
  SAMPLE_FIRST_PIXEL = 1
  SAMPLE_LAST_PIXEL = 2353
  SAMPLE_PROJECTION_OFFSET = 1237.125
  SECOND_STANDARD_PARALLEL = "N/A"
  WESTERNMOST_LONGITUDE = 254.093
END_OBJECT = IMAGE_MAP_PROJECTION
END
