PDS_VERSION_ID = PDS3
/* FILE DATA ELEMENTS */
RECORD_TYPE = UNDEFINED
/* POINTERS TO DATA OBJECTS */
^IMAGE = ("H0061_0016_SR4.TIF")
/* IDENTIFICATION DATA ELEMENTS */
DATA_SET_ID = "MEX-M-HRSC-4-REFDR-MAPPROJECT-V4.0"
DATA_SET_NAME = "MARS EXPRESS HRSC MAP PROJECTED REFDR V4.0"
DETECTOR_ID = MEX_HRSC_SRC
EVENT_TYPE = "MARS-REGIONAL-STEREO-Fl-Lc-Pf"
INSTRUMENT_HOST_ID = MEX
INSTRUMENT_HOST_NAME = "MARS EXPRESS"
INSTRUMENT_ID = HRSC
INSTRUMENT_NAME = "HIGH RESOLUTION STEREO CAMERA"
MISSION_NAME = "MARS EXPRESS"
MISSION_PHASE_NAME = MC_Phase_2
PROCESSING_LEVEL_ID = 4
PRODUCT_CREATION_TIME = 2022-11-22T09:57:07.000Z
PRODUCT_ID = "H0061_0016_SR4.TIF"
RELEASE_ID = 0002
REVISION_ID = 0000
/* QUALITY DATA ELEMENTS */
DATA_QUALITY_ID = 1
DATA_QUALITY_DESC = "Data calculated based on original SPICE kernels"
/* TIME DATA ELEMENTS */
SPACECRAFT_CLOCK_START_COUNT = "1/0023453301.32342"
SPACECRAFT_CLOCK_STOP_COUNT = "1/0023453668.63054"
IMAGE_TIME = 2004-01-29T10:54:35.917Z
START_TIME = 2004-01-29T10:54:35.915Z
STOP_TIME = 2004-01-29T10:54:35.920Z
/* ORBITAL DATA ELEMENTS */
ASCENDING_NODE_LONGITUDE = 227.73
MAXIMUM_RESOLUTION = 0.002938
FOOTPRINT_POINT_LATITUDE = (4.39799,4.40081,4.40408,4.40622, 4.40998,4.41236,4.41435,4.41653,4.41831 ,4.42049,4.42381,4.42599,4.42847, 4.43021,4.43229,4.43388,4.43636,4.43834 ,4.44156,4.44498,4.44786,4.44791, 4.44791,4.44791,4.44791,4.44791,4.44792 ,4.44792,4.44792,4.44793,4.44793, 4.44793,4.44794,4.44794,4.44794,4.44795 ,4.44795,4.44795,4.44796,4.44796, 4.44796,4.44797,4.44797,4.44797,4.44797 ,4.44798,4.44798,4.44798,4.44798, 4.44799,4.44535,4.44257,4.44039,4.4389, 4.43632,4.43424,4.43255,4.42912,4.42649 ,4.42347,4.42014,4.41751,4.41567, 4.41384,4.41091,4.40887,4.40694,4.4051, 4.40257,4.39979,4.39805,4.398,4.398, 4.398,4.398,4.398,4.398,4.398,4.398, 4.398,4.398,4.398,4.398,4.398,4.39799, 4.39799,4.39799,4.39799,4.39799,4.39799 ,4.39799,4.39799,4.39799,4.39799, 4.39799,4.39799,4.39799,4.39799,4.39799 ,4.39799)
FOOTPRINT_POINT_LONGITUDE = (309.565,309.565,309.565,309.565, 309.565,309.565,309.565,309.565,309.565 ,309.565,309.565,309.565,309.565, 309.565,309.565,309.565,309.565,309.565 ,309.565,309.565,309.565,309.565, 309.565,309.567,309.569,309.571,309.573 ,309.575,309.577,309.579,309.581, 309.583,309.585,309.587,309.589,309.591 ,309.593,309.595,309.597,309.599, 309.601,309.603,309.605,309.607,309.609 ,309.611,309.613,309.616,309.616, 309.616,309.616,309.616,309.616,309.616 ,309.616,309.616,309.616,309.616, 309.616,309.616,309.616,309.616,309.616 ,309.616,309.616,309.616,309.616, 309.616,309.616,309.616,309.616,309.616 ,309.616,309.614,309.612,309.61,309.608 ,309.606,309.604,309.602,309.6,309.598, 309.596,309.594,309.592,309.59,309.588, 309.586,309.584,309.582,309.58,309.578, 309.576,309.574,309.572,309.57,309.568, 309.566,309.566,309.565)
ORBIT_NUMBER = 61
ORBITAL_ECCENTRICITY = 0.607
ORBITAL_INCLINATION = 86.6
ORBITAL_SEMIMAJOR_AXIS = 9341.67
PERIAPSIS_ALTITUDE = 271.27
PERIAPSIS_ARGUMENT_ANGLE = 349.47
PERIAPSIS_TIME = 2004-01-29T10:50:53.000Z
SPACECRAFT_ORIENTATION = (0.0,1.0,0.0)
^MEX_ORIENTATION_DESC = "MEX_ORIENTATION_DESC.TXT"
SPACECRAFT_POINTING_MODE = ACROSSTRACK
^MEX_POINTING_DESC = "MEX_POINTING_DESC.TXT"
RIGHT_ASCENSION = -1e+32
DECLINATION = -1e+32
OFFSET_ANGLE = -0.7
SPACECRAFT_SOLAR_DISTANCE = 2.26076e+08
TARGET_NAME = MARS
/* CAMERA DATA ELEMENTS */
BUFFER_MODE_ID = BUFFER_8
EXPOSURE_DURATION = 5.04
INST_CMPRS_NAME = NONE
INST_CMPRS_RATIO = 1.0
INST_CMPRS_QUALITY = -2147483648
INST_CMPRS_QUANTZ_TBL_ID = -2147483648
INSTRUMENT_TEMPERATURE = 25.4545
MISSING_FRAMES = 0
START_BIT = 0
/* RADIOMETRIC DATA ELEMENTS */
BANDWIDTH = 250.0
CENTER_FILTER_WAVELENGTH = 600.0
RADIANCE_OFFSET = -9.99e+31
RADIANCE_SCALING_FACTOR = -9.99e+31
REFLECTANCE_SCALING_FACTOR = -9.99e+31
MEX:REFLECTANCE_OFFSET = -9.99e+31
/* IMAGE OBJECT DEFINITIONS */
OBJECT = IMAGE
  INTERCHANGE_FORMAT = BINARY
  LINES = 1226
  LINE_SAMPLES = 1249
  SAMPLE_TYPE = UNSIGNED_INTEGER
  SAMPLE_BITS = 8
  BANDS = 1
  BAND_STORAGE_TYPE = BAND_SEQUENTIAL
  MAXIMUM = 249
  MEAN = 157.057
  MINIMUM = 42
  STANDARD_DEVIATION = 18.3322
END_OBJECT = IMAGE
/* MAP OBJECT DEFINITIONS */
OBJECT = IMAGE_MAP_PROJECTION
  ^DATA_SET_MAP_PROJECTION_CATALOG= "DSMAP.CAT"
  A_AXIS_RADIUS = 3396.19
  B_AXIS_RADIUS = 3396.19
  C_AXIS_RADIUS = 3396.19
  CENTER_LATITUDE = 0.0
  CENTER_LONGITUDE = 310.0
  COORDINATE_SYSTEM_NAME = PLANETOGRAPHIC
  COORDINATE_SYSTEM_TYPE = "BODY-FIXED ROTATING"
  EASTERNMOST_LONGITUDE = 309.616
  FIRST_STANDARD_PARALLEL = "N/A"
  LINE_FIRST_PIXEL = 1
  LINE_LAST_PIXEL = 1226
  LINE_PROJECTION_OFFSET = 105479.0
  MAP_PROJECTION_ROTATION = 0.0
  MAP_PROJECTION_TYPE = SINUSOIDAL
  MAP_RESOLUTION = 23709.8786048756
  MAP_SCALE = 0.0025
  MAXIMUM_LATITUDE = 4.44799
  MINIMUM_LATITUDE = 4.39799
  POSITIVE_LONGITUDE_DIRECTION = EAST
  REFERENCE_LATITUDE = "N/A"
  REFERENCE_LONGITUDE = "N/A"
  SAMPLE_FIRST_PIXEL = 1
  SAMPLE_LAST_PIXEL = 1249
  SAMPLE_PROJECTION_OFFSET = 10301.0
  SECOND_STANDARD_PARALLEL = "N/A"
  WESTERNMOST_LONGITUDE = 309.565
END_OBJECT = IMAGE_MAP_PROJECTION
END
