PDS_VERSION_ID = PDS3
/* FILE DATA ELEMENTS */
RECORD_TYPE = UNDEFINED
/* POINTERS TO DATA OBJECTS */
^IMAGE = ("H0061_0013_SR4.TIF")
/* IDENTIFICATION DATA ELEMENTS */
DATA_SET_ID = "MEX-M-HRSC-4-REFDR-MAPPROJECT-V4.0"
DATA_SET_NAME = "MARS EXPRESS HRSC MAP PROJECTED REFDR V4.0"
DETECTOR_ID = MEX_HRSC_SRC
EVENT_TYPE = "MARS-REGIONAL-STEREO-Fl-Lc-Pf"
INSTRUMENT_HOST_ID = MEX
INSTRUMENT_HOST_NAME = "MARS EXPRESS"
INSTRUMENT_ID = HRSC
INSTRUMENT_NAME = "HIGH RESOLUTION STEREO CAMERA"
MISSION_NAME = "MARS EXPRESS"
MISSION_PHASE_NAME = MC_Phase_2
PROCESSING_LEVEL_ID = 4
PRODUCT_CREATION_TIME = 2022-11-22T09:57:07.000Z
PRODUCT_ID = "H0061_0013_SR4.TIF"
RELEASE_ID = 0002
REVISION_ID = 0000
/* QUALITY DATA ELEMENTS */
DATA_QUALITY_ID = 1
DATA_QUALITY_DESC = "Data calculated based on original SPICE kernels"
/* TIME DATA ELEMENTS */
SPACECRAFT_CLOCK_START_COUNT = "1/0023453301.32342"
SPACECRAFT_CLOCK_STOP_COUNT = "1/0023453668.63054"
IMAGE_TIME = 2004-01-29T10:54:34.282Z
START_TIME = 2004-01-29T10:54:34.280Z
STOP_TIME = 2004-01-29T10:54:34.285Z
/* ORBITAL DATA ELEMENTS */
ASCENDING_NODE_LONGITUDE = 227.73
MAXIMUM_RESOLUTION = 0.002931
FOOTPRINT_POINT_LATITUDE = (4.29034,4.29227,4.29509,4.29712, 4.30043,4.30473,4.30795,4.31042,4.31334 ,4.31572,4.31769,4.32076,4.32249, 4.32477,4.32779,4.33036,4.33234,4.3354, 4.33797,4.3401,4.34015,4.34015,4.34015, 4.34016,4.34016,4.34016,4.34017,4.34017 ,4.34017,4.34018,4.34018,4.34018, 4.34019,4.34019,4.34019,4.3402,4.3402, 4.3402,4.34021,4.34021,4.34021,4.34022, 4.34022,4.34022,4.34022,4.34023,4.34023 ,4.34023,4.34023,4.3382,4.33573,4.33275 ,4.33033,4.32849,4.32701,4.32413,4.3221 ,4.31973,4.31814,4.31542,4.31363, 4.31126,4.30824,4.30561,4.30348,4.30076 ,4.29922,4.29679,4.29521,4.29244, 4.29041,4.29036,4.29036,4.29036,4.29036 ,4.29036,4.29035,4.29035,4.29035, 4.29035,4.29035,4.29035,4.29035,4.29035 ,4.29035,4.29035,4.29035,4.29035, 4.29035,4.29035,4.29035,4.29035,4.29035 ,4.29035,4.29034,4.29034,4.29034, 4.29034,4.29034,4.29034)
FOOTPRINT_POINT_LONGITUDE = (309.565,309.565,309.565,309.565, 309.565,309.565,309.565,309.565,309.565 ,309.565,309.565,309.565,309.565, 309.565,309.565,309.565,309.565,309.565 ,309.565,309.565,309.565,309.565, 309.567,309.569,309.571,309.573,309.575 ,309.577,309.579,309.581,309.583, 309.585,309.587,309.589,309.591,309.593 ,309.595,309.597,309.599,309.602, 309.604,309.606,309.608,309.61,309.612, 309.614,309.616,309.616,309.616,309.616 ,309.616,309.616,309.616,309.616, 309.616,309.616,309.616,309.616,309.616 ,309.616,309.616,309.616,309.616, 309.616,309.616,309.616,309.616,309.616 ,309.616,309.616,309.616,309.616, 309.616,309.614,309.612,309.61,309.608, 309.606,309.604,309.602,309.6,309.598, 309.596,309.594,309.592,309.59,309.588, 309.586,309.584,309.582,309.58,309.578, 309.576,309.574,309.572,309.57,309.568, 309.566,309.566,309.565)
ORBIT_NUMBER = 61
ORBITAL_ECCENTRICITY = 0.607
ORBITAL_INCLINATION = 86.6
ORBITAL_SEMIMAJOR_AXIS = 9341.67
PERIAPSIS_ALTITUDE = 271.27
PERIAPSIS_ARGUMENT_ANGLE = 349.47
PERIAPSIS_TIME = 2004-01-29T10:50:53.000Z
SPACECRAFT_ORIENTATION = (0.0,1.0,0.0)
^MEX_ORIENTATION_DESC = "MEX_ORIENTATION_DESC.TXT"
SPACECRAFT_POINTING_MODE = ACROSSTRACK
^MEX_POINTING_DESC = "MEX_POINTING_DESC.TXT"
RIGHT_ASCENSION = -1e+32
DECLINATION = -1e+32
OFFSET_ANGLE = -0.7
SPACECRAFT_SOLAR_DISTANCE = 2.26076e+08
TARGET_NAME = MARS
/* CAMERA DATA ELEMENTS */
BUFFER_MODE_ID = BUFFER_8
EXPOSURE_DURATION = 5.04
INST_CMPRS_NAME = NONE
INST_CMPRS_RATIO = 1.0
INST_CMPRS_QUALITY = -2147483648
INST_CMPRS_QUANTZ_TBL_ID = -2147483648
INSTRUMENT_TEMPERATURE = 25.4545
MISSING_FRAMES = 0
START_BIT = 0
/* RADIOMETRIC DATA ELEMENTS */
BANDWIDTH = 250.0
CENTER_FILTER_WAVELENGTH = 600.0
RADIANCE_OFFSET = -9.99e+31
RADIANCE_SCALING_FACTOR = -9.99e+31
REFLECTANCE_SCALING_FACTOR = -9.99e+31
MEX:REFLECTANCE_OFFSET = -9.99e+31
/* IMAGE OBJECT DEFINITIONS */
OBJECT = IMAGE
  INTERCHANGE_FORMAT = BINARY
  LINES = 1223
  LINE_SAMPLES = 1247
  SAMPLE_TYPE = UNSIGNED_INTEGER
  SAMPLE_BITS = 8
  BANDS = 1
  BAND_STORAGE_TYPE = BAND_SEQUENTIAL
  MAXIMUM = 251
  MEAN = 161.576
  MINIMUM = 29
  STANDARD_DEVIATION = 17.4095
END_OBJECT = IMAGE
/* MAP OBJECT DEFINITIONS */
OBJECT = IMAGE_MAP_PROJECTION
  ^DATA_SET_MAP_PROJECTION_CATALOG= "DSMAP.CAT"
  A_AXIS_RADIUS = 3396.19
  B_AXIS_RADIUS = 3396.19
  C_AXIS_RADIUS = 3396.19
  CENTER_LATITUDE = 0.0
  CENTER_LONGITUDE = 310.0
  COORDINATE_SYSTEM_NAME = PLANETOGRAPHIC
  COORDINATE_SYSTEM_TYPE = "BODY-FIXED ROTATING"
  EASTERNMOST_LONGITUDE = 309.616
  FIRST_STANDARD_PARALLEL = "N/A"
  LINE_FIRST_PIXEL = 1
  LINE_LAST_PIXEL = 1223
  LINE_PROJECTION_OFFSET = 102924.0
  MAP_PROJECTION_ROTATION = 0.0
  MAP_PROJECTION_TYPE = SINUSOIDAL
  MAP_RESOLUTION = 23709.8786048756
  MAP_SCALE = 0.0025
  MAXIMUM_LATITUDE = 4.34023
  MINIMUM_LATITUDE = 4.29034
  POSITIVE_LONGITUDE_DIRECTION = EAST
  REFERENCE_LATITUDE = "N/A"
  REFERENCE_LONGITUDE = "N/A"
  SAMPLE_FIRST_PIXEL = 1
  SAMPLE_LAST_PIXEL = 1247
  SAMPLE_PROJECTION_OFFSET = 10299.0
  SECOND_STANDARD_PARALLEL = "N/A"
  WESTERNMOST_LONGITUDE = 309.565
END_OBJECT = IMAGE_MAP_PROJECTION
END
