PDS_VERSION_ID = PDS3
/* FILE DATA ELEMENTS */
RECORD_TYPE = UNDEFINED
/* POINTERS TO DATA OBJECTS */
^IMAGE = ("H0061_0006_SR4.TIF")
/* IDENTIFICATION DATA ELEMENTS */
DATA_SET_ID = "MEX-M-HRSC-4-REFDR-MAPPROJECT-V4.0"
DATA_SET_NAME = "MARS EXPRESS HRSC MAP PROJECTED REFDR V4.0"
DETECTOR_ID = MEX_HRSC_SRC
EVENT_TYPE = "MARS-GLOBAL-COLOR-Gl-La"
INSTRUMENT_HOST_ID = MEX
INSTRUMENT_HOST_NAME = "MARS EXPRESS"
INSTRUMENT_ID = HRSC
INSTRUMENT_NAME = "HIGH RESOLUTION STEREO CAMERA"
MISSION_NAME = "MARS EXPRESS"
MISSION_PHASE_NAME = MC_Phase_2
PROCESSING_LEVEL_ID = 4
PRODUCT_CREATION_TIME = 2022-11-22T09:57:07.000Z
PRODUCT_ID = "H0061_0006_SR4.TIF"
RELEASE_ID = 0002
REVISION_ID = 0000
/* QUALITY DATA ELEMENTS */
DATA_QUALITY_ID = 1
DATA_QUALITY_DESC = "Data calculated based on original SPICE kernels"
/* TIME DATA ELEMENTS */
SPACECRAFT_CLOCK_START_COUNT = "1/0023451072.32962"
SPACECRAFT_CLOCK_STOP_COUNT = "1/0023452421.19507"
IMAGE_TIME = 2004-01-29T10:29:18.759Z
START_TIME = 2004-01-29T10:29:18.757Z
STOP_TIME = 2004-01-29T10:29:18.762Z
/* ORBITAL DATA ELEMENTS */
ASCENDING_NODE_LONGITUDE = 227.73
MAXIMUM_RESOLUTION = 0.014058
FOOTPRINT_POINT_LATITUDE = (-81.1702,-81.1587,-81.1476,-81.1376, -81.1283,-81.121,-81.1103,-81.0969, -81.0885,-81.0765,-81.0651,-81.0551, -81.0426,-81.0341,-81.0271,-81.0139, -80.9975,-80.9848,-80.9761,-80.9691, -80.9604,-80.9513,-80.9415,-80.9413, -80.9414,-80.9442,-80.947,-80.9498, -80.9532,-80.956,-80.9588,-80.9615, -80.9643,-80.967,-80.9697,-80.9724, -80.9751,-80.9778,-80.9805,-80.9832, -80.9859,-80.9885,-80.9912,-80.9938, -80.9964,-81.0004,-81.003,-81.0056, -81.0088,-81.0094,-81.0097,-81.0262, -81.0414,-81.0513,-81.0669,-81.0803, -81.0916,-81.0989,-81.1085,-81.1225, -81.1317,-81.1434,-81.1585,-81.1709, -81.1799,-81.1876,-81.1987,-81.2058, -81.2168,-81.2264,-81.2404,-81.2406, -81.2405,-81.2379,-81.2352,-81.2332, -81.2305,-81.2278,-81.2251,-81.2224, -81.2197,-81.2156,-81.2129,-81.2101, -81.2073,-81.2046,-81.2025,-81.1997, -81.1969,-81.1941,-81.1913,-81.1884, -81.1849,-81.182,-81.1792,-81.1763, -81.1735,-81.1713,-81.1705,-81.1702)
FOOTPRINT_POINT_LONGITUDE = (296.568,296.591,296.615,296.635, 296.654,296.669,296.691,296.718,296.735 ,296.76,296.783,296.803,296.828,296.845 ,296.859,296.886,296.918,296.944, 296.961,296.975,296.992,297.01,297.029, 297.03,297.031,297.089,297.147,297.205, 297.278,297.337,297.395,297.453,297.511 ,297.569,297.628,297.686,297.745, 297.803,297.861,297.92,297.978,298.037, 298.095,298.154,298.213,298.301,298.36, 298.418,298.492,298.507,298.513,298.483 ,298.455,298.438,298.409,298.382, 298.362,298.348,298.331,298.305,298.288 ,298.267,298.239,298.216,298.199, 298.184,298.164,298.15,298.13,298.112, 298.085,298.085,298.083,298.023,297.963 ,297.918,297.858,297.797,297.737, 297.677,297.617,297.527,297.467,297.408 ,297.348,297.288,297.243,297.183, 297.124,297.064,297.005,296.945,296.87, 296.811,296.752,296.692,296.633,296.588 ,296.573,296.568)
ORBIT_NUMBER = 61
ORBITAL_ECCENTRICITY = 0.607
ORBITAL_INCLINATION = 86.6
ORBITAL_SEMIMAJOR_AXIS = 9341.67
PERIAPSIS_ALTITUDE = 271.27
PERIAPSIS_ARGUMENT_ANGLE = 349.47
PERIAPSIS_TIME = 2004-01-29T10:50:53.000Z
SPACECRAFT_ORIENTATION = (0.0,1.0,0.0)
^MEX_ORIENTATION_DESC = "MEX_ORIENTATION_DESC.TXT"
SPACECRAFT_POINTING_MODE = ACROSSTRACK
^MEX_POINTING_DESC = "MEX_POINTING_DESC.TXT"
RIGHT_ASCENSION = -1e+32
DECLINATION = -1e+32
OFFSET_ANGLE = -0.7
SPACECRAFT_SOLAR_DISTANCE = 2.26076e+08
TARGET_NAME = MARS
/* CAMERA DATA ELEMENTS */
BUFFER_MODE_ID = BUFFER_8
EXPOSURE_DURATION = 5.04
INST_CMPRS_NAME = NONE
INST_CMPRS_RATIO = 1.0
INST_CMPRS_QUALITY = -2147483648
INST_CMPRS_QUANTZ_TBL_ID = -2147483648
INSTRUMENT_TEMPERATURE = 25.4545
MISSING_FRAMES = 0
START_BIT = 0
/* RADIOMETRIC DATA ELEMENTS */
BANDWIDTH = 250.0
CENTER_FILTER_WAVELENGTH = 600.0
RADIANCE_OFFSET = -9.99e+31
RADIANCE_SCALING_FACTOR = -9.99e+31
REFLECTANCE_SCALING_FACTOR = -9.99e+31
MEX:REFLECTANCE_OFFSET = -9.99e+31
/* IMAGE OBJECT DEFINITIONS */
OBJECT = IMAGE
  INTERCHANGE_FORMAT = BINARY
  LINES = 1836
  LINE_SAMPLES = 1839
  SAMPLE_TYPE = UNSIGNED_INTEGER
  SAMPLE_BITS = 8
  BANDS = 1
  BAND_STORAGE_TYPE = BAND_SEQUENTIAL
  MAXIMUM = 250
  MEAN = 182.353
  MINIMUM = 1
  STANDARD_DEVIATION = 13.0269
END_OBJECT = IMAGE
/* MAP OBJECT DEFINITIONS */
OBJECT = IMAGE_MAP_PROJECTION
  ^DATA_SET_MAP_PROJECTION_CATALOG= "DSMAP.CAT"
  A_AXIS_RADIUS = 3396.19
  B_AXIS_RADIUS = 3396.19
  C_AXIS_RADIUS = 3396.19
  CENTER_LATITUDE = 0.0
  CENTER_LONGITUDE = 298.0
  COORDINATE_SYSTEM_NAME = PLANETOGRAPHIC
  COORDINATE_SYSTEM_TYPE = "BODY-FIXED ROTATING"
  EASTERNMOST_LONGITUDE = 298.513
  FIRST_STANDARD_PARALLEL = "N/A"
  LINE_FIRST_PIXEL = 1
  LINE_LAST_PIXEL = 1836
  LINE_PROJECTION_OFFSET = -478514.0
  MAP_PROJECTION_ROTATION = 0.0
  MAP_PROJECTION_TYPE = SINUSOIDAL
  MAP_RESOLUTION = 5927.46965121889
  MAP_SCALE = 0.01
  MAXIMUM_LATITUDE = -80.9413
  MINIMUM_LATITUDE = -81.2406
  POSITIVE_LONGITUDE_DIRECTION = EAST
  REFERENCE_LATITUDE = "N/A"
  REFERENCE_LONGITUDE = "N/A"
  SAMPLE_FIRST_PIXEL = 1
  SAMPLE_LAST_PIXEL = 1839
  SAMPLE_PROJECTION_OFFSET = 1253.0
  SECOND_STANDARD_PARALLEL = "N/A"
  WESTERNMOST_LONGITUDE = 296.568
END_OBJECT = IMAGE_MAP_PROJECTION
END
