PDS_VERSION_ID = PDS3
/* FILE DATA ELEMENTS */
RECORD_TYPE = UNDEFINED
/* POINTERS TO DATA OBJECTS */
^IMAGE = ("H0049_0000_S14.TIF")
/* IDENTIFICATION DATA ELEMENTS */
DATA_SET_ID = "MEX-M-HRSC-4-REFDR-MAPPROJECT-V4.0"
DATA_SET_NAME = "MARS EXPRESS HRSC MAP PROJECTED REFDR V4.0"
DETECTOR_ID = MEX_HRSC_S1
EVENT_TYPE = "MARS-REGIONAL-MAPPING-Vo-Eo-Mw"
INSTRUMENT_HOST_ID = MEX
INSTRUMENT_HOST_NAME = "MARS EXPRESS"
INSTRUMENT_ID = HRSC
INSTRUMENT_NAME = "HIGH RESOLUTION STEREO CAMERA"
MISSION_NAME = "MARS EXPRESS"
MISSION_PHASE_NAME = MC_Phase_1
PROCESSING_LEVEL_ID = 4
PRODUCT_CREATION_TIME = 2022-11-22T09:57:07.000Z
PRODUCT_ID = "H0049_0000_S14.TIF"
RELEASE_ID = 0002
REVISION_ID = 0000
/* QUALITY DATA ELEMENTS */
DATA_QUALITY_ID = 1
DATA_QUALITY_DESC = "Data calculated based on original SPICE kernels"
/* TIME DATA ELEMENTS */
SPACECRAFT_CLOCK_START_COUNT = "1/0023122562.32198"
SPACECRAFT_CLOCK_STOP_COUNT = "1/0023123251.34225"
START_TIME = 2004-01-25T14:57:04.731Z
STOP_TIME = 2004-01-25T15:14:11.840Z
/* ORBITAL DATA ELEMENTS */
ASCENDING_NODE_LONGITUDE = 227.99
MAXIMUM_RESOLUTION = 0.0232
FOOTPRINT_POINT_LATITUDE = (-20.9427,-20.9372,-20.9371,-20.9487, -19.5374,-18.1539,-16.1103,-14.7915, -13.4741,-12.1594,-10.8487,-9.54444, -8.24461,-6.95122,-4.96314,-3.63077, -1.58309,-0.215891,1.13371,2.48,3.81547 ,5.13887,6.45282,7.75479,9.0417,10.3149 ,11.5749,12.8221,14.0553,15.2738, 16.4807,17.6702,18.8428,20.0011,21.1435 ,22.27,23.3806,24.4752,25.5531,26.6139, 27.658,28.6906,29.7037,30.7004,32.6447, 34.5251,36.342,38.0958,38.5244,38.5249, 38.5286,38.4562,38.4544,38.4535,36.7287 ,34.9384,33.0844,31.1683,30.1838, 29.1822,28.1698,27.1317,26.0817,25.0128 ,23.928,22.8261,21.7099,20.5749,19.4238 ,18.2591,17.0795,15.8815,14.6689, 13.4416,12.2018,10.9477,9.68295,8.40399 ,7.11207,5.80503,4.48216,3.15184, 1.81136,0.461563,-0.894233,-2.26287, -4.29484,-5.62669,-6.94934,-8.24508, -9.54189,-10.8552,-12.8165,-14.1312, -15.434,-16.7827,-18.1607,-20.2262, -20.9492,-20.9427)
FOOTPRINT_POINT_LONGITUDE = (212.717,211.617,211.606,211.598, 211.624,211.648,211.671,211.685,211.696 ,211.705,211.711,211.715,211.716, 211.714,211.707,211.701,211.69,211.679, 211.664,211.648,211.631,211.612,211.591 ,211.569,211.544,211.518,211.49,211.46, 211.429,211.396,211.362,211.326,211.288 ,211.248,211.207,211.164,211.119, 211.073,211.025,210.974,210.922,210.868 ,210.813,210.756,210.635,210.507, 210.371,210.227,210.189,210.189,211.462 ,214.372,214.413,214.428,214.229, 214.046,213.876,213.719,213.646,213.577 ,213.509,213.445,213.385,213.328, 213.275,213.224,213.175,213.131,213.089 ,213.048,213.011,212.976,212.944, 212.914,212.886,212.86,212.836,212.813, 212.793,212.775,212.761,212.747,212.734 ,212.723,212.712,212.704,212.699, 212.693,212.689,212.687,212.685,212.688 ,212.689,212.692,212.691,212.7,212.706, 212.714,212.72,212.717)
ORBIT_NUMBER = 49
ORBITAL_ECCENTRICITY = 0.617
ORBITAL_INCLINATION = 86.61
ORBITAL_SEMIMAJOR_AXIS = 9576.27
PERIAPSIS_ALTITUDE = 271.8
PERIAPSIS_ARGUMENT_ANGLE = 351.48
PERIAPSIS_TIME = 2004-01-25T14:59:43.000Z
SPACECRAFT_ORIENTATION = (0.0,1.0,0.0)
^MEX_ORIENTATION_DESC = "MEX_ORIENTATION_DESC.TXT"
SPACECRAFT_POINTING_MODE = NADIR
^MEX_POINTING_DESC = "MEX_POINTING_DESC.TXT"
RIGHT_ASCENSION = -1e+32
DECLINATION = -1e+32
OFFSET_ANGLE = -1e+32
SPACECRAFT_SOLAR_DISTANCE = 2.25326e+08
TARGET_NAME = MARS
/* CAMERA DATA ELEMENTS */
DETECTOR_TEMPERATURE = 17.9627
FOCAL_PLANE_TEMPERATURE = 9.8067
INST_CMPRS_NAME = "DISCRETE COSINE TRANSFORMATION (DCT)"
INST_CMPRS_RATIO = 9.81693
INST_CMPRS_QUALITY = 0
INST_CMPRS_QUANTZ_TBL_ID = 0
INSTRUMENT_TEMPERATURE = 11.6418
LENS_TEMPERATURE = 10.2145
MACROPIXEL_SIZE = 2
MISSING_FRAMES = 2
PIXEL_SUBSAMPLING_FLAG = N
SIGNAL_CHAIN_ID = 1
/* RADIOMETRIC DATA ELEMENTS */
BANDWIDTH = 180.0
CENTER_FILTER_WAVELENGTH = 677.0
RADIANCE_OFFSET = 7.32647
RADIANCE_SCALING_FACTOR = 0.0265212
REFLECTANCE_SCALING_FACTOR = 0.000702513
MEX:REFLECTANCE_OFFSET = 0.194069
/* IMAGE OBJECT DEFINITIONS */
OBJECT = IMAGE
  INTERCHANGE_FORMAT = BINARY
  LINES = 141427
  LINE_SAMPLES = 6544
  SAMPLE_TYPE = UNSIGNED_INTEGER
  SAMPLE_BITS = 8
  BANDS = 1
  BAND_STORAGE_TYPE = BAND_SEQUENTIAL
  MAXIMUM = 255
  MEAN = 128.996
  MINIMUM = 1
  STANDARD_DEVIATION = 44.9602
END_OBJECT = IMAGE
/* MAP OBJECT DEFINITIONS */
OBJECT = IMAGE_MAP_PROJECTION
  ^DATA_SET_MAP_PROJECTION_CATALOG= "DSMAP.CAT"
  A_AXIS_RADIUS = 3396.0
  B_AXIS_RADIUS = 3396.0
  C_AXIS_RADIUS = 3396.0
  CENTER_LATITUDE = 0.0
  CENTER_LONGITUDE = 212.0
  COORDINATE_SYSTEM_NAME = PLANETOGRAPHIC
  COORDINATE_SYSTEM_TYPE = "BODY-FIXED ROTATING"
  EASTERNMOST_LONGITUDE = 214.428
  FIRST_STANDARD_PARALLEL = "N/A"
  LINE_FIRST_PIXEL = 1
  LINE_LAST_PIXEL = 141427
  LINE_PROJECTION_OFFSET = 90891.25
  MAP_PROJECTION_ROTATION = 0.0
  MAP_PROJECTION_TYPE = SINUSOIDAL
  MAP_RESOLUTION = 2370.85521546667
  MAP_SCALE = 0.025
  MAXIMUM_LATITUDE = 38.5286
  MINIMUM_LATITUDE = -20.9492
  POSITIVE_LONGITUDE_DIRECTION = EAST
  REFERENCE_LATITUDE = "N/A"
  REFERENCE_LONGITUDE = "N/A"
  SAMPLE_FIRST_PIXEL = 1
  SAMPLE_LAST_PIXEL = 6544
  SAMPLE_PROJECTION_OFFSET = 2658.75
  SECOND_STANDARD_PARALLEL = "N/A"
  WESTERNMOST_LONGITUDE = 210.189
END_OBJECT = IMAGE_MAP_PROJECTION
END
