PDS_VERSION_ID = PDS3
/* FILE DATA ELEMENTS */
RECORD_TYPE = UNDEFINED
/* POINTERS TO DATA OBJECTS */
^IMAGE = ("H0047_0002_SR4.TIF")
/* IDENTIFICATION DATA ELEMENTS */
DATA_SET_ID = "MEX-M-HRSC-4-REFDR-MAPPROJECT-V4.0"
DATA_SET_NAME = "MARS EXPRESS HRSC MAP PROJECTED REFDR V4.0"
DETECTOR_ID = MEX_HRSC_SRC
EVENT_TYPE = "MARS-REGIONAL-MAPPING-Im-Fl-Pf"
INSTRUMENT_HOST_ID = MEX
INSTRUMENT_HOST_NAME = "MARS EXPRESS"
INSTRUMENT_ID = HRSC
INSTRUMENT_NAME = "HIGH RESOLUTION STEREO CAMERA"
MISSION_NAME = "MARS EXPRESS"
MISSION_PHASE_NAME = MC_Phase_1
PROCESSING_LEVEL_ID = 4
PRODUCT_CREATION_TIME = 2022-11-22T09:57:07.000Z
PRODUCT_ID = "H0047_0002_SR4.TIF"
RELEASE_ID = 0002
REVISION_ID = 0000
/* QUALITY DATA ELEMENTS */
DATA_QUALITY_ID = 1
DATA_QUALITY_DESC = "Data calculated based on original SPICE kernels"
/* TIME DATA ELEMENTS */
SPACECRAFT_CLOCK_START_COUNT = "1/0023065284.32964"
SPACECRAFT_CLOCK_STOP_COUNT = "1/0023065896.31798"
IMAGE_TIME = 2004-01-24T23:07:49.253Z
START_TIME = 2004-01-24T23:07:49.251Z
STOP_TIME = 2004-01-24T23:07:49.256Z
/* ORBITAL DATA ELEMENTS */
ASCENDING_NODE_LONGITUDE = 228.02
MAXIMUM_RESOLUTION = 0.005128
FOOTPRINT_POINT_LATITUDE = (-43.3813,-43.3778,-43.3737,-43.3685, -43.3652,-43.3608,-43.3549,-43.3514, -43.3458,-43.3408,-43.337,-43.332, -43.3281,-43.3254,-43.3221,-43.3169, -43.3133,-43.308,-43.3039,-43.2998, -43.2967,-43.2939,-43.2939,-43.2939, -43.294,-43.2941,-43.2942,-43.2943, -43.2944,-43.2945,-43.2947,-43.2948, -43.2949,-43.295,-43.2951,-43.2952, -43.2953,-43.2954,-43.2955,-43.2956, -43.2957,-43.2958,-43.2959,-43.296, -43.2961,-43.2962,-43.2963,-43.2965, -43.2965,-43.2965,-43.2991,-43.3026, -43.3052,-43.3103,-43.3145,-43.3175, -43.3205,-43.324,-43.3288,-43.334, -43.3373,-43.3417,-43.3477,-43.3505, -43.3556,-43.3593,-43.3627,-43.3676, -43.3707,-43.3755,-43.3788,-43.3839, -43.384,-43.384,-43.3838,-43.3837, -43.3836,-43.3835,-43.3834,-43.3833, -43.3832,-43.3831,-43.383,-43.3829, -43.3828,-43.3827,-43.3826,-43.3825, -43.3823,-43.3822,-43.3821,-43.382, -43.3819,-43.3818,-43.3817,-43.3816, -43.3815,-43.3814,-43.3813,-43.3813)
FOOTPRINT_POINT_LONGITUDE = (81.4474,81.4475,81.4477,81.448,81.4481 ,81.4483,81.4485,81.4487,81.4489, 81.4491,81.4493,81.4495,81.4497,81.4498 ,81.4499,81.4501,81.4503,81.4505, 81.4507,81.4509,81.451,81.4511,81.4511, 81.4512,81.456,81.4608,81.4656,81.4715, 81.4775,81.4811,81.487,81.4918,81.4978, 81.5014,81.5061,81.5109,81.5157,81.5204 ,81.5252,81.53,81.5348,81.5395,81.5443, 81.5491,81.5539,81.5586,81.5634,81.5706 ,81.5718,81.5725,81.5724,81.5722, 81.5721,81.5719,81.5718,81.5716,81.5715 ,81.5714,81.5712,81.571,81.5708,81.5707 ,81.5704,81.5703,81.5701,81.5699, 81.5698,81.5696,81.5695,81.5693,81.5692 ,81.569,81.5689,81.5688,81.5617,81.5569 ,81.5533,81.5485,81.5437,81.5378,81.533 ,81.527,81.5222,81.5186,81.515,81.5091, 81.5043,81.4983,81.4935,81.4888,81.4816 ,81.4756,81.472,81.4672,81.4637,81.4589 ,81.4541,81.4493,81.4481,81.4474)
ORBIT_NUMBER = 47
ORBITAL_ECCENTRICITY = 0.617
ORBITAL_INCLINATION = 86.62
ORBITAL_SEMIMAJOR_AXIS = 9581.9
PERIAPSIS_ALTITUDE = 271.41
PERIAPSIS_ARGUMENT_ANGLE = 351.85
PERIAPSIS_TIME = 2004-01-24T23:16:55.000Z
SPACECRAFT_ORIENTATION = (0.0,1.0,0.0)
^MEX_ORIENTATION_DESC = "MEX_ORIENTATION_DESC.TXT"
SPACECRAFT_POINTING_MODE = NADIR
^MEX_POINTING_DESC = "MEX_POINTING_DESC.TXT"
RIGHT_ASCENSION = -1e+32
DECLINATION = -1e+32
OFFSET_ANGLE = -1e+32
SPACECRAFT_SOLAR_DISTANCE = 2.25198e+08
TARGET_NAME = MARS
/* CAMERA DATA ELEMENTS */
BUFFER_MODE_ID = BUFFER_14
EXPOSURE_DURATION = 5.04
INST_CMPRS_NAME = NONE
INST_CMPRS_RATIO = 1.0
INST_CMPRS_QUALITY = -2147483648
INST_CMPRS_QUANTZ_TBL_ID = -2147483648
INSTRUMENT_TEMPERATURE = 5.15152
MISSING_FRAMES = 0
START_BIT = -2147483648
/* RADIOMETRIC DATA ELEMENTS */
BANDWIDTH = 250.0
CENTER_FILTER_WAVELENGTH = 600.0
RADIANCE_OFFSET = -9.99e+31
RADIANCE_SCALING_FACTOR = -9.99e+31
REFLECTANCE_SCALING_FACTOR = -9.99e+31
MEX:REFLECTANCE_OFFSET = -9.99e+31
/* IMAGE OBJECT DEFINITIONS */
OBJECT = IMAGE
  INTERCHANGE_FORMAT = BINARY
  LINES = 1127
  LINE_SAMPLES = 1131
  SAMPLE_TYPE = UNSIGNED_INTEGER
  SAMPLE_BITS = 8
  BANDS = 1
  BAND_STORAGE_TYPE = BAND_SEQUENTIAL
  MAXIMUM = 241
  MEAN = 158.412
  MINIMUM = 7
  STANDARD_DEVIATION = 18.2856
END_OBJECT = IMAGE
/* MAP OBJECT DEFINITIONS */
OBJECT = IMAGE_MAP_PROJECTION
  ^DATA_SET_MAP_PROJECTION_CATALOG= "DSMAP.CAT"
  A_AXIS_RADIUS = 3396.19
  B_AXIS_RADIUS = 3396.19
  C_AXIS_RADIUS = 3396.19
  CENTER_LATITUDE = 0.0
  CENTER_LONGITUDE = 82.0
  COORDINATE_SYSTEM_NAME = PLANETOGRAPHIC
  COORDINATE_SYSTEM_TYPE = "BODY-FIXED ROTATING"
  EASTERNMOST_LONGITUDE = 81.57250000000001
  FIRST_STANDARD_PARALLEL = "N/A"
  LINE_FIRST_PIXEL = 1
  LINE_LAST_PIXEL = 1127
  LINE_PROJECTION_OFFSET = -512703.0
  MAP_PROJECTION_ROTATION = 0.0
  MAP_PROJECTION_TYPE = SINUSOIDAL
  MAP_RESOLUTION = 11854.9393024378
  MAP_SCALE = 0.005
  MAXIMUM_LATITUDE = -43.2939
  MINIMUM_LATITUDE = -43.384
  POSITIVE_LONGITUDE_DIRECTION = EAST
  REFERENCE_LATITUDE = "N/A"
  REFERENCE_LONGITUDE = "N/A"
  SAMPLE_FIRST_PIXEL = 1
  SAMPLE_LAST_PIXEL = 1131
  SAMPLE_PROJECTION_OFFSET = 4777.0
  SECOND_STANDARD_PARALLEL = "N/A"
  WESTERNMOST_LONGITUDE = 81.4474
END_OBJECT = IMAGE_MAP_PROJECTION
END
