PDS_VERSION_ID = PDS3
/* FILE DATA ELEMENTS */
RECORD_TYPE = UNDEFINED
/* POINTERS TO DATA OBJECTS */
^IMAGE = ("H0037_0000_ND4.TIF")
/* IDENTIFICATION DATA ELEMENTS */
DATA_SET_ID = "MEX-M-HRSC-4-REFDR-MAPPROJECT-V4.0"
DATA_SET_NAME = "MARS EXPRESS HRSC MAP PROJECTED REFDR V4.0"
DETECTOR_ID = MEX_HRSC_NADIR
EVENT_TYPE = "MARS-REGIONAL-STEREO-Vo-Eo-Mw"
INSTRUMENT_HOST_ID = MEX
INSTRUMENT_HOST_NAME = "MARS EXPRESS"
INSTRUMENT_ID = HRSC
INSTRUMENT_NAME = "HIGH RESOLUTION STEREO CAMERA"
MISSION_NAME = "MARS EXPRESS"
MISSION_PHASE_NAME = MC_Phase_1
PROCESSING_LEVEL_ID = 4
PRODUCT_CREATION_TIME = 2022-11-22T09:57:07.000Z
PRODUCT_ID = "H0037_0000_ND4.TIF"
RELEASE_ID = 0002
REVISION_ID = 0000
/* QUALITY DATA ELEMENTS */
DATA_QUALITY_ID = 1
DATA_QUALITY_DESC = "Data calculated based on original SPICE kernels"
/* TIME DATA ELEMENTS */
SPACECRAFT_CLOCK_START_COUNT = "1/0022765387.31220"
SPACECRAFT_CLOCK_STOP_COUNT = "1/0022765977.56890"
START_TIME = 2004-01-21T11:43:49.331Z
STOP_TIME = 2004-01-21T12:00:42.337Z
/* ORBITAL DATA ELEMENTS */
ASCENDING_NODE_LONGITUDE = 228.23
MAXIMUM_RESOLUTION = 0.013
FOOTPRINT_POINT_LATITUDE = (-18.3486,-18.3852,-18.3854,-18.3855, -16.3169,-14.9729,-12.9694,-11.6621, -10.3525,-9.04129,-7.72888,-6.44854, -5.18069,-3.88457,-2.57284,-1.26265, 0.0454885,1.35105,2.69497,4.03843, 5.41014,6.78837,8.16069,9.52652,10.8853 ,12.2366,13.5799,14.9155,16.242,17.5589 ,18.8653,20.1608,21.446,22.7204,23.9825 ,25.2344,26.4745,27.7027,28.9186, 30.1219,31.3126,32.4907,33.6559,35.9475 ,38.1867,40.3728,42.148,44.2378,44.752, 44.7609,44.5879,44.4624,44.4582,44.4559 ,42.4218,40.1597,38.0066,35.7964, 33.5302,32.3756,31.2077,30.027,28.8334, 27.6261,26.4064,25.1738,23.9293,22.6743 ,21.4081,20.1295,18.8405,17.5391, 16.2255,14.9015,13.5688,12.2294,10.8818 ,9.52643,8.16389,6.79476,5.41955, 4.05031,2.70948,1.3677,0.0645379, -1.24127,-2.54922,-3.8588,-5.15321, -6.4191,-7.6971,-9.00751,-10.3168, -11.6244,-12.9298,-14.9301,-16.2721, -17.6481,-18.3372,-18.3486)
FOOTPRINT_POINT_LONGITUDE = (228.039,226.239,226.224,226.206,226.18 ,226.165,226.142,226.127,226.112, 226.102,226.093,226.081,226.074,226.069 ,226.066,226.062,226.055,226.045, 226.039,226.03,226.03,226.038,226.042, 226.044,226.044,226.045,226.038,225.962 ,225.907,225.876,225.897,225.958, 225.995,226.021,226.094,226.104,226.111 ,226.116,226.124,226.138,226.154, 226.166,226.179,226.203,226.229,226.272 ,226.306,226.352,226.364,226.364, 229.465,231.097,231.148,231.173,230.72, 230.279,229.907,229.577,229.281,229.159 ,229.041,228.919,228.796,228.693, 228.587,228.497,228.401,228.263,228.109 ,227.982,227.828,227.74,227.756,227.826 ,227.899,227.867,227.836,227.81,227.785 ,227.757,227.728,227.704,227.701, 227.707,227.714,227.721,227.724,227.724 ,227.733,227.742,227.758,227.778,227.8, 227.827,227.858,227.907,227.947,227.991 ,228.014,228.039)
ORBIT_NUMBER = 37
ORBITAL_ECCENTRICITY = 0.642
ORBITAL_INCLINATION = 86.65
ORBITAL_SEMIMAJOR_AXIS = 10255.5
PERIAPSIS_ALTITUDE = 273.25
PERIAPSIS_ARGUMENT_ANGLE = 353.94
PERIAPSIS_TIME = 2004-01-21T11:46:52.000Z
SPACECRAFT_ORIENTATION = (0.0,1.0,0.0)
^MEX_ORIENTATION_DESC = "MEX_ORIENTATION_DESC.TXT"
SPACECRAFT_POINTING_MODE = ACROSSTRACK
^MEX_POINTING_DESC = "MEX_POINTING_DESC.TXT"
RIGHT_ASCENSION = -1e+32
DECLINATION = -1e+32
OFFSET_ANGLE = -2.9
SPACECRAFT_SOLAR_DISTANCE = 2.24518e+08
TARGET_NAME = MARS
/* CAMERA DATA ELEMENTS */
DETECTOR_TEMPERATURE = 18.3705
FOCAL_PLANE_TEMPERATURE = 9.8067
INST_CMPRS_NAME = "DISCRETE COSINE TRANSFORMATION (DCT)"
INST_CMPRS_RATIO = 5.9939
INST_CMPRS_QUALITY = 0
INST_CMPRS_QUANTZ_TBL_ID = 0
INSTRUMENT_TEMPERATURE = 11.6418
LENS_TEMPERATURE = 10.2145
MACROPIXEL_SIZE = 1
PIXEL_SUBSAMPLING_FLAG = N
SIGNAL_CHAIN_ID = 0
/* RADIOMETRIC DATA ELEMENTS */
BANDWIDTH = 177.0
CENTER_FILTER_WAVELENGTH = 677.5
RADIANCE_OFFSET = 4.13123
RADIANCE_SCALING_FACTOR = 0.038992
REFLECTANCE_SCALING_FACTOR = 0.00104414
MEX:REFLECTANCE_OFFSET = 0.110627
/* IMAGE OBJECT DEFINITIONS */
OBJECT = IMAGE
  INTERCHANGE_FORMAT = BINARY
  LINES = 299423
  LINE_SAMPLES = 19209
  SAMPLE_TYPE = UNSIGNED_INTEGER
  SAMPLE_BITS = 8
  BANDS = 1
  BAND_STORAGE_TYPE = BAND_SEQUENTIAL
  MAXIMUM = 255
  MEAN = 148.478
  MINIMUM = 1
  STANDARD_DEVIATION = 58.6578
END_OBJECT = IMAGE
/* MAP OBJECT DEFINITIONS */
OBJECT = IMAGE_MAP_PROJECTION
  ^DATA_SET_MAP_PROJECTION_CATALOG= "DSMAP.CAT"
  A_AXIS_RADIUS = 3396.0
  B_AXIS_RADIUS = 3396.0
  C_AXIS_RADIUS = 3396.0
  CENTER_LATITUDE = 0.0
  CENTER_LONGITUDE = 227.0
  COORDINATE_SYSTEM_NAME = PLANETOGRAPHIC
  COORDINATE_SYSTEM_TYPE = "BODY-FIXED ROTATING"
  EASTERNMOST_LONGITUDE = 231.173
  FIRST_STANDARD_PARALLEL = "N/A"
  LINE_FIRST_PIXEL = 1
  LINE_LAST_PIXEL = 299423
  LINE_PROJECTION_OFFSET = 212242.0
  MAP_PROJECTION_ROTATION = 0.0
  MAP_PROJECTION_TYPE = SINUSOIDAL
  MAP_RESOLUTION = 4741.71043093333
  MAP_SCALE = 0.0125
  MAXIMUM_LATITUDE = 44.7609
  MINIMUM_LATITUDE = -18.3855
  POSITIVE_LONGITUDE_DIRECTION = EAST
  REFERENCE_LATITUDE = "N/A"
  REFERENCE_LONGITUDE = "N/A"
  SAMPLE_FIRST_PIXEL = 1
  SAMPLE_LAST_PIXEL = 19209
  SAMPLE_PROJECTION_OFFSET = 5088.0
  SECOND_STANDARD_PARALLEL = "N/A"
  WESTERNMOST_LONGITUDE = 225.876
END_OBJECT = IMAGE_MAP_PROJECTION
END
