PDS_VERSION_ID = PDS3
/* FILE DATA ELEMENTS */
RECORD_TYPE = UNDEFINED
/* POINTERS TO DATA OBJECTS */
^IMAGE = ("H0037_0000_BL4.TIF")
/* IDENTIFICATION DATA ELEMENTS */
DATA_SET_ID = "MEX-M-HRSC-4-REFDR-MAPPROJECT-V4.0"
DATA_SET_NAME = "MARS EXPRESS HRSC MAP PROJECTED REFDR V4.0"
DETECTOR_ID = MEX_HRSC_BLUE
EVENT_TYPE = "MARS-REGIONAL-STEREO-Vo-Eo-Mw"
INSTRUMENT_HOST_ID = MEX
INSTRUMENT_HOST_NAME = "MARS EXPRESS"
INSTRUMENT_ID = HRSC
INSTRUMENT_NAME = "HIGH RESOLUTION STEREO CAMERA"
MISSION_NAME = "MARS EXPRESS"
MISSION_PHASE_NAME = MC_Phase_1
PROCESSING_LEVEL_ID = 4
PRODUCT_CREATION_TIME = 2022-11-22T09:57:07.000Z
PRODUCT_ID = "H0037_0000_BL4.TIF"
RELEASE_ID = 0002
REVISION_ID = 0000
/* QUALITY DATA ELEMENTS */
DATA_QUALITY_ID = 1
DATA_QUALITY_DESC = "Data calculated based on original SPICE kernels"
/* TIME DATA ELEMENTS */
SPACECRAFT_CLOCK_START_COUNT = "1/0022765387.31220"
SPACECRAFT_CLOCK_STOP_COUNT = "1/0022765977.56890"
START_TIME = 2004-01-21T11:43:43.092Z
STOP_TIME = 2004-01-21T12:00:30.603Z
/* ORBITAL DATA ELEMENTS */
ASCENDING_NODE_LONGITUDE = 228.23
MAXIMUM_RESOLUTION = 0.052
FOOTPRINT_POINT_LATITUDE = (-18.3523,-18.4512,-18.4519,-18.4526, -17.0854,-15.7269,-14.3942,-13.0616, -11.7653,-10.4661,-9.16396,-7.85985, -6.57156,-5.31019,-4.03581,-2.72876, -1.42266,-0.118335,1.18395,3.18014, 4.52014,5.89558,7.9601,9.32944,10.6923, 12.0487,13.3974,14.7296,16.0554,17.3755 ,18.6929,20.0073,21.3096,22.6,24.5229, 25.7844,27.0342,28.2733,29.5008,30.7183 ,31.9234,33.1158,34.2959,36.6186, 38.8918,41.1168,42.367,44.5117,45.04, 45.0549,44.96,44.8203,44.817,44.8153, 42.7245,40.9638,38.7729,36.527,34.2292, 33.0609,31.8803,30.6863,29.4794,28.2598 ,27.0285,25.7858,24.5318,23.2648, 21.9817,20.6904,19.3864,18.0749,16.761, 15.4446,14.1194,12.7822,11.4336,10.0779 ,8.71577,7.34702,5.97272,4.59958,3.2616 ,1.26981,-0.029724,-1.33148,-2.63509, -3.9399,-5.21263,-6.47224,-7.75819, -9.06012,-10.3604,-11.658,-12.9525, -14.2827,-15.614,-17.6529,-18.335, -18.3523)
FOOTPRINT_POINT_LONGITUDE = (228.041,226.243,226.229,226.214, 226.195,226.182,226.165,226.151,226.137 ,226.122,226.112,226.102,226.091, 226.083,226.078,226.076,226.072,226.065 ,226.055,226.046,226.037,226.044, 226.052,226.056,226.056,226.058,226.055 ,225.982,225.925,225.891,225.906, 225.968,226.009,226.038,226.124,226.133 ,226.139,226.148,226.159,226.179, 226.197,226.213,226.229,226.26,226.298, 226.351,226.381,226.439,226.454,226.455 ,228.804,231.139,231.186,231.202, 230.736,230.387,230.002,229.641,229.341 ,229.207,229.09,228.968,228.849,228.729 ,228.623,228.527,228.443,228.337, 228.166,228.035,227.877,227.757,227.734 ,227.799,227.862,227.877,227.846, 227.818,227.794,227.766,227.74,227.712, 227.701,227.707,227.715,227.721,227.724 ,227.725,227.734,227.743,227.759,227.78 ,227.802,227.828,227.859,227.892, 227.929,227.993,228.015,228.041)
ORBIT_NUMBER = 37
ORBITAL_ECCENTRICITY = 0.642
ORBITAL_INCLINATION = 86.65
ORBITAL_SEMIMAJOR_AXIS = 10255.5
PERIAPSIS_ALTITUDE = 273.25
PERIAPSIS_ARGUMENT_ANGLE = 353.94
PERIAPSIS_TIME = 2004-01-21T11:46:52.000Z
SPACECRAFT_ORIENTATION = (0.0,1.0,0.0)
^MEX_ORIENTATION_DESC = "MEX_ORIENTATION_DESC.TXT"
SPACECRAFT_POINTING_MODE = ACROSSTRACK
^MEX_POINTING_DESC = "MEX_POINTING_DESC.TXT"
RIGHT_ASCENSION = -1e+32
DECLINATION = -1e+32
OFFSET_ANGLE = -2.9
SPACECRAFT_SOLAR_DISTANCE = 2.24518e+08
TARGET_NAME = MARS
/* CAMERA DATA ELEMENTS */
DETECTOR_TEMPERATURE = 18.3705
FOCAL_PLANE_TEMPERATURE = 9.8067
INST_CMPRS_NAME = "DISCRETE COSINE TRANSFORMATION (DCT)"
INST_CMPRS_RATIO = 10.0409
INST_CMPRS_QUALITY = 0
INST_CMPRS_QUANTZ_TBL_ID = 0
INSTRUMENT_TEMPERATURE = 11.6418
LENS_TEMPERATURE = 10.2145
MACROPIXEL_SIZE = 4
PIXEL_SUBSAMPLING_FLAG = N
SIGNAL_CHAIN_ID = 2
/* RADIOMETRIC DATA ELEMENTS */
BANDWIDTH = 76.0
CENTER_FILTER_WAVELENGTH = 444.0
RADIANCE_OFFSET = 0.556422
RADIANCE_SCALING_FACTOR = 0.00454295
REFLECTANCE_SCALING_FACTOR = 0.000235285
MEX:REFLECTANCE_OFFSET = 0.0288177
/* IMAGE OBJECT DEFINITIONS */
OBJECT = IMAGE
  INTERCHANGE_FORMAT = BINARY
  LINES = 74856
  LINE_SAMPLES = 4803
  SAMPLE_TYPE = UNSIGNED_INTEGER
  SAMPLE_BITS = 8
  BANDS = 1
  BAND_STORAGE_TYPE = BAND_SEQUENTIAL
  MAXIMUM = 255
  MEAN = 134.166
  MINIMUM = 1
  STANDARD_DEVIATION = 60.2711
END_OBJECT = IMAGE
/* MAP OBJECT DEFINITIONS */
OBJECT = IMAGE_MAP_PROJECTION
  ^DATA_SET_MAP_PROJECTION_CATALOG= "DSMAP.CAT"
  A_AXIS_RADIUS = 3396.0
  B_AXIS_RADIUS = 3396.0
  C_AXIS_RADIUS = 3396.0
  CENTER_LATITUDE = 0.0
  CENTER_LONGITUDE = 227.0
  COORDINATE_SYSTEM_NAME = PLANETOGRAPHIC
  COORDINATE_SYSTEM_TYPE = "BODY-FIXED ROTATING"
  EASTERNMOST_LONGITUDE = 231.202
  FIRST_STANDARD_PARALLEL = "N/A"
  LINE_FIRST_PIXEL = 1
  LINE_LAST_PIXEL = 74856
  LINE_PROJECTION_OFFSET = 53060.125
  MAP_PROJECTION_ROTATION = 0.0
  MAP_PROJECTION_TYPE = SINUSOIDAL
  MAP_RESOLUTION = 1185.42760773333
  MAP_SCALE = 0.05
  MAXIMUM_LATITUDE = 45.0549
  MINIMUM_LATITUDE = -18.4526
  POSITIVE_LONGITUDE_DIRECTION = EAST
  REFERENCE_LATITUDE = "N/A"
  REFERENCE_LONGITUDE = "N/A"
  SAMPLE_FIRST_PIXEL = 1
  SAMPLE_LAST_PIXEL = 4803
  SAMPLE_PROJECTION_OFFSET = 1271.625
  SECOND_STANDARD_PARALLEL = "N/A"
  WESTERNMOST_LONGITUDE = 225.891
END_OBJECT = IMAGE_MAP_PROJECTION
END
