PDS_VERSION_ID = PDS3
/* FILE DATA ELEMENTS */
RECORD_TYPE = UNDEFINED
/* POINTERS TO DATA OBJECTS */
^IMAGE = ("H0032_0000_S14.TIF")
/* IDENTIFICATION DATA ELEMENTS */
DATA_SET_ID = "MEX-M-HRSC-4-REFDR-MAPPROJECT-V4.0"
DATA_SET_NAME = "MARS EXPRESS HRSC MAP PROJECTED REFDR V4.0"
DETECTOR_ID = MEX_HRSC_S1
EVENT_TYPE = "MARS-REGIONAL-MAPPING-Vo-Fl"
INSTRUMENT_HOST_ID = MEX
INSTRUMENT_HOST_NAME = "MARS EXPRESS"
INSTRUMENT_ID = HRSC
INSTRUMENT_NAME = "HIGH RESOLUTION STEREO CAMERA"
MISSION_NAME = "MARS EXPRESS"
MISSION_PHASE_NAME = MC_Phase_1
PROCESSING_LEVEL_ID = 4
PRODUCT_CREATION_TIME = 2022-11-22T09:57:07.000Z
PRODUCT_ID = "H0032_0000_S14.TIF"
RELEASE_ID = 0002
REVISION_ID = 0000
/* QUALITY DATA ELEMENTS */
DATA_QUALITY_ID = 1
DATA_QUALITY_DESC = "Data calculated based on original SPICE kernels"
/* TIME DATA ELEMENTS */
SPACECRAFT_CLOCK_START_COUNT = "1/0022605713.32343"
SPACECRAFT_CLOCK_STOP_COUNT = "1/0022606332.19085"
START_TIME = 2004-01-19T15:23:09.848Z
STOP_TIME = 2004-01-19T15:32:19.384Z
/* ORBITAL DATA ELEMENTS */
ASCENDING_NODE_LONGITUDE = 228.32
MAXIMUM_RESOLUTION = 0.0294
FOOTPRINT_POINT_LATITUDE = (3.52303,3.36268,3.25048,3.24732, 3.21574,3.91252,4.85511,6.05527,7.03447 ,8.02929,8.53507,9.04268,9.55898, 10.3398,11.1318,11.9366,12.4782,13.03, 13.5871,14.1489,14.717,15.2925,15.8748, 16.4645,17.0612,17.6652,18.2758,18.893, 19.5143,20.1491,20.7955,21.4506,22.1147 ,22.7914,23.4739,24.171,24.8704,25.5749 ,26.2894,27.0133,27.7498,28.4971, 29.2542,30.0232,30.8072,31.6035,32.4151 ,33.2339,33.6516,33.7132,33.8273, 33.9524,34.0507,34.0531,34.0531,32.8069 ,31.5994,30.7859,29.9987,29.2242, 28.4646,27.7158,26.9796,26.2532,25.5392 ,24.8355,24.1396,23.4529,22.775,22.1075 ,21.4476,20.7964,20.1546,19.5289, 18.9189,18.2939,17.3718,16.7766,16.1873 ,15.6051,15.0304,14.4623,13.9002, 13.3437,12.7929,12.2513,11.4466,10.6532 ,10.1302,9.61395,8.848,8.34145,7.84404, 7.34658,6.36788,5.64821,4.69762,3.759, 3.52864,3.52303)
FOOTPRINT_POINT_LONGITUDE = (150.957,150.084,149.494,149.478, 149.432,149.434,149.437,149.435,149.431 ,149.423,149.418,149.413,149.407, 149.396,149.382,149.367,149.355,149.344 ,149.331,149.316,149.301,149.284, 149.265,149.246,149.225,149.202,149.176 ,149.148,149.114,149.082,149.051, 149.019,148.984,148.949,148.91,148.87, 148.822,148.766,148.706,148.641,148.574 ,148.503,148.427,148.345,148.262, 148.173,148.082,147.979,147.927,147.92, 148.939,150.236,151.482,151.515,151.527 ,151.479,151.44,151.409,151.384,151.361 ,151.341,151.323,151.306,151.29,151.275 ,151.262,151.249,151.236,151.223, 151.211,151.199,151.188,151.177,151.17, 151.168,151.154,151.134,151.126,151.118 ,151.11,151.102,151.094,151.087,151.079 ,151.071,151.064,151.053,151.042, 151.034,151.027,151.015,151.008,151.001 ,150.994,150.979,150.968,150.953, 150.937,150.933,150.957)
ORBIT_NUMBER = 32
ORBITAL_ECCENTRICITY = 0.654
ORBITAL_INCLINATION = 86.66
ORBITAL_SEMIMAJOR_AXIS = 10626.1
PERIAPSIS_ALTITUDE = 275.46
PERIAPSIS_ARGUMENT_ANGLE = 354.42
PERIAPSIS_TIME = 2004-01-19T15:20:21.000Z
SPACECRAFT_ORIENTATION = (0.0,1.0,0.0)
^MEX_ORIENTATION_DESC = "MEX_ORIENTATION_DESC.TXT"
SPACECRAFT_POINTING_MODE = ACROSSTRACK
^MEX_POINTING_DESC = "MEX_POINTING_DESC.TXT"
RIGHT_ASCENSION = -1e+32
DECLINATION = -1e+32
OFFSET_ANGLE = 2.98
SPACECRAFT_SOLAR_DISTANCE = 2.24156e+08
TARGET_NAME = MARS
/* CAMERA DATA ELEMENTS */
DETECTOR_TEMPERATURE = 17.7588
FOCAL_PLANE_TEMPERATURE = 10.0106
INST_CMPRS_NAME = "DISCRETE COSINE TRANSFORMATION (DCT)"
INST_CMPRS_RATIO = 8.47625
INST_CMPRS_QUALITY = 0
INST_CMPRS_QUANTZ_TBL_ID = 0
INSTRUMENT_TEMPERATURE = 11.4379
LENS_TEMPERATURE = 9.195
MACROPIXEL_SIZE = 2
MISSING_FRAMES = 0
PIXEL_SUBSAMPLING_FLAG = N
SIGNAL_CHAIN_ID = 1
/* RADIOMETRIC DATA ELEMENTS */
BANDWIDTH = 180.0
CENTER_FILTER_WAVELENGTH = 677.0
RADIANCE_OFFSET = 6.68015
RADIANCE_SCALING_FACTOR = 0.0268305
REFLECTANCE_SCALING_FACTOR = 0.000703351
MEX:REFLECTANCE_OFFSET = 0.175118
/* IMAGE OBJECT DEFINITIONS */
OBJECT = IMAGE
  INTERCHANGE_FORMAT = BINARY
  LINES = 70859
  LINE_SAMPLES = 5800
  SAMPLE_TYPE = UNSIGNED_INTEGER
  SAMPLE_BITS = 8
  BANDS = 1
  BAND_STORAGE_TYPE = BAND_SEQUENTIAL
  MAXIMUM = 255
  MEAN = 154.722
  MINIMUM = 1
  STANDARD_DEVIATION = 29.2636
END_OBJECT = IMAGE
/* MAP OBJECT DEFINITIONS */
OBJECT = IMAGE_MAP_PROJECTION
  ^DATA_SET_MAP_PROJECTION_CATALOG= "DSMAP.CAT"
  A_AXIS_RADIUS = 3396.0
  B_AXIS_RADIUS = 3396.0
  C_AXIS_RADIUS = 3396.0
  CENTER_LATITUDE = 0.0
  CENTER_LONGITUDE = 150.0
  COORDINATE_SYSTEM_NAME = PLANETOGRAPHIC
  COORDINATE_SYSTEM_TYPE = "BODY-FIXED ROTATING"
  EASTERNMOST_LONGITUDE = 151.527
  FIRST_STANDARD_PARALLEL = "N/A"
  LINE_FIRST_PIXEL = 1
  LINE_LAST_PIXEL = 70859
  LINE_PROJECTION_OFFSET = 78406.75
  MAP_PROJECTION_ROTATION = 0.0
  MAP_PROJECTION_TYPE = SINUSOIDAL
  MAP_RESOLUTION = 2370.85521546667
  MAP_SCALE = 0.025
  MAXIMUM_LATITUDE = 34.0531
  MINIMUM_LATITUDE = 3.21574
  POSITIVE_LONGITUDE_DIRECTION = EAST
  REFERENCE_LATITUDE = "N/A"
  REFERENCE_LONGITUDE = "N/A"
  SAMPLE_FIRST_PIXEL = 1
  SAMPLE_LAST_PIXEL = 5800
  SAMPLE_PROJECTION_OFFSET = 3009.25
  SECOND_STANDARD_PARALLEL = "N/A"
  WESTERNMOST_LONGITUDE = 147.92
END_OBJECT = IMAGE_MAP_PROJECTION
END
