PDS_VERSION_ID = PDS3
/* FILE DATA ELEMENTS */
RECORD_TYPE = UNDEFINED
/* POINTERS TO DATA OBJECTS */
^IMAGE = ("H0030_0000_S24.TIF")
/* IDENTIFICATION DATA ELEMENTS */
DATA_SET_ID = "MEX-M-HRSC-4-REFDR-MAPPROJECT-V4.0"
DATA_SET_NAME = "MARS EXPRESS HRSC MAP PROJECTED REFDR V4.0"
DETECTOR_ID = MEX_HRSC_S2
EVENT_TYPE = "MARS-REGIONAL-MAPPING-Im-Pf-Eo"
INSTRUMENT_HOST_ID = MEX
INSTRUMENT_HOST_NAME = "MARS EXPRESS"
INSTRUMENT_ID = HRSC
INSTRUMENT_NAME = "HIGH RESOLUTION STEREO CAMERA"
MISSION_NAME = "MARS EXPRESS"
MISSION_PHASE_NAME = MC_Phase_1
PROCESSING_LEVEL_ID = 4
PRODUCT_CREATION_TIME = 2022-11-22T09:57:07.000Z
PRODUCT_ID = "H0030_0000_S24.TIF"
RELEASE_ID = 0002
REVISION_ID = 0000
/* QUALITY DATA ELEMENTS */
DATA_QUALITY_ID = 1
DATA_QUALITY_DESC = "Data calculated based on original SPICE kernels"
/* TIME DATA ELEMENTS */
SPACECRAFT_CLOCK_START_COUNT = "1/0022538177.32335"
SPACECRAFT_CLOCK_STOP_COUNT = "1/0022538989.10586"
START_TIME = 2004-01-18T20:36:26.472Z
STOP_TIME = 2004-01-18T20:51:20.260Z
/* ORBITAL DATA ELEMENTS */
ASCENDING_NODE_LONGITUDE = 228.37
MAXIMUM_RESOLUTION = 0.039
FOOTPRINT_POINT_LATITUDE = (-67.3375,-67.3154,-67.25,-67.1431, -66.9951,-66.8065,-66.5618,-66.546, -66.4143,-65.5306,-64.6045,-63.6444, -62.6446,-61.6034,-60.5168,-59.3824, -58.7973,-58.2,-57.5909,-56.9679, -56.3334,-55.6841,-55.0238,-54.3494, -53.6644,-52.9662,-52.2559,-51.5368, -50.8048,-50.0605,-49.302,-48.1341, -47.3546,-46.5536,-45.7387,-44.9122, -44.0717,-43.2194,-42.3545,-41.4785, -40.5859,-39.6818,-38.7651,-37.8372, -36.8943,-35.9389,-34.9671,-33.9866, -32.9943,-31.9899,-30.979,-30.4729, -30.4571,-30.4732,-30.4732,-30.4738, -32.0041,-33.0102,-34.0052,-34.9936, -35.9667,-36.9254,-37.8727,-38.8082, -39.729,-40.6394,-41.5385,-42.4212, -43.2939,-44.1523,-44.9994,-45.8373, -46.6598,-47.4676,-48.2646,-49.0475, -49.8227,-50.5859,-51.3349,-52.0724, -52.8005,-53.5168,-54.2227,-54.9176, -55.6045,-56.2822,-56.9425,-57.5911, -58.227,-58.8515,-59.4632,-60.655, -61.8035,-62.9102,-63.9809,-65.0127, -66.0059,-66.967,-67.2013,-67.3375)
FOOTPRINT_POINT_LONGITUDE = (66.1452,63.0398,60.6929,58.3677, 56.0718,53.8047,51.4302,51.2917,51.2336 ,51.9554,52.6405,53.2915,53.9085, 54.4921,55.0425,55.5601,55.8069,56.0458 ,56.2771,56.5003,56.7164,56.9244, 57.1257,57.3195,57.5071,57.6879,57.8623 ,58.0317,58.1948,58.3521,58.503,58.7164 ,58.8572,58.9895,59.1161,59.2381, 59.3548,59.467,59.5745,59.6781,59.7759, 59.8697,59.9594,60.0455,60.1267,60.204, 60.2761,60.3459,60.4122,60.475,60.5362, 60.567,60.5678,62.4115,62.4297,62.4362, 62.4756,62.5031,62.5313,62.5585,62.5881 ,62.6199,62.6524,62.686,62.7218,62.7581 ,62.7954,62.8358,62.8766,62.9198,62.964 ,63.0085,63.0561,63.1067,63.1585, 63.2132,63.2678,63.3244,63.3844,63.4465 ,63.5097,63.5756,63.6433,63.7133, 63.7843,63.8569,63.9361,64.0191,64.1065 ,64.1979,64.2944,64.4994,64.7233, 64.9672,65.2295,65.5149,65.8259,66.1603 ,66.2487,66.1452)
ORBIT_NUMBER = 30
ORBITAL_ECCENTRICITY = 0.655
ORBITAL_INCLINATION = 86.64
ORBITAL_SEMIMAJOR_AXIS = 10640.4
PERIAPSIS_ALTITUDE = 274.95
PERIAPSIS_ARGUMENT_ANGLE = 354.74
PERIAPSIS_TIME = 2004-01-18T20:58:18.000Z
SPACECRAFT_ORIENTATION = (0.0,1.0,0.0)
^MEX_ORIENTATION_DESC = "MEX_ORIENTATION_DESC.TXT"
SPACECRAFT_POINTING_MODE = NADIR
^MEX_POINTING_DESC = "MEX_POINTING_DESC.TXT"
RIGHT_ASCENSION = -1e+32
DECLINATION = -1e+32
OFFSET_ANGLE = -1e+32
SPACECRAFT_SOLAR_DISTANCE = 2.24007e+08
TARGET_NAME = MARS
/* CAMERA DATA ELEMENTS */
DETECTOR_TEMPERATURE = 18.7783
FOCAL_PLANE_TEMPERATURE = 9.6028
INST_CMPRS_NAME = "DISCRETE COSINE TRANSFORMATION (DCT)"
INST_CMPRS_RATIO = 11.939
INST_CMPRS_QUALITY = 0
INST_CMPRS_QUANTZ_TBL_ID = 0
INSTRUMENT_TEMPERATURE = 11.4379
LENS_TEMPERATURE = 9.8067
MACROPIXEL_SIZE = 2
MISSING_FRAMES = 0
PIXEL_SUBSAMPLING_FLAG = N
SIGNAL_CHAIN_ID = 1
/* RADIOMETRIC DATA ELEMENTS */
BANDWIDTH = 178.0
CENTER_FILTER_WAVELENGTH = 679.0
RADIANCE_OFFSET = 4.91583
RADIANCE_SCALING_FACTOR = 0.0245103
REFLECTANCE_SCALING_FACTOR = 0.000651312
MEX:REFLECTANCE_OFFSET = 0.130628
/* IMAGE OBJECT DEFINITIONS */
OBJECT = IMAGE
  INTERCHANGE_FORMAT = BINARY
  LINES = 88022
  LINE_SAMPLES = 10877
  SAMPLE_TYPE = UNSIGNED_INTEGER
  SAMPLE_BITS = 8
  BANDS = 1
  BAND_STORAGE_TYPE = BAND_SEQUENTIAL
  MAXIMUM = 255
  MEAN = 128.096
  MINIMUM = 1
  STANDARD_DEVIATION = 62.3903
END_OBJECT = IMAGE
/* MAP OBJECT DEFINITIONS */
OBJECT = IMAGE_MAP_PROJECTION
  ^DATA_SET_MAP_PROJECTION_CATALOG= "DSMAP.CAT"
  A_AXIS_RADIUS = 3396.0
  B_AXIS_RADIUS = 3396.0
  C_AXIS_RADIUS = 3396.0
  CENTER_LATITUDE = 0.0
  CENTER_LONGITUDE = 61.0
  COORDINATE_SYSTEM_NAME = PLANETOGRAPHIC
  COORDINATE_SYSTEM_TYPE = "BODY-FIXED ROTATING"
  EASTERNMOST_LONGITUDE = 66.2487
  FIRST_STANDARD_PARALLEL = "N/A"
  LINE_FIRST_PIXEL = 1
  LINE_LAST_PIXEL = 88022
  LINE_PROJECTION_OFFSET = -73062.25
  MAP_PROJECTION_ROTATION = 0.0
  MAP_PROJECTION_TYPE = SINUSOIDAL
  MAP_RESOLUTION = 2370.85521546667
  MAP_SCALE = 0.025
  MAXIMUM_LATITUDE = -30.4571
  MINIMUM_LATITUDE = -67.33750000000001
  POSITIVE_LONGITUDE_DIRECTION = EAST
  REFERENCE_LATITUDE = "N/A"
  REFERENCE_LONGITUDE = "N/A"
  SAMPLE_FIRST_PIXEL = 1
  SAMPLE_LAST_PIXEL = 10877
  SAMPLE_PROJECTION_OFFSET = 7983.75
  SECOND_STANDARD_PARALLEL = "N/A"
  WESTERNMOST_LONGITUDE = 51.2336
END_OBJECT = IMAGE_MAP_PROJECTION
END
