PDS_VERSION_ID = PDS3
/* FILE DATA ELEMENTS */
RECORD_TYPE = UNDEFINED
/* POINTERS TO DATA OBJECTS */
^IMAGE = ("H0030_0000_P24.TIF")
/* IDENTIFICATION DATA ELEMENTS */
DATA_SET_ID = "MEX-M-HRSC-4-REFDR-MAPPROJECT-V4.0"
DATA_SET_NAME = "MARS EXPRESS HRSC MAP PROJECTED REFDR V4.0"
DETECTOR_ID = MEX_HRSC_P2
EVENT_TYPE = "MARS-REGIONAL-MAPPING-Im-Pf-Eo"
INSTRUMENT_HOST_ID = MEX
INSTRUMENT_HOST_NAME = "MARS EXPRESS"
INSTRUMENT_ID = HRSC
INSTRUMENT_NAME = "HIGH RESOLUTION STEREO CAMERA"
MISSION_NAME = "MARS EXPRESS"
MISSION_PHASE_NAME = MC_Phase_1
PROCESSING_LEVEL_ID = 4
PRODUCT_CREATION_TIME = 2022-11-22T09:57:07.000Z
PRODUCT_ID = "H0030_0000_P24.TIF"
RELEASE_ID = 0002
REVISION_ID = 0000
/* QUALITY DATA ELEMENTS */
DATA_QUALITY_ID = 1
DATA_QUALITY_DESC = "Data calculated based on original SPICE kernels"
/* TIME DATA ELEMENTS */
SPACECRAFT_CLOCK_START_COUNT = "1/0022538177.32335"
SPACECRAFT_CLOCK_STOP_COUNT = "1/0022538989.10586"
START_TIME = 2004-01-18T20:38:07.743Z
STOP_TIME = 2004-01-18T20:51:32.355Z
/* ORBITAL DATA ELEMENTS */
ASCENDING_NODE_LONGITUDE = 228.37
MAXIMUM_RESOLUTION = 0.0741
FOOTPRINT_POINT_LATITUDE = (-67.6062,-67.591,-67.5233,-67.4284, -67.3143,-67.1728,-66.9571,-66.9452, -66.8621,-65.8604,-64.8226,-63.7529, -62.6499,-61.5121,-60.3377,-59.1254, -58.504,-57.8741,-57.2321,-56.5817, -55.9211,-55.2497,-54.5686,-53.8786, -53.1794,-52.4697,-51.7528,-51.0251, -50.2886,-49.5439,-48.7863,-48.0149, -47.2465,-46.4624,-45.667,-44.863, -44.0488,-43.2253,-42.3924,-41.5509, -40.6975,-39.8352,-38.9639,-38.0836, -37.1925,-36.292,-35.3824,-34.4617, -33.5338,-32.5995,-31.1794,-30.706, -30.6477,-30.6644,-30.6644,-30.6657, -32.0956,-33.0384,-33.9731,-34.9026, -35.8209,-36.7285,-37.6279,-38.5202, -39.4008,-40.2725,-41.1368,-41.9889, -42.8322,-43.6664,-44.4916,-45.3079, -46.1151,-46.9137,-47.6999,-48.4769, -49.2456,-50.0065,-50.7579,-51.4986, -52.2319,-52.9562,-53.6719,-54.3797, -55.0786,-55.7718,-56.4544,-57.1268, -57.7895,-58.443,-59.0866,-60.3469, -61.5741,-62.7664,-63.9292,-65.0603, -66.1621,-67.2336,-67.497,-67.6062)
FOOTPRINT_POINT_LONGITUDE = (65.0257,63.2459,60.4722,58.2219,56.242 ,54.2816,51.8583,51.738,51.6649,52.4309 ,53.1426,53.8065,54.4252,55.0011, 55.5363,56.0327,56.2666,56.4924,56.7082 ,56.9165,57.1166,57.3085,57.4929, 57.6708,57.842,58.0063,58.1657,58.3183, 58.4655,58.6078,58.7427,58.8697,58.9994 ,59.1203,59.2353,59.3464,59.4526, 59.5545,59.6523,59.7466,59.8355,59.9208 ,60.0026,60.081,60.155,60.2254,60.2926, 60.3553,60.416,60.475,60.5566,60.5847, 60.5883,62.3912,62.4083,62.4139,62.4469 ,62.4697,62.4931,62.515,62.5392,62.5653 ,62.5917,62.6178,62.6463,62.6756, 62.7045,62.7365,62.769,62.8024,62.8366, 62.8715,62.9074,62.9439,62.9838,63.025, 63.0667,63.1086,63.152,63.1981,63.2443, 63.292,63.3409,63.3905,63.4418,63.4919, 63.5456,63.6024,63.6622,63.7249,63.7911 ,63.9328,64.0854,64.2526,64.4306, 64.6239,64.8321,65.059,65.1187,65.0257)
ORBIT_NUMBER = 30
ORBITAL_ECCENTRICITY = 0.655
ORBITAL_INCLINATION = 86.64
ORBITAL_SEMIMAJOR_AXIS = 10640.4
PERIAPSIS_ALTITUDE = 274.95
PERIAPSIS_ARGUMENT_ANGLE = 354.74
PERIAPSIS_TIME = 2004-01-18T20:58:18.000Z
SPACECRAFT_ORIENTATION = (0.0,1.0,0.0)
^MEX_ORIENTATION_DESC = "MEX_ORIENTATION_DESC.TXT"
SPACECRAFT_POINTING_MODE = NADIR
^MEX_POINTING_DESC = "MEX_POINTING_DESC.TXT"
RIGHT_ASCENSION = -1e+32
DECLINATION = -1e+32
OFFSET_ANGLE = -1e+32
SPACECRAFT_SOLAR_DISTANCE = 2.24007e+08
TARGET_NAME = MARS
/* CAMERA DATA ELEMENTS */
DETECTOR_TEMPERATURE = 18.7783
FOCAL_PLANE_TEMPERATURE = 9.6028
INST_CMPRS_NAME = "DISCRETE COSINE TRANSFORMATION (DCT)"
INST_CMPRS_RATIO = 12.6945
INST_CMPRS_QUALITY = 0
INST_CMPRS_QUANTZ_TBL_ID = 0
INSTRUMENT_TEMPERATURE = 11.4379
LENS_TEMPERATURE = 9.8067
MACROPIXEL_SIZE = 4
MISSING_FRAMES = 0
PIXEL_SUBSAMPLING_FLAG = N
SIGNAL_CHAIN_ID = 3
/* RADIOMETRIC DATA ELEMENTS */
BANDWIDTH = 177.0
CENTER_FILTER_WAVELENGTH = 676.5
RADIANCE_OFFSET = 4.50907
RADIANCE_SCALING_FACTOR = 0.0238831
REFLECTANCE_SCALING_FACTOR = 0.000635416
MEX:REFLECTANCE_OFFSET = 0.119965
/* IMAGE OBJECT DEFINITIONS */
OBJECT = IMAGE
  INTERCHANGE_FORMAT = BINARY
  LINES = 44011
  LINE_SAMPLES = 5439
  SAMPLE_TYPE = UNSIGNED_INTEGER
  SAMPLE_BITS = 8
  BANDS = 1
  BAND_STORAGE_TYPE = BAND_SEQUENTIAL
  MAXIMUM = 255
  MEAN = 127.592
  MINIMUM = 1
  STANDARD_DEVIATION = 64.0071
END_OBJECT = IMAGE
/* MAP OBJECT DEFINITIONS */
OBJECT = IMAGE_MAP_PROJECTION
  ^DATA_SET_MAP_PROJECTION_CATALOG= "DSMAP.CAT"
  A_AXIS_RADIUS = 3396.0
  B_AXIS_RADIUS = 3396.0
  C_AXIS_RADIUS = 3396.0
  CENTER_LATITUDE = 0.0
  CENTER_LONGITUDE = 61.0
  COORDINATE_SYSTEM_NAME = PLANETOGRAPHIC
  COORDINATE_SYSTEM_TYPE = "BODY-FIXED ROTATING"
  EASTERNMOST_LONGITUDE = 65.1187
  FIRST_STANDARD_PARALLEL = "N/A"
  LINE_FIRST_PIXEL = 1
  LINE_LAST_PIXEL = 44011
  LINE_PROJECTION_OFFSET = -36531.375
  MAP_PROJECTION_ROTATION = 0.0
  MAP_PROJECTION_TYPE = SINUSOIDAL
  MAP_RESOLUTION = 1185.42760773333
  MAP_SCALE = 0.05
  MAXIMUM_LATITUDE = -30.6477
  MINIMUM_LATITUDE = -67.6062
  POSITIVE_LONGITUDE_DIRECTION = EAST
  REFERENCE_LATITUDE = "N/A"
  REFERENCE_LONGITUDE = "N/A"
  SAMPLE_FIRST_PIXEL = 1
  SAMPLE_LAST_PIXEL = 5439
  SAMPLE_PROJECTION_OFFSET = 3991.625
  SECOND_STANDARD_PARALLEL = "N/A"
  WESTERNMOST_LONGITUDE = 51.6649
END_OBJECT = IMAGE_MAP_PROJECTION
END
