PDS_VERSION_ID = PDS3
/* FILE DATA ELEMENTS */
RECORD_TYPE = UNDEFINED
/* POINTERS TO DATA OBJECTS */
^IMAGE = ("H0022_0003_SR4.TIF")
/* IDENTIFICATION DATA ELEMENTS */
DATA_SET_ID = "MEX-M-HRSC-4-REFDR-MAPPROJECT-V4.0"
DATA_SET_NAME = "MARS EXPRESS HRSC MAP PROJECTED REFDR V4.0"
DETECTOR_ID = MEX_HRSC_SRC
EVENT_TYPE = "MARS-REGIONAL-MAPPING-Vo-Fl-Pf"
INSTRUMENT_HOST_ID = MEX
INSTRUMENT_HOST_NAME = "MARS EXPRESS"
INSTRUMENT_ID = HRSC
INSTRUMENT_NAME = "HIGH RESOLUTION STEREO CAMERA"
MISSION_NAME = "MARS EXPRESS"
MISSION_PHASE_NAME = MC_Phase_1
PROCESSING_LEVEL_ID = 4
PRODUCT_CREATION_TIME = 2022-11-22T09:57:07.000Z
PRODUCT_ID = "H0022_0003_SR4.TIF"
RELEASE_ID = 0002
REVISION_ID = 0000
/* QUALITY DATA ELEMENTS */
DATA_QUALITY_ID = 1
DATA_QUALITY_DESC = "Data calculated based on original SPICE kernels"
/* TIME DATA ELEMENTS */
SPACECRAFT_CLOCK_START_COUNT = "1/0022263021.32357"
SPACECRAFT_CLOCK_STOP_COUNT = "1/0022263684.65219"
IMAGE_TIME = 2004-01-15T16:15:08.177Z
START_TIME = 2004-01-15T16:15:08.174Z
STOP_TIME = 2004-01-15T16:15:08.179Z
/* ORBITAL DATA ELEMENTS */
ASCENDING_NODE_LONGITUDE = 228.51
MAXIMUM_RESOLUTION = 0.00554
FOOTPRINT_POINT_LATITUDE = (-41.1175,-41.1145,-41.11,-41.1061, -41.1015,-41.0964,-41.0933,-41.0905, -41.0871,-41.0818,-41.0785,-41.0754, -41.0714,-41.0655,-41.0616,-41.0564, -41.0536,-41.0499,-41.0456,-41.0399, -41.0336,-41.0274,-41.0232,-41.0231, -41.0231,-41.0232,-41.0233,-41.0234, -41.0234,-41.0235,-41.0236,-41.0238, -41.0238,-41.024,-41.0241,-41.0242, -41.0243,-41.0243,-41.0244,-41.0245, -41.0246,-41.0247,-41.0248,-41.0249, -41.025,-41.0251,-41.0252,-41.0253, -41.0253,-41.0253,-41.0254,-41.03, -41.0334,-41.0383,-41.0426,-41.0486, -41.0524,-41.057,-41.0627,-41.0659, -41.0714,-41.0759,-41.0824,-41.0857, -41.0916,-41.0953,-41.1,-41.1048, -41.1078,-41.1107,-41.1144,-41.1196, -41.1197,-41.1197,-41.1196,-41.1195, -41.1194,-41.1193,-41.1192,-41.1193, -41.1192,-41.1191,-41.119,-41.1189, -41.1188,-41.1187,-41.1186,-41.1185, -41.1185,-41.1184,-41.1183,-41.1182, -41.1181,-41.118,-41.1179,-41.1178, -41.1177,-41.1176,-41.1176,-41.1175)
FOOTPRINT_POINT_LONGITUDE = (100.798,100.798,100.798,100.798, 100.798,100.798,100.798,100.798,100.799 ,100.799,100.799,100.799,100.799, 100.799,100.799,100.8,100.8,100.8,100.8 ,100.8,100.8,100.801,100.801,100.801, 100.801,100.807,100.811,100.816,100.819 ,100.826,100.831,100.837,100.842, 100.848,100.854,100.859,100.864,100.869 ,100.874,100.879,100.884,100.889, 100.897,100.901,100.906,100.911,100.916 ,100.921,100.925,100.926,100.927, 100.927,100.927,100.927,100.927,100.926 ,100.926,100.926,100.926,100.926, 100.926,100.925,100.925,100.925,100.925 ,100.925,100.925,100.925,100.924, 100.924,100.924,100.924,100.924,100.924 ,100.918,100.913,100.908,100.903, 100.897,100.892,100.887,100.883,100.877 ,100.872,100.868,100.862,100.857, 100.852,100.847,100.842,100.836,100.831 ,100.826,100.82,100.816,100.811,100.806 ,100.8,100.798,100.798)
ORBIT_NUMBER = 22
ORBITAL_ECCENTRICITY = 0.667
ORBITAL_INCLINATION = 86.65
ORBITAL_SEMIMAJOR_AXIS = 11036.1
PERIAPSIS_ALTITUDE = 273.43
PERIAPSIS_ARGUMENT_ANGLE = 356.05
PERIAPSIS_TIME = 2004-01-15T16:24:40.000Z
SPACECRAFT_ORIENTATION = (0.0,1.0,0.0)
^MEX_ORIENTATION_DESC = "MEX_ORIENTATION_DESC.TXT"
SPACECRAFT_POINTING_MODE = NADIR
^MEX_POINTING_DESC = "MEX_POINTING_DESC.TXT"
RIGHT_ASCENSION = -1e+32
DECLINATION = -1e+32
OFFSET_ANGLE = -1e+32
SPACECRAFT_SOLAR_DISTANCE = 2.23386e+08
TARGET_NAME = MARS
/* CAMERA DATA ELEMENTS */
BUFFER_MODE_ID = BUFFER_14
EXPOSURE_DURATION = 5.04
INST_CMPRS_NAME = NONE
INST_CMPRS_RATIO = 1.0
INST_CMPRS_QUALITY = -2147483648
INST_CMPRS_QUANTZ_TBL_ID = -2147483648
INSTRUMENT_TEMPERATURE = 14.2424
MISSING_FRAMES = 0
START_BIT = -2147483648
/* RADIOMETRIC DATA ELEMENTS */
BANDWIDTH = 250.0
CENTER_FILTER_WAVELENGTH = 600.0
RADIANCE_OFFSET = -9.99e+31
RADIANCE_SCALING_FACTOR = -9.99e+31
REFLECTANCE_SCALING_FACTOR = -9.99e+31
MEX:REFLECTANCE_OFFSET = -9.99e+31
/* IMAGE OBJECT DEFINITIONS */
OBJECT = IMAGE
  INTERCHANGE_FORMAT = BINARY
  LINES = 1202
  LINE_SAMPLES = 1211
  SAMPLE_TYPE = UNSIGNED_INTEGER
  SAMPLE_BITS = 8
  BANDS = 1
  BAND_STORAGE_TYPE = BAND_SEQUENTIAL
  MAXIMUM = 252
  MEAN = 129.161
  MINIMUM = 11
  STANDARD_DEVIATION = 27.3865
END_OBJECT = IMAGE
/* MAP OBJECT DEFINITIONS */
OBJECT = IMAGE_MAP_PROJECTION
  ^DATA_SET_MAP_PROJECTION_CATALOG= "DSMAP.CAT"
  A_AXIS_RADIUS = 3396.19
  B_AXIS_RADIUS = 3396.19
  C_AXIS_RADIUS = 3396.19
  CENTER_LATITUDE = 0.0
  CENTER_LONGITUDE = 101.0
  COORDINATE_SYSTEM_NAME = PLANETOGRAPHIC
  COORDINATE_SYSTEM_TYPE = "BODY-FIXED ROTATING"
  EASTERNMOST_LONGITUDE = 100.927
  FIRST_STANDARD_PARALLEL = "N/A"
  LINE_FIRST_PIXEL = 1
  LINE_LAST_PIXEL = 1202
  LINE_PROJECTION_OFFSET = -485859.0
  MAP_PROJECTION_ROTATION = 0.0
  MAP_PROJECTION_TYPE = SINUSOIDAL
  MAP_RESOLUTION = 11854.9393024378
  MAP_SCALE = 0.005
  MAXIMUM_LATITUDE = -41.0231
  MINIMUM_LATITUDE = -41.1197
  POSITIVE_LONGITUDE_DIRECTION = EAST
  REFERENCE_LATITUDE = "N/A"
  REFERENCE_LONGITUDE = "N/A"
  SAMPLE_FIRST_PIXEL = 1
  SAMPLE_LAST_PIXEL = 1211
  SAMPLE_PROJECTION_OFFSET = 1830.0
  SECOND_STANDARD_PARALLEL = "N/A"
  WESTERNMOST_LONGITUDE = 100.798
END_OBJECT = IMAGE_MAP_PROJECTION
END
