PDS_VERSION_ID = PDS3
/* FILE DATA ELEMENTS */
RECORD_TYPE = UNDEFINED
/* POINTERS TO DATA OBJECTS */
^IMAGE = ("H0022_0000_P14.TIF")
/* IDENTIFICATION DATA ELEMENTS */
DATA_SET_ID = "MEX-M-HRSC-4-REFDR-MAPPROJECT-V4.0"
DATA_SET_NAME = "MARS EXPRESS HRSC MAP PROJECTED REFDR V4.0"
DETECTOR_ID = MEX_HRSC_P1
EVENT_TYPE = "MARS-REGIONAL-MAPPING-Vo-Fl-Pf"
INSTRUMENT_HOST_ID = MEX
INSTRUMENT_HOST_NAME = "MARS EXPRESS"
INSTRUMENT_ID = HRSC
INSTRUMENT_NAME = "HIGH RESOLUTION STEREO CAMERA"
MISSION_NAME = "MARS EXPRESS"
MISSION_PHASE_NAME = MC_Phase_1
PROCESSING_LEVEL_ID = 4
PRODUCT_CREATION_TIME = 2022-11-22T09:57:07.000Z
PRODUCT_ID = "H0022_0000_P14.TIF"
RELEASE_ID = 0002
REVISION_ID = 0000
/* QUALITY DATA ELEMENTS */
DATA_QUALITY_ID = 1
DATA_QUALITY_DESC = "Data calculated based on original SPICE kernels"
/* TIME DATA ELEMENTS */
SPACECRAFT_CLOCK_START_COUNT = "1/0022263021.32357"
SPACECRAFT_CLOCK_STOP_COUNT = "1/0022263684.65219"
START_TIME = 2004-01-15T16:13:16.384Z
STOP_TIME = 2004-01-15T16:21:21.611Z
/* ORBITAL DATA ELEMENTS */
ASCENDING_NODE_LONGITUDE = 228.51
MAXIMUM_RESOLUTION = 0.0259
FOOTPRINT_POINT_LATITUDE = (-50.1136,-50.0903,-50.0539,-50.0187, -50.0173,-50.0657,-49.588,-48.641, -47.7269,-46.8335,-45.5236,-44.6734, -43.8451,-43.0354,-42.2394,-41.4607, -40.7039,-39.951,-39.2122,-38.4958, -37.7899,-37.0955,-36.4205,-35.4064, -34.7637,-33.8062,-32.8712,-32.2618, -31.6619,-31.0682,-30.4836,-29.9108, -29.3422,-28.7858,-27.9625,-27.4208, -26.8917,-26.3618,-25.848,-25.0805, -24.5784,-23.8335,-23.3467,-22.6223, -22.1496,-21.6754,-20.7539,-19.8376, -18.9494,-18.7271,-18.6901,-18.6944, -18.6944,-18.6948,-19.8058,-20.7195, -21.4072,-21.8789,-22.3528,-22.8264, -23.3137,-24.0446,-24.7931,-25.2987, -25.815,-26.3308,-26.8588,-27.3882, -27.9301,-28.7527,-29.3096,-29.8779, -30.4508,-31.0375,-31.9148,-32.5322, -33.1425,-33.7709,-34.4085,-35.0446, -35.7105,-36.3862,-37.0677,-37.7615, -38.4698,-39.1899,-39.926,-40.6776, -41.4453,-42.2289,-43.0256,-43.8338, -44.6651,-45.5161,-46.3846,-47.2812, -48.1918,-49.5936,-50.0756,-50.1136)
FOOTPRINT_POINT_LONGITUDE = (102.422,100.962,99.5438,98.508,98.4696 ,98.4152,98.4927,98.6443,98.775,98.8954 ,99.0602,99.1624,99.2546,99.3399,99.421 ,99.4959,99.5621,99.6302,99.6943, 99.7497,99.8034,99.8547,99.8987,99.9713 ,100.007,100.064,100.117,100.15,100.181 ,100.211,100.24,100.266,100.291,100.315 ,100.35,100.371,100.391,100.411,100.428 ,100.454,100.47,100.493,100.507,100.527 ,100.539,100.551,100.573,100.594, 100.613,100.617,100.618,101.765,101.777 ,101.781,101.792,101.803,101.811, 101.817,101.823,101.829,101.836,101.845 ,101.854,101.864,101.872,101.879, 101.888,101.896,101.906,101.92,101.929, 101.939,101.95,101.962,101.972,101.989, 101.999,102.014,102.028,102.035,102.053 ,102.069,102.084,102.1,102.117,102.134, 102.153,102.172,102.194,102.217,102.238 ,102.258,102.281,102.306,102.332,102.36 ,102.389,102.432,102.45,102.422)
ORBIT_NUMBER = 22
ORBITAL_ECCENTRICITY = 0.667
ORBITAL_INCLINATION = 86.65
ORBITAL_SEMIMAJOR_AXIS = 11036.1
PERIAPSIS_ALTITUDE = 273.43
PERIAPSIS_ARGUMENT_ANGLE = 356.05
PERIAPSIS_TIME = 2004-01-15T16:24:40.000Z
SPACECRAFT_ORIENTATION = (0.0,1.0,0.0)
^MEX_ORIENTATION_DESC = "MEX_ORIENTATION_DESC.TXT"
SPACECRAFT_POINTING_MODE = NADIR
^MEX_POINTING_DESC = "MEX_POINTING_DESC.TXT"
RIGHT_ASCENSION = -1e+32
DECLINATION = -1e+32
OFFSET_ANGLE = -1e+32
SPACECRAFT_SOLAR_DISTANCE = 2.23386e+08
TARGET_NAME = MARS
/* CAMERA DATA ELEMENTS */
DETECTOR_TEMPERATURE = 17.5549
FOCAL_PLANE_TEMPERATURE = 9.3989
INST_CMPRS_NAME = "DISCRETE COSINE TRANSFORMATION (DCT)"
INST_CMPRS_RATIO = 12.1781
INST_CMPRS_QUALITY = 0
INST_CMPRS_QUANTZ_TBL_ID = 0
INSTRUMENT_TEMPERATURE = 10.8262
LENS_TEMPERATURE = 9.6028
MACROPIXEL_SIZE = 2
PIXEL_SUBSAMPLING_FLAG = N
SIGNAL_CHAIN_ID = 3
/* RADIOMETRIC DATA ELEMENTS */
BANDWIDTH = 174.0
CENTER_FILTER_WAVELENGTH = 675.0
RADIANCE_OFFSET = 5.19114
RADIANCE_SCALING_FACTOR = 0.0200153
REFLECTANCE_SCALING_FACTOR = 0.000537218
MEX:REFLECTANCE_OFFSET = 0.139332
/* IMAGE OBJECT DEFINITIONS */
OBJECT = IMAGE
  INTERCHANGE_FORMAT = BINARY
  LINES = 74887
  LINE_SAMPLES = 6661
  SAMPLE_TYPE = UNSIGNED_INTEGER
  SAMPLE_BITS = 8
  BANDS = 1
  BAND_STORAGE_TYPE = BAND_SEQUENTIAL
  MAXIMUM = 255
  MEAN = 123.416
  MINIMUM = 1
  STANDARD_DEVIATION = 35.5085
END_OBJECT = IMAGE
/* MAP OBJECT DEFINITIONS */
OBJECT = IMAGE_MAP_PROJECTION
  ^DATA_SET_MAP_PROJECTION_CATALOG= "DSMAP.CAT"
  A_AXIS_RADIUS = 3396.0
  B_AXIS_RADIUS = 3396.0
  C_AXIS_RADIUS = 3396.0
  CENTER_LATITUDE = 0.0
  CENTER_LONGITUDE = 101.0
  COORDINATE_SYSTEM_NAME = PLANETOGRAPHIC
  COORDINATE_SYSTEM_TYPE = "BODY-FIXED ROTATING"
  EASTERNMOST_LONGITUDE = 102.45
  FIRST_STANDARD_PARALLEL = "N/A"
  LINE_FIRST_PIXEL = 1
  LINE_LAST_PIXEL = 74887
  LINE_PROJECTION_OFFSET = -44098.25
  MAP_PROJECTION_ROTATION = 0.0
  MAP_PROJECTION_TYPE = SINUSOIDAL
  MAP_RESOLUTION = 2370.85521546667
  MAP_SCALE = 0.025
  MAXIMUM_LATITUDE = -18.6901
  MINIMUM_LATITUDE = -50.1136
  POSITIVE_LONGITUDE_DIRECTION = EAST
  REFERENCE_LATITUDE = "N/A"
  REFERENCE_LONGITUDE = "N/A"
  SAMPLE_FIRST_PIXEL = 1
  SAMPLE_LAST_PIXEL = 6661
  SAMPLE_PROJECTION_OFFSET = 4211.75
  SECOND_STANDARD_PARALLEL = "N/A"
  WESTERNMOST_LONGITUDE = 98.4152
END_OBJECT = IMAGE_MAP_PROJECTION
END
