PDS_VERSION_ID = PDS3
/* FILE DATA ELEMENTS */
RECORD_TYPE = UNDEFINED
/* POINTERS TO DATA OBJECTS */
^IMAGE = ("H0018_0000_GR4.TIF")
/* IDENTIFICATION DATA ELEMENTS */
DATA_SET_ID = "MEX-M-HRSC-4-REFDR-MAPPROJECT-V4.0"
DATA_SET_NAME = "MARS EXPRESS HRSC MAP PROJECTED REFDR V4.0"
DETECTOR_ID = MEX_HRSC_GREEN
EVENT_TYPE = "MARS-REGIONAL-STEREO-Vo-Fl-La"
INSTRUMENT_HOST_ID = MEX
INSTRUMENT_HOST_NAME = "MARS EXPRESS"
INSTRUMENT_ID = HRSC
INSTRUMENT_NAME = "HIGH RESOLUTION STEREO CAMERA"
MISSION_NAME = "MARS EXPRESS"
MISSION_PHASE_NAME = MC_Phase_1
PROCESSING_LEVEL_ID = 4
PRODUCT_CREATION_TIME = 2022-11-22T09:57:07.000Z
PRODUCT_ID = "H0018_0000_GR4.TIF"
RELEASE_ID = 0002
REVISION_ID = 0000
/* QUALITY DATA ELEMENTS */
DATA_QUALITY_ID = 1
DATA_QUALITY_DESC = "Data calculated based on original SPICE kernels"
/* TIME DATA ELEMENTS */
SPACECRAFT_CLOCK_START_COUNT = "1/0022120402.32199"
SPACECRAFT_CLOCK_STOP_COUNT = "1/0022120757.49217"
START_TIME = 2004-01-14T00:34:04.844Z
STOP_TIME = 2004-01-14T00:40:55.382Z
/* ORBITAL DATA ELEMENTS */
ASCENDING_NODE_LONGITUDE = 228.59
MAXIMUM_RESOLUTION = 0.0884
FOOTPRINT_POINT_LATITUDE = (-15.5723,-15.5687,-15.5687,-15.5686, -14.9626,-14.3583,-13.7712,-13.1832, -12.5946,-12.0119,-11.4447,-10.8811, -10.3128,-9.46019,-8.89066,-8.34468, -7.79771,-7.25072,-6.70344,-6.15455, -5.33355,-4.51098,-3.963,-3.41608, -2.86895,-2.32197,-1.77525,-1.22878, -0.682613,0.405899,0.951899,1.49827, 2.04244,2.88923,3.45458,4.01927,4.58307 ,5.4257,5.98934,6.83062,7.66803,8.22622 ,8.78359,9.33951,9.89465,10.4485, 11.0011,11.5524,12.1026,12.3772,12.431, 12.4298,12.4297,12.4282,11.8789,11.3283 ,10.7764,10.2234,9.66925,9.11395, 8.55761,8.00002,7.44152,6.88139,6.32147 ,5.75986,5.19744,4.63458,4.07083,3.5063 ,2.66017,2.09202,1.27543,0.730887, -0.085312,-0.632244,-1.17693,-1.72346, -2.27013,-2.81891,-3.36416,-3.9113, -4.46154,-5.00963,-5.83093,-6.65205, -7.47322,-8.29349,-8.84048,-9.40758, -9.97648,-10.5443,-11.3928,-11.9605, -12.8357,-13.4242,-14.3058,-15.2107, -15.5145,-15.5723)
FOOTPRINT_POINT_LONGITUDE = (323.704,322.617,322.607,322.599, 322.604,322.616,322.624,322.631,322.638 ,322.644,322.65,322.647,322.652,322.658 ,322.662,322.664,322.667,322.67,322.672 ,322.677,322.679,322.683,322.685, 322.684,322.684,322.684,322.683,322.682 ,322.68,322.671,322.67,322.671,322.668, 322.663,322.659,322.655,322.65,322.64, 322.638,322.63,322.618,322.611,322.605, 322.598,322.592,322.585,322.577,322.569 ,322.561,322.557,322.556,323.735, 323.747,323.754,323.746,323.738,323.73, 323.723,323.715,323.709,323.702,323.696 ,323.691,323.686,323.68,323.676,323.672 ,323.668,323.664,323.661,323.652, 323.654,323.652,323.649,323.643,323.645 ,323.641,323.64,323.64,323.643,323.64, 323.64,323.647,323.649,323.651,323.654, 323.657,323.661,323.664,323.667,323.67, 323.672,323.671,323.676,323.683,323.688 ,323.695,323.704,323.707,323.704)
ORBIT_NUMBER = 18
ORBITAL_ECCENTRICITY = 0.674
ORBITAL_INCLINATION = 86.66
ORBITAL_SEMIMAJOR_AXIS = 11272.7
PERIAPSIS_ALTITUDE = 274.78
PERIAPSIS_ARGUMENT_ANGLE = 356.7
PERIAPSIS_TIME = 2004-01-14T00:37:00.000Z
SPACECRAFT_ORIENTATION = (0.0,1.0,0.0)
^MEX_ORIENTATION_DESC = "MEX_ORIENTATION_DESC.TXT"
SPACECRAFT_POINTING_MODE = NADIR
^MEX_POINTING_DESC = "MEX_POINTING_DESC.TXT"
RIGHT_ASCENSION = -1e+32
DECLINATION = -1e+32
OFFSET_ANGLE = -1e+32
SPACECRAFT_SOLAR_DISTANCE = 2.23064e+08
TARGET_NAME = MARS
/* CAMERA DATA ELEMENTS */
DETECTOR_TEMPERATURE = 18.1666
FOCAL_PLANE_TEMPERATURE = 9.8067
INST_CMPRS_NAME = "DISCRETE COSINE TRANSFORMATION (DCT)"
INST_CMPRS_RATIO = 22.0785
INST_CMPRS_QUALITY = 0
INST_CMPRS_QUANTZ_TBL_ID = 0
INSTRUMENT_TEMPERATURE = 11.4379
LENS_TEMPERATURE = 10.2145
MACROPIXEL_SIZE = 8
MISSING_FRAMES = 0
PIXEL_SUBSAMPLING_FLAG = N
SIGNAL_CHAIN_ID = 2
/* RADIOMETRIC DATA ELEMENTS */
BANDWIDTH = 88.0
CENTER_FILTER_WAVELENGTH = 538.0
RADIANCE_OFFSET = 2.2083
RADIANCE_SCALING_FACTOR = 0.00489479
REFLECTANCE_SCALING_FACTOR = 0.000209691
MEX:REFLECTANCE_OFFSET = 0.0946027
/* IMAGE OBJECT DEFINITIONS */
OBJECT = IMAGE
  INTERCHANGE_FORMAT = BINARY
  LINES = 16636
  LINE_SAMPLES = 698
  SAMPLE_TYPE = UNSIGNED_INTEGER
  SAMPLE_BITS = 8
  BANDS = 1
  BAND_STORAGE_TYPE = BAND_SEQUENTIAL
  MAXIMUM = 255
  MEAN = 126.302
  MINIMUM = 1
  STANDARD_DEVIATION = 43.265
END_OBJECT = IMAGE
/* MAP OBJECT DEFINITIONS */
OBJECT = IMAGE_MAP_PROJECTION
  ^DATA_SET_MAP_PROJECTION_CATALOG= "DSMAP.CAT"
  A_AXIS_RADIUS = 3396.0
  B_AXIS_RADIUS = 3396.0
  C_AXIS_RADIUS = 3396.0
  CENTER_LATITUDE = 0.0
  CENTER_LONGITUDE = 323.0
  COORDINATE_SYSTEM_NAME = PLANETOGRAPHIC
  COORDINATE_SYSTEM_TYPE = "BODY-FIXED ROTATING"
  EASTERNMOST_LONGITUDE = 323.754
  FIRST_STANDARD_PARALLEL = "N/A"
  LINE_FIRST_PIXEL = 1
  LINE_LAST_PIXEL = 16636
  LINE_PROJECTION_OFFSET = 7401.0625
  MAP_PROJECTION_ROTATION = 0.0
  MAP_PROJECTION_TYPE = SINUSOIDAL
  MAP_RESOLUTION = 592.713803866667
  MAP_SCALE = 0.1
  MAXIMUM_LATITUDE = 12.431
  MINIMUM_LATITUDE = -15.5723
  POSITIVE_LONGITUDE_DIRECTION = EAST
  REFERENCE_LATITUDE = "N/A"
  REFERENCE_LONGITUDE = "N/A"
  SAMPLE_FIRST_PIXEL = 1
  SAMPLE_LAST_PIXEL = 698
  SAMPLE_PROJECTION_OFFSET = 262.5625
  SECOND_STANDARD_PARALLEL = "N/A"
  WESTERNMOST_LONGITUDE = 322.556
END_OBJECT = IMAGE_MAP_PROJECTION
END
