PDS_VERSION_ID = PDS3
/* FILE DATA ELEMENTS */
RECORD_TYPE = UNDEFINED
/* POINTERS TO DATA OBJECTS */
^IMAGE = ("H0016_0008_S14.TIF")
/* IDENTIFICATION DATA ELEMENTS */
DATA_SET_ID = "MEX-M-HRSC-4-REFDR-MAPPROJECT-V4.0"
DATA_SET_NAME = "MARS EXPRESS HRSC MAP PROJECTED REFDR V4.0"
DETECTOR_ID = MEX_HRSC_S1
EVENT_TYPE = "MARS-LOCAL-SYSTEMTEST-Vo-Te-Tc"
INSTRUMENT_HOST_ID = MEX
INSTRUMENT_HOST_NAME = "MARS EXPRESS"
INSTRUMENT_ID = HRSC
INSTRUMENT_NAME = "HIGH RESOLUTION STEREO CAMERA"
MISSION_NAME = "MARS EXPRESS"
MISSION_PHASE_NAME = MC_Phase_0
PROCESSING_LEVEL_ID = 4
PRODUCT_CREATION_TIME = 2022-11-22T09:57:07.000Z
PRODUCT_ID = "H0016_0008_S14.TIF"
RELEASE_ID = 0002
REVISION_ID = 0000
/* QUALITY DATA ELEMENTS */
DATA_QUALITY_ID = 1
DATA_QUALITY_DESC = "Data calculated based on original SPICE kernels"
/* TIME DATA ELEMENTS */
SPACECRAFT_CLOCK_START_COUNT = "1/0022048314.32186"
SPACECRAFT_CLOCK_STOP_COUNT = "1/0022048695.32459"
START_TIME = 2004-01-13T04:32:53.113Z
STOP_TIME = 2004-01-13T04:38:31.374Z
/* ORBITAL DATA ELEMENTS */
ASCENDING_NODE_LONGITUDE = 228.62
MAXIMUM_RESOLUTION = 0.0226
FOOTPRINT_POINT_LATITUDE = (-5.44347,-5.44319,-5.44321,-5.3957, -4.67084,-4.19104,-3.71126,-2.99252, -2.52729,-2.06691,-1.60705,-1.14733, -0.68846,-0.230245,0.227227,0.683809, 1.13966,1.8248,2.2785,2.73136,3.18338, 3.63476,4.08472,4.53367,4.98166,5.42865 ,5.87355,6.31819,6.98442,7.42836,7.8701 ,8.31032,8.98672,9.66218,10.1116, 10.5558,10.9826,11.4225,11.8537,12.2748 ,12.6881,13.4992,14.3201,14.7333, 15.3537,15.7668,16.5908,16.7959,16.8047 ,16.8075,16.8037,16.8036,16.8032, 15.9846,15.5718,15.1581,14.5378,14.1235 ,13.7084,13.2903,12.6651,12.0369, 11.6146,11.1875,10.7507,10.3075,9.64063 ,8.96507,8.52391,7.86565,7.42525, 6.98459,6.54245,6.09942,5.65533,5.20949 ,4.76334,4.31567,3.86636,3.41611, 2.96492,2.51279,2.05978,1.60587,1.14797 ,0.692183,0.235631,-0.221706,-0.679633, -1.13836,-1.59717,-2.05641,-2.51694, -2.98212,-3.46171,-3.94161,-4.66208, -5.1471,-5.38428,-5.44347)
FOOTPRINT_POINT_LONGITUDE = (257.049,256.098,256.088,256.1,256.101, 256.1,256.1,256.099,256.098,256.097, 256.096,256.095,256.093,256.091,256.09, 256.087,256.085,256.081,256.078,256.075 ,256.072,256.069,256.065,256.062, 256.058,256.054,256.049,256.044,256.038 ,256.033,256.028,256.023,256.021, 256.018,256.017,256.014,256.006,256.002 ,255.996,255.987,255.975,255.949, 255.926,255.916,255.901,255.892,255.873 ,255.869,255.868,256.464,257.248, 257.261,257.266,257.244,257.233,257.223 ,257.207,257.196,257.185,257.175,257.16 ,257.145,257.135,257.127,257.122, 257.119,257.114,257.112,257.108,257.1, 257.095,257.089,257.085,257.08,257.076, 257.072,257.068,257.064,257.061,257.057 ,257.055,257.052,257.049,257.047, 257.045,257.043,257.042,257.04,257.039, 257.038,257.036,257.035,257.035,257.034 ,257.034,257.033,257.033,257.034, 257.033,257.049)
ORBIT_NUMBER = 16
ORBITAL_ECCENTRICITY = 0.675
ORBITAL_INCLINATION = 86.65
ORBITAL_SEMIMAJOR_AXIS = 11305.6
PERIAPSIS_ALTITUDE = 273.65
PERIAPSIS_ARGUMENT_ANGLE = 356.98
PERIAPSIS_TIME = 2004-01-13T04:33:06.000Z
SPACECRAFT_ORIENTATION = (0.0,1.0,0.0)
^MEX_ORIENTATION_DESC = "MEX_ORIENTATION_DESC.TXT"
SPACECRAFT_POINTING_MODE = "UNK"
^MEX_POINTING_DESC = "MEX_POINTING_DESC.TXT"
RIGHT_ASCENSION = 1e+32
DECLINATION = 1e+32
OFFSET_ANGLE = 1e+32
SPACECRAFT_SOLAR_DISTANCE = 2.22901e+08
TARGET_NAME = MARS
/* CAMERA DATA ELEMENTS */
DETECTOR_TEMPERATURE = 19.5939
FOCAL_PLANE_TEMPERATURE = 9.3989
INST_CMPRS_NAME = "DISCRETE COSINE TRANSFORMATION (DCT)"
INST_CMPRS_RATIO = 10.2095
INST_CMPRS_QUALITY = 0
INST_CMPRS_QUANTZ_TBL_ID = 0
INSTRUMENT_TEMPERATURE = 12.8652
LENS_TEMPERATURE = 9.6028
MACROPIXEL_SIZE = 2
MISSING_FRAMES = 1
PIXEL_SUBSAMPLING_FLAG = N
SIGNAL_CHAIN_ID = 1
/* RADIOMETRIC DATA ELEMENTS */
BANDWIDTH = 180.0
CENTER_FILTER_WAVELENGTH = 677.0
RADIANCE_OFFSET = 4.76225
RADIANCE_SCALING_FACTOR = 0.0361461
REFLECTANCE_SCALING_FACTOR = 0.000936979
MEX:REFLECTANCE_OFFSET = 0.123447
/* IMAGE OBJECT DEFINITIONS */
OBJECT = IMAGE
  INTERCHANGE_FORMAT = BINARY
  LINES = 54569
  LINE_SAMPLES = 3041
  SAMPLE_TYPE = UNSIGNED_INTEGER
  SAMPLE_BITS = 8
  BANDS = 1
  BAND_STORAGE_TYPE = BAND_SEQUENTIAL
  MAXIMUM = 255
  MEAN = 176.956
  MINIMUM = 1
  STANDARD_DEVIATION = 30.3063
END_OBJECT = IMAGE
/* MAP OBJECT DEFINITIONS */
OBJECT = IMAGE_MAP_PROJECTION
  ^DATA_SET_MAP_PROJECTION_CATALOG= "DSMAP.CAT"
  A_AXIS_RADIUS = 3396.0
  B_AXIS_RADIUS = 3396.0
  C_AXIS_RADIUS = 3396.0
  CENTER_LATITUDE = 0.0
  CENTER_LONGITUDE = 257.0
  COORDINATE_SYSTEM_NAME = PLANETOGRAPHIC
  COORDINATE_SYSTEM_TYPE = "BODY-FIXED ROTATING"
  EASTERNMOST_LONGITUDE = 257.266
  FIRST_STANDARD_PARALLEL = "N/A"
  LINE_FIRST_PIXEL = 1
  LINE_LAST_PIXEL = 54569
  LINE_PROJECTION_OFFSET = 41470.25
  MAP_PROJECTION_ROTATION = 0.0
  MAP_PROJECTION_TYPE = SINUSOIDAL
  MAP_RESOLUTION = 2370.85521546667
  MAP_SCALE = 0.025
  MAXIMUM_LATITUDE = 16.8075
  MINIMUM_LATITUDE = -5.44347
  POSITIVE_LONGITUDE_DIRECTION = EAST
  REFERENCE_LATITUDE = "N/A"
  REFERENCE_LONGITUDE = "N/A"
  SAMPLE_FIRST_PIXEL = 1
  SAMPLE_LAST_PIXEL = 3041
  SAMPLE_PROJECTION_OFFSET = 2494.25
  SECOND_STANDARD_PARALLEL = "N/A"
  WESTERNMOST_LONGITUDE = 255.868
END_OBJECT = IMAGE_MAP_PROJECTION
END
