PDS_VERSION_ID = PDS3
/* FILE DATA ELEMENTS */
RECORD_TYPE = UNDEFINED
/* POINTERS TO DATA OBJECTS */
^IMAGE = ("H0016_0006_SR4.TIF")
/* IDENTIFICATION DATA ELEMENTS */
DATA_SET_ID = "MEX-M-HRSC-4-REFDR-MAPPROJECT-V4.0"
DATA_SET_NAME = "MARS EXPRESS HRSC MAP PROJECTED REFDR V4.0"
DETECTOR_ID = MEX_HRSC_SRC
EVENT_TYPE = "MARS-LOCAL-SYSTEMTEST-Im-Tc"
INSTRUMENT_HOST_ID = MEX
INSTRUMENT_HOST_NAME = "MARS EXPRESS"
INSTRUMENT_ID = HRSC
INSTRUMENT_NAME = "HIGH RESOLUTION STEREO CAMERA"
MISSION_NAME = "MARS EXPRESS"
MISSION_PHASE_NAME = MC_Phase_0
PROCESSING_LEVEL_ID = 4
PRODUCT_CREATION_TIME = 2022-11-22T09:57:07.000Z
PRODUCT_ID = "H0016_0006_SR4.TIF"
RELEASE_ID = 0002
REVISION_ID = 0000
/* QUALITY DATA ELEMENTS */
DATA_QUALITY_ID = 1
DATA_QUALITY_DESC = "Data calculated based on original SPICE kernels"
/* TIME DATA ELEMENTS */
SPACECRAFT_CLOCK_START_COUNT = "1/0022048049.32351"
SPACECRAFT_CLOCK_STOP_COUNT = "1/0022048082.30923"
IMAGE_TIME = 2004-01-13T04:27:53.484Z
START_TIME = 2004-01-13T04:27:53.482Z
STOP_TIME = 2004-01-13T04:27:53.487Z
/* ORBITAL DATA ELEMENTS */
ASCENDING_NODE_LONGITUDE = 228.62
MAXIMUM_RESOLUTION = 0.003401
FOOTPRINT_POINT_LATITUDE = (-24.1507,-24.1476,-24.1433,-24.1404, -24.1385,-24.1347,-24.1314,-24.1276, -24.1241,-24.1217,-24.1192,-24.1174, -24.1144,-24.1126,-24.1103,-24.1072, -24.1053,-24.103,-24.099,-24.0966, -24.093,-24.093,-24.093,-24.093,-24.093 ,-24.093,-24.093,-24.0931,-24.0931, -24.0931,-24.0931,-24.0931,-24.0931, -24.0931,-24.0932,-24.0932,-24.0932, -24.0932,-24.0932,-24.0932,-24.0932, -24.0933,-24.0933,-24.0933,-24.0933, -24.0933,-24.0933,-24.0934,-24.0934, -24.0934,-24.0961,-24.0985,-24.1003, -24.103,-24.1068,-24.1111,-24.1139, -24.1157,-24.1191,-24.122,-24.1255, -24.1288,-24.132,-24.1349,-24.137, -24.1393,-24.143,-24.1459,-24.1491, -24.151,-24.1511,-24.1511,-24.1511, -24.151,-24.151,-24.151,-24.151,-24.151 ,-24.151,-24.151,-24.151,-24.1509, -24.1509,-24.1509,-24.1509,-24.1509, -24.1509,-24.1509,-24.1508,-24.1508, -24.1508,-24.1508,-24.1508,-24.1508, -24.1507,-24.1507,-24.1507,-24.1507, -24.1507,-24.1507)
FOOTPRINT_POINT_LONGITUDE = (256.48,256.48,256.48,256.48,256.48, 256.48,256.48,256.48,256.48,256.48, 256.48,256.48,256.48,256.48,256.48, 256.48,256.48,256.48,256.48,256.48, 256.48,256.48,256.48,256.484,256.487, 256.489,256.492,256.494,256.496,256.498 ,256.501,256.504,256.506,256.509,256.51 ,256.513,256.515,256.518,256.52,256.523 ,256.525,256.527,256.53,256.533,256.536 ,256.538,256.541,256.543,256.544, 256.544,256.544,256.544,256.544,256.544 ,256.544,256.544,256.544,256.544, 256.544,256.544,256.544,256.544,256.544 ,256.544,256.544,256.544,256.544, 256.544,256.544,256.544,256.544,256.544 ,256.541,256.539,256.537,256.535, 256.532,256.53,256.528,256.526,256.523, 256.521,256.519,256.517,256.514,256.512 ,256.51,256.507,256.505,256.503,256.501 ,256.497,256.495,256.492,256.489, 256.486,256.484,256.481,256.48,256.48)
ORBIT_NUMBER = 16
ORBITAL_ECCENTRICITY = 0.675
ORBITAL_INCLINATION = 86.65
ORBITAL_SEMIMAJOR_AXIS = 11305.6
PERIAPSIS_ALTITUDE = 273.65
PERIAPSIS_ARGUMENT_ANGLE = 356.98
PERIAPSIS_TIME = 2004-01-13T04:33:06.000Z
SPACECRAFT_ORIENTATION = (0.0,1.0,0.0)
^MEX_ORIENTATION_DESC = "MEX_ORIENTATION_DESC.TXT"
SPACECRAFT_POINTING_MODE = "UNK"
^MEX_POINTING_DESC = "MEX_POINTING_DESC.TXT"
RIGHT_ASCENSION = 1e+32
DECLINATION = 1e+32
OFFSET_ANGLE = 1e+32
SPACECRAFT_SOLAR_DISTANCE = 2.22901e+08
TARGET_NAME = MARS
/* CAMERA DATA ELEMENTS */
BUFFER_MODE_ID = BUFFER_8
EXPOSURE_DURATION = 5.04
INST_CMPRS_NAME = NONE
INST_CMPRS_RATIO = 1.0
INST_CMPRS_QUALITY = -2147483648
INST_CMPRS_QUANTZ_TBL_ID = -2147483648
INSTRUMENT_TEMPERATURE = 5.80887
MISSING_FRAMES = 0
START_BIT = 0
/* RADIOMETRIC DATA ELEMENTS */
BANDWIDTH = 250.0
CENTER_FILTER_WAVELENGTH = 600.0
RADIANCE_OFFSET = -9.99e+31
RADIANCE_SCALING_FACTOR = -9.99e+31
REFLECTANCE_SCALING_FACTOR = -9.99e+31
MEX:REFLECTANCE_OFFSET = -9.99e+31
/* IMAGE OBJECT DEFINITIONS */
OBJECT = IMAGE
  INTERCHANGE_FORMAT = BINARY
  LINES = 1430
  LINE_SAMPLES = 1438
  SAMPLE_TYPE = UNSIGNED_INTEGER
  SAMPLE_BITS = 8
  BANDS = 1
  BAND_STORAGE_TYPE = BAND_SEQUENTIAL
  MAXIMUM = 253
  MEAN = 126.825
  MINIMUM = 11
  STANDARD_DEVIATION = 22.3632
END_OBJECT = IMAGE
/* MAP OBJECT DEFINITIONS */
OBJECT = IMAGE_MAP_PROJECTION
  ^DATA_SET_MAP_PROJECTION_CATALOG= "DSMAP.CAT"
  A_AXIS_RADIUS = 3396.19
  B_AXIS_RADIUS = 3396.19
  C_AXIS_RADIUS = 3396.19
  CENTER_LATITUDE = 0.0
  CENTER_LONGITUDE = 257.0
  COORDINATE_SYSTEM_NAME = PLANETOGRAPHIC
  COORDINATE_SYSTEM_TYPE = "BODY-FIXED ROTATING"
  EASTERNMOST_LONGITUDE = 256.544
  FIRST_STANDARD_PARALLEL = "N/A"
  LINE_FIRST_PIXEL = 1
  LINE_LAST_PIXEL = 1430
  LINE_PROJECTION_OFFSET = -571035.0
  MAP_PROJECTION_ROTATION = 0.0
  MAP_PROJECTION_TYPE = SINUSOIDAL
  MAP_RESOLUTION = 23709.8786048756
  MAP_SCALE = 0.0025
  MAXIMUM_LATITUDE = -24.093
  MINIMUM_LATITUDE = -24.1511
  POSITIVE_LONGITUDE_DIRECTION = EAST
  REFERENCE_LATITUDE = "N/A"
  REFERENCE_LONGITUDE = "N/A"
  SAMPLE_FIRST_PIXEL = 1
  SAMPLE_LAST_PIXEL = 1438
  SAMPLE_PROJECTION_OFFSET = 11269.0
  SECOND_STANDARD_PARALLEL = "N/A"
  WESTERNMOST_LONGITUDE = 256.48
END_OBJECT = IMAGE_MAP_PROJECTION
END
