PDS_VERSION_ID = PDS3
/* FILE DATA ELEMENTS */
RECORD_TYPE = UNDEFINED
/* POINTERS TO DATA OBJECTS */
^IMAGE = ("H0016_0001_SR4.TIF")
/* IDENTIFICATION DATA ELEMENTS */
DATA_SET_ID = "MEX-M-HRSC-4-REFDR-MAPPROJECT-V4.0"
DATA_SET_NAME = "MARS EXPRESS HRSC MAP PROJECTED REFDR V4.0"
DETECTOR_ID = MEX_HRSC_SRC
EVENT_TYPE = "MARS-LOCAL-SYSTEMTEST-Im-Tc"
INSTRUMENT_HOST_ID = MEX
INSTRUMENT_HOST_NAME = "MARS EXPRESS"
INSTRUMENT_ID = HRSC
INSTRUMENT_NAME = "HIGH RESOLUTION STEREO CAMERA"
MISSION_NAME = "MARS EXPRESS"
MISSION_PHASE_NAME = MC_Phase_0
PROCESSING_LEVEL_ID = 4
PRODUCT_CREATION_TIME = 2022-11-22T09:57:07.000Z
PRODUCT_ID = "H0016_0001_SR4.TIF"
RELEASE_ID = 0002
REVISION_ID = 0000
/* QUALITY DATA ELEMENTS */
DATA_QUALITY_ID = 1
DATA_QUALITY_DESC = "Data calculated based on original SPICE kernels"
/* TIME DATA ELEMENTS */
SPACECRAFT_CLOCK_START_COUNT = "1/0022048049.32351"
SPACECRAFT_CLOCK_STOP_COUNT = "1/0022048082.30923"
IMAGE_TIME = 2004-01-13T04:27:48.034Z
START_TIME = 2004-01-13T04:27:47.776Z
STOP_TIME = 2004-01-13T04:27:48.292Z
/* ORBITAL DATA ELEMENTS */
ASCENDING_NODE_LONGITUDE = 228.62
MAXIMUM_RESOLUTION = 0.003434
FOOTPRINT_POINT_LATITUDE = (-24.5058,-24.5028,-24.5009,-24.4979, -24.4945,-24.4911,-24.4884,-24.4866, -24.4827,-24.4794,-24.4771,-24.4732, -24.4701,-24.4677,-24.4646,-24.4626, -24.4601,-24.4571,-24.4539,-24.4503, -24.4476,-24.4476,-24.4476,-24.4476, -24.4476,-24.4476,-24.4476,-24.4476, -24.4477,-24.4477,-24.4477,-24.4477, -24.4477,-24.4478,-24.4478,-24.4478, -24.4478,-24.4478,-24.4478,-24.4478, -24.4479,-24.4479,-24.4479,-24.4479, -24.4479,-24.4479,-24.4479,-24.448, -24.448,-24.448,-24.4515,-24.4542, -24.4569,-24.4591,-24.4616,-24.4637, -24.4655,-24.4674,-24.4699,-24.4735, -24.476,-24.4795,-24.4826,-24.4847, -24.489,-24.4918,-24.4939,-24.4958, -24.4986,-24.5017,-24.5062,-24.5063, -24.5063,-24.5062,-24.5062,-24.5062, -24.5062,-24.5062,-24.5062,-24.5062, -24.5061,-24.5061,-24.5061,-24.5061, -24.5061,-24.5061,-24.506,-24.506, -24.506,-24.506,-24.506,-24.506,-24.506 ,-24.5059,-24.5059,-24.5059,-24.5059, -24.5059,-24.5059,-24.5058)
FOOTPRINT_POINT_LONGITUDE = (256.477,256.477,256.477,256.477, 256.477,256.477,256.477,256.477,256.477 ,256.477,256.477,256.477,256.477, 256.477,256.477,256.477,256.477,256.477 ,256.477,256.477,256.477,256.477, 256.477,256.48,256.481,256.484,256.486, 256.488,256.491,256.494,256.496,256.499 ,256.502,256.506,256.508,256.511, 256.513,256.515,256.518,256.52,256.522, 256.525,256.527,256.53,256.532,256.534, 256.537,256.541,256.541,256.542,256.542 ,256.542,256.542,256.542,256.542, 256.542,256.542,256.541,256.541,256.541 ,256.541,256.541,256.541,256.541, 256.541,256.541,256.541,256.541,256.541 ,256.541,256.541,256.541,256.541, 256.539,256.537,256.534,256.532,256.529 ,256.526,256.524,256.521,256.52,256.517 ,256.515,256.513,256.509,256.507, 256.505,256.502,256.5,256.498,256.496, 256.493,256.49,256.486,256.484,256.481, 256.478,256.477,256.477)
ORBIT_NUMBER = 16
ORBITAL_ECCENTRICITY = 0.675
ORBITAL_INCLINATION = 86.65
ORBITAL_SEMIMAJOR_AXIS = 11305.6
PERIAPSIS_ALTITUDE = 273.65
PERIAPSIS_ARGUMENT_ANGLE = 356.98
PERIAPSIS_TIME = 2004-01-13T04:33:06.000Z
SPACECRAFT_ORIENTATION = (0.0,1.0,0.0)
^MEX_ORIENTATION_DESC = "MEX_ORIENTATION_DESC.TXT"
SPACECRAFT_POINTING_MODE = "UNK"
^MEX_POINTING_DESC = "MEX_POINTING_DESC.TXT"
RIGHT_ASCENSION = 1e+32
DECLINATION = 1e+32
OFFSET_ANGLE = 1e+32
SPACECRAFT_SOLAR_DISTANCE = 2.22901e+08
TARGET_NAME = MARS
/* CAMERA DATA ELEMENTS */
BUFFER_MODE_ID = BUFFER_8
EXPOSURE_DURATION = 516.096
INST_CMPRS_NAME = NONE
INST_CMPRS_RATIO = 1.0
INST_CMPRS_QUALITY = -2147483648
INST_CMPRS_QUANTZ_TBL_ID = -2147483648
INSTRUMENT_TEMPERATURE = 5.15152
MISSING_FRAMES = 0
START_BIT = 0
/* RADIOMETRIC DATA ELEMENTS */
BANDWIDTH = 250.0
CENTER_FILTER_WAVELENGTH = 600.0
RADIANCE_OFFSET = -9.99e+31
RADIANCE_SCALING_FACTOR = -9.99e+31
REFLECTANCE_SCALING_FACTOR = -9.99e+31
MEX:REFLECTANCE_OFFSET = -9.99e+31
/* IMAGE OBJECT DEFINITIONS */
OBJECT = IMAGE
  INTERCHANGE_FORMAT = BINARY
  LINES = 1444
  LINE_SAMPLES = 1454
  SAMPLE_TYPE = UNSIGNED_INTEGER
  SAMPLE_BITS = 8
  BANDS = 1
  BAND_STORAGE_TYPE = BAND_SEQUENTIAL
  MAXIMUM = 255
  MEAN = 255.0
  MINIMUM = 89
  STANDARD_DEVIATION = 0.169868
END_OBJECT = IMAGE
/* MAP OBJECT DEFINITIONS */
OBJECT = IMAGE_MAP_PROJECTION
  ^DATA_SET_MAP_PROJECTION_CATALOG= "DSMAP.CAT"
  A_AXIS_RADIUS = 3396.19
  B_AXIS_RADIUS = 3396.19
  C_AXIS_RADIUS = 3396.19
  CENTER_LATITUDE = 0.0
  CENTER_LONGITUDE = 257.0
  COORDINATE_SYSTEM_NAME = PLANETOGRAPHIC
  COORDINATE_SYSTEM_TYPE = "BODY-FIXED ROTATING"
  EASTERNMOST_LONGITUDE = 256.542
  FIRST_STANDARD_PARALLEL = "N/A"
  LINE_FIRST_PIXEL = 1
  LINE_LAST_PIXEL = 1444
  LINE_PROJECTION_OFFSET = -579434.0
  MAP_PROJECTION_ROTATION = 0.0
  MAP_PROJECTION_TYPE = SINUSOIDAL
  MAP_RESOLUTION = 23709.8786048756
  MAP_SCALE = 0.0025
  MAXIMUM_LATITUDE = -24.4476
  MINIMUM_LATITUDE = -24.5063
  POSITIVE_LONGITUDE_DIRECTION = EAST
  REFERENCE_LATITUDE = "N/A"
  REFERENCE_LONGITUDE = "N/A"
  SAMPLE_FIRST_PIXEL = 1
  SAMPLE_LAST_PIXEL = 1454
  SAMPLE_PROJECTION_OFFSET = 11308.0
  SECOND_STANDARD_PARALLEL = "N/A"
  WESTERNMOST_LONGITUDE = 256.477
END_OBJECT = IMAGE_MAP_PROJECTION
END
