PDS_VERSION_ID = PDS3
/* FILE DATA ELEMENTS */
RECORD_TYPE = UNDEFINED
/* POINTERS TO DATA OBJECTS */
^IMAGE = ("H0010_0170_SR4.TIF")
/* IDENTIFICATION DATA ELEMENTS */
DATA_SET_ID = "MEX-M-HRSC-4-REFDR-MAPPROJECT-V4.0"
DATA_SET_NAME = "MARS EXPRESS HRSC MAP PROJECTED REFDR V4.0"
DETECTOR_ID = MEX_HRSC_SRC
EVENT_TYPE = "MARS-REGIONAL-MAPPING-Vo-Im-Tc"
INSTRUMENT_HOST_ID = MEX
INSTRUMENT_HOST_NAME = "MARS EXPRESS"
INSTRUMENT_ID = HRSC
INSTRUMENT_NAME = "HIGH RESOLUTION STEREO CAMERA"
MISSION_NAME = "MARS EXPRESS"
MISSION_PHASE_NAME = MC_Phase_0
PROCESSING_LEVEL_ID = 4
PRODUCT_CREATION_TIME = 2022-11-22T09:18:20.000Z
PRODUCT_ID = "H0010_0170_SR4.TIF"
RELEASE_ID = 0001
REVISION_ID = 0000
/* QUALITY DATA ELEMENTS */
DATA_QUALITY_ID = 1
DATA_QUALITY_DESC = "Data calculated based on original SPICE kernels"
/* TIME DATA ELEMENTS */
SPACECRAFT_CLOCK_START_COUNT = "1/0021823325.32303"
SPACECRAFT_CLOCK_STOP_COUNT = "1/0021823574.56834"
IMAGE_TIME = 2004-01-10T14:05:35.330Z
START_TIME = 2004-01-10T14:05:35.329Z
STOP_TIME = 2004-01-10T14:05:35.332Z
/* ORBITAL DATA ELEMENTS */
ASCENDING_NODE_LONGITUDE = 228.73
MAXIMUM_RESOLUTION = 0.002643
FOOTPRINT_POINT_LATITUDE = (4.76671,4.76966,4.77189,4.7735,4.77555 ,4.77814,4.77975,4.78202,4.78345, 4.78573,4.7885,4.79042,4.79319,4.79479, 4.79716,4.80055,4.80194,4.80385,4.80546 ,4.80756,4.80997,4.81162,4.81167, 4.81167,4.81167,4.81167,4.81167,4.81167 ,4.81167,4.81167,4.81167,4.81167, 4.81167,4.81167,4.81167,4.81167,4.81167 ,4.81167,4.81167,4.81166,4.81166, 4.81166,4.81166,4.81166,4.81166,4.81166 ,4.81166,4.81166,4.81166,4.81166, 4.81166,4.80939,4.8076,4.80595,4.80309, 4.8013,4.79871,4.79599,4.79434,4.79282, 4.79099,4.78817,4.78536,4.78339,4.78165 ,4.77938,4.77795,4.77576,4.77384, 4.77156,4.77013,4.76674,4.76669,4.76669 ,4.76669,4.7667,4.7667,4.7667,4.7667, 4.7667,4.7667,4.7667,4.7667,4.7667, 4.7667,4.7667,4.7667,4.76671,4.76671, 4.76671,4.76671,4.76671,4.76671,4.76671 ,4.76671,4.76671,4.76671,4.76671, 4.76671,4.76671)
FOOTPRINT_POINT_LONGITUDE = (90.4672,90.4672,90.4672,90.4672, 90.4672,90.4672,90.4672,90.4672,90.4672 ,90.4672,90.4672,90.4672,90.4672, 90.4672,90.4672,90.4672,90.4672,90.4672 ,90.4672,90.4672,90.4672,90.4672, 90.4672,90.4673,90.4691,90.4709,90.4727 ,90.4745,90.4763,90.4781,90.4798, 90.4816,90.4834,90.4852,90.487,90.4888, 90.4906,90.4924,90.4942,90.496,90.4978, 90.4996,90.5014,90.5032,90.505,90.5068, 90.5085,90.5103,90.5117,90.5121,90.5124 ,90.5124,90.5124,90.5124,90.5124, 90.5124,90.5124,90.5124,90.5124,90.5124 ,90.5124,90.5124,90.5124,90.5124, 90.5124,90.5124,90.5124,90.5124,90.5124 ,90.5124,90.5124,90.5124,90.5124, 90.5123,90.5092,90.5074,90.5056,90.5038 ,90.502,90.5002,90.4984,90.4966,90.4949 ,90.4931,90.4913,90.4895,90.4877, 90.4859,90.4841,90.4823,90.4805,90.4787 ,90.4769,90.4751,90.4733,90.4715, 90.4697,90.4679,90.4675,90.4672)
ORBIT_NUMBER = 10
ORBITAL_ECCENTRICITY = 0.717
ORBITAL_INCLINATION = 86.63
ORBITAL_SEMIMAJOR_AXIS = 12956.1
PERIAPSIS_ALTITUDE = 274.15
PERIAPSIS_ARGUMENT_ANGLE = 357.88
PERIAPSIS_TIME = 2004-01-10T14:03:56.000Z
SPACECRAFT_ORIENTATION = (0.0,1.0,0.0)
^MEX_ORIENTATION_DESC = "MEX_ORIENTATION_DESC.TXT"
SPACECRAFT_POINTING_MODE = NADIR
^MEX_POINTING_DESC = "MEX_POINTING_DESC.TXT"
RIGHT_ASCENSION = -1e+32
DECLINATION = -1e+32
OFFSET_ANGLE = -1e+32
SPACECRAFT_SOLAR_DISTANCE = 2.22398e+08
TARGET_NAME = MARS
/* CAMERA DATA ELEMENTS */
BUFFER_MODE_ID = DIRECT
EXPOSURE_DURATION = 3.024
INST_CMPRS_NAME = "DISCRETE COSINE TRANSFORMATION (DCT)"
INST_CMPRS_RATIO = 14.1766
INST_CMPRS_QUALITY = 0
INST_CMPRS_QUANTZ_TBL_ID = 0
INSTRUMENT_TEMPERATURE = 17.2727
MISSING_FRAMES = 0
START_BIT = 0
/* RADIOMETRIC DATA ELEMENTS */
BANDWIDTH = 250.0
CENTER_FILTER_WAVELENGTH = 600.0
RADIANCE_OFFSET = -9.99e+31
RADIANCE_SCALING_FACTOR = -9.99e+31
REFLECTANCE_SCALING_FACTOR = -9.99e+31
MEX:REFLECTANCE_OFFSET = -9.99e+31
/* IMAGE OBJECT DEFINITIONS */
OBJECT = IMAGE
  INTERCHANGE_FORMAT = BINARY
  LINES = 1107
  LINE_SAMPLES = 1108
  SAMPLE_TYPE = UNSIGNED_INTEGER
  SAMPLE_BITS = 8
  BANDS = 1
  BAND_STORAGE_TYPE = BAND_SEQUENTIAL
  MAXIMUM = 248
  MEAN = 105.685
  MINIMUM = 6
  STANDARD_DEVIATION = 13.957
END_OBJECT = IMAGE
/* MAP OBJECT DEFINITIONS */
OBJECT = IMAGE_MAP_PROJECTION
  ^DATA_SET_MAP_PROJECTION_CATALOG= "DSMAP.CAT"
  A_AXIS_RADIUS = 3396.19
  B_AXIS_RADIUS = 3396.19
  C_AXIS_RADIUS = 3396.19
  CENTER_LATITUDE = 0.0
  CENTER_LONGITUDE = 90.0
  COORDINATE_SYSTEM_NAME = PLANETOGRAPHIC
  COORDINATE_SYSTEM_TYPE = "BODY-FIXED ROTATING"
  EASTERNMOST_LONGITUDE = 90.5124
  FIRST_STANDARD_PARALLEL = "N/A"
  LINE_FIRST_PIXEL = 1
  LINE_LAST_PIXEL = 1107
  LINE_PROJECTION_OFFSET = 114100.0
  MAP_PROJECTION_ROTATION = 0.0
  MAP_PROJECTION_TYPE = SINUSOIDAL
  MAP_RESOLUTION = 23709.8786048756
  MAP_SCALE = 0.0025
  MAXIMUM_LATITUDE = 4.81167
  MINIMUM_LATITUDE = 4.76669
  POSITIVE_LONGITUDE_DIRECTION = EAST
  REFERENCE_LATITUDE = "N/A"
  REFERENCE_LONGITUDE = "N/A"
  SAMPLE_FIRST_PIXEL = 1
  SAMPLE_LAST_PIXEL = 1108
  SAMPLE_PROJECTION_OFFSET = -11019.0
  SECOND_STANDARD_PARALLEL = "N/A"
  WESTERNMOST_LONGITUDE = 90.46720000000001
END_OBJECT = IMAGE_MAP_PROJECTION
END
