PDS_VERSION_ID = PDS3
/* FILE DATA ELEMENTS */
RECORD_TYPE = UNDEFINED
/* POINTERS TO DATA OBJECTS */
^IMAGE = ("H0010_0128_SR4.TIF")
/* IDENTIFICATION DATA ELEMENTS */
DATA_SET_ID = "MEX-M-HRSC-4-REFDR-MAPPROJECT-V4.0"
DATA_SET_NAME = "MARS EXPRESS HRSC MAP PROJECTED REFDR V4.0"
DETECTOR_ID = MEX_HRSC_SRC
EVENT_TYPE = "MARS-REGIONAL-MAPPING-Vo-Im-Tc"
INSTRUMENT_HOST_ID = MEX
INSTRUMENT_HOST_NAME = "MARS EXPRESS"
INSTRUMENT_ID = HRSC
INSTRUMENT_NAME = "HIGH RESOLUTION STEREO CAMERA"
MISSION_NAME = "MARS EXPRESS"
MISSION_PHASE_NAME = MC_Phase_0
PROCESSING_LEVEL_ID = 4
PRODUCT_CREATION_TIME = 2022-11-22T09:18:20.000Z
PRODUCT_ID = "H0010_0128_SR4.TIF"
RELEASE_ID = 0001
REVISION_ID = 0000
/* QUALITY DATA ELEMENTS */
DATA_QUALITY_ID = 1
DATA_QUALITY_DESC = "Data calculated based on original SPICE kernels"
/* TIME DATA ELEMENTS */
SPACECRAFT_CLOCK_START_COUNT = "1/0021823325.32303"
SPACECRAFT_CLOCK_STOP_COUNT = "1/0021823574.56834"
IMAGE_TIME = 2004-01-10T14:05:01.539Z
START_TIME = 2004-01-10T14:05:01.537Z
STOP_TIME = 2004-01-10T14:05:01.540Z
/* ORBITAL DATA ELEMENTS */
ASCENDING_NODE_LONGITUDE = 228.73
MAXIMUM_RESOLUTION = 0.00257
FOOTPRINT_POINT_LATITUDE = (2.42026,2.42161,2.42361,2.42664, 2.42938,2.43163,2.43445,2.43723,2.43936 ,2.44196,2.44365,2.44604,2.44782, 2.45003,2.45142,2.45315,2.45519,2.45684 ,2.45832,2.46014,2.46179,2.46391, 2.46396,2.46396,2.46396,2.46396,2.46396 ,2.46396,2.46396,2.46396,2.46396, 2.46396,2.46396,2.46396,2.46396,2.46396 ,2.46396,2.46396,2.46396,2.46396, 2.46396,2.46396,2.46396,2.46396,2.46396 ,2.46396,2.46396,2.46396,2.46396, 2.46396,2.46396,2.46262,2.46132,2.45936 ,2.4578,2.45489,2.45294,2.45129,2.44868 ,2.44647,2.44387,2.44213,2.43983, 2.43762,2.43475,2.43102,2.42924,2.42659 ,2.42472,2.42221,2.4203,2.42025,2.42025 ,2.42025,2.42025,2.42026,2.42026, 2.42026,2.42026,2.42026,2.42026,2.42026 ,2.42026,2.42026,2.42026,2.42026, 2.42026,2.42026,2.42026,2.42026,2.42026 ,2.42026,2.42026,2.42026,2.42026, 2.42026,2.42026,2.42026,2.42026, 2.42026)
FOOTPRINT_POINT_LONGITUDE = (90.4648,90.4648,90.4648,90.4648, 90.4648,90.4648,90.4648,90.4648,90.4648 ,90.4648,90.4648,90.4648,90.4648, 90.4648,90.4648,90.4648,90.4648,90.4648 ,90.4648,90.4648,90.4648,90.4648, 90.4648,90.4649,90.4666,90.4684,90.4701 ,90.4718,90.4736,90.4753,90.4771, 90.4788,90.4805,90.4823,90.484,90.4857, 90.4875,90.4892,90.491,90.4927,90.4944, 90.4962,90.4979,90.4997,90.5014,90.5031 ,90.5049,90.5066,90.5079,90.5084, 90.5086,90.5086,90.5086,90.5086,90.5086 ,90.5086,90.5086,90.5086,90.5086, 90.5086,90.5086,90.5086,90.5086,90.5086 ,90.5086,90.5086,90.5086,90.5086, 90.5086,90.5086,90.5086,90.5086,90.5086 ,90.5073,90.5055,90.5038,90.502,90.5003 ,90.4986,90.4968,90.4951,90.4934, 90.4916,90.4899,90.4881,90.4864,90.4847 ,90.4829,90.4812,90.4794,90.4777,90.476 ,90.4742,90.4725,90.4707,90.469,90.4673 ,90.4655,90.4651,90.4648)
ORBIT_NUMBER = 10
ORBITAL_ECCENTRICITY = 0.717
ORBITAL_INCLINATION = 86.63
ORBITAL_SEMIMAJOR_AXIS = 12956.1
PERIAPSIS_ALTITUDE = 274.15
PERIAPSIS_ARGUMENT_ANGLE = 357.88
PERIAPSIS_TIME = 2004-01-10T14:03:56.000Z
SPACECRAFT_ORIENTATION = (0.0,1.0,0.0)
^MEX_ORIENTATION_DESC = "MEX_ORIENTATION_DESC.TXT"
SPACECRAFT_POINTING_MODE = NADIR
^MEX_POINTING_DESC = "MEX_POINTING_DESC.TXT"
RIGHT_ASCENSION = -1e+32
DECLINATION = -1e+32
OFFSET_ANGLE = -1e+32
SPACECRAFT_SOLAR_DISTANCE = 2.22398e+08
TARGET_NAME = MARS
/* CAMERA DATA ELEMENTS */
BUFFER_MODE_ID = DIRECT
EXPOSURE_DURATION = 3.024
INST_CMPRS_NAME = "DISCRETE COSINE TRANSFORMATION (DCT)"
INST_CMPRS_RATIO = 14.4123
INST_CMPRS_QUALITY = 0
INST_CMPRS_QUANTZ_TBL_ID = 0
INSTRUMENT_TEMPERATURE = 17.2727
MISSING_FRAMES = 0
START_BIT = 0
/* RADIOMETRIC DATA ELEMENTS */
BANDWIDTH = 250.0
CENTER_FILTER_WAVELENGTH = 600.0
RADIANCE_OFFSET = -9.99e+31
RADIANCE_SCALING_FACTOR = -9.99e+31
REFLECTANCE_SCALING_FACTOR = -9.99e+31
MEX:REFLECTANCE_OFFSET = -9.99e+31
/* IMAGE OBJECT DEFINITIONS */
OBJECT = IMAGE
  INTERCHANGE_FORMAT = BINARY
  LINES = 1077
  LINE_SAMPLES = 1078
  SAMPLE_TYPE = UNSIGNED_INTEGER
  SAMPLE_BITS = 8
  BANDS = 1
  BAND_STORAGE_TYPE = BAND_SEQUENTIAL
  MAXIMUM = 235
  MEAN = 102.384
  MINIMUM = 6
  STANDARD_DEVIATION = 11.8619
END_OBJECT = IMAGE
/* MAP OBJECT DEFINITIONS */
OBJECT = IMAGE_MAP_PROJECTION
  ^DATA_SET_MAP_PROJECTION_CATALOG= "DSMAP.CAT"
  A_AXIS_RADIUS = 3396.19
  B_AXIS_RADIUS = 3396.19
  C_AXIS_RADIUS = 3396.19
  CENTER_LATITUDE = 0.0
  CENTER_LONGITUDE = 90.0
  COORDINATE_SYSTEM_NAME = PLANETOGRAPHIC
  COORDINATE_SYSTEM_TYPE = "BODY-FIXED ROTATING"
  EASTERNMOST_LONGITUDE = 90.5086
  FIRST_STANDARD_PARALLEL = "N/A"
  LINE_FIRST_PIXEL = 1
  LINE_LAST_PIXEL = 1077
  LINE_PROJECTION_OFFSET = 58439.0
  MAP_PROJECTION_ROTATION = 0.0
  MAP_PROJECTION_TYPE = SINUSOIDAL
  MAP_RESOLUTION = 23709.8786048756
  MAP_SCALE = 0.0025
  MAXIMUM_LATITUDE = 2.46396
  MINIMUM_LATITUDE = 2.42025
  POSITIVE_LONGITUDE_DIRECTION = EAST
  REFERENCE_LATITUDE = "N/A"
  REFERENCE_LONGITUDE = "N/A"
  SAMPLE_FIRST_PIXEL = 1
  SAMPLE_LAST_PIXEL = 1078
  SAMPLE_PROJECTION_OFFSET = -10989.0
  SECOND_STANDARD_PARALLEL = "N/A"
  WESTERNMOST_LONGITUDE = 90.4648
END_OBJECT = IMAGE_MAP_PROJECTION
END
