PDS_VERSION_ID = PDS3
/* FILE DATA ELEMENTS */
RECORD_TYPE = UNDEFINED
/* POINTERS TO DATA OBJECTS */
^IMAGE = ("H0010_0122_SR4.TIF")
/* IDENTIFICATION DATA ELEMENTS */
DATA_SET_ID = "MEX-M-HRSC-4-REFDR-MAPPROJECT-V4.0"
DATA_SET_NAME = "MARS EXPRESS HRSC MAP PROJECTED REFDR V4.0"
DETECTOR_ID = MEX_HRSC_SRC
EVENT_TYPE = "MARS-REGIONAL-MAPPING-Vo-Im-Tc"
INSTRUMENT_HOST_ID = MEX
INSTRUMENT_HOST_NAME = "MARS EXPRESS"
INSTRUMENT_ID = HRSC
INSTRUMENT_NAME = "HIGH RESOLUTION STEREO CAMERA"
MISSION_NAME = "MARS EXPRESS"
MISSION_PHASE_NAME = MC_Phase_0
PROCESSING_LEVEL_ID = 4
PRODUCT_CREATION_TIME = 2022-11-22T09:18:20.000Z
PRODUCT_ID = "H0010_0122_SR4.TIF"
RELEASE_ID = 0001
REVISION_ID = 0000
/* QUALITY DATA ELEMENTS */
DATA_QUALITY_ID = 1
DATA_QUALITY_DESC = "Data calculated based on original SPICE kernels"
/* TIME DATA ELEMENTS */
SPACECRAFT_CLOCK_START_COUNT = "1/0021823325.32303"
SPACECRAFT_CLOCK_STOP_COUNT = "1/0021823574.56834"
IMAGE_TIME = 2004-01-10T14:04:33.743Z
START_TIME = 2004-01-10T14:04:33.741Z
STOP_TIME = 2004-01-10T14:04:33.744Z
/* ORBITAL DATA ELEMENTS */
ASCENDING_NODE_LONGITUDE = 228.73
MAXIMUM_RESOLUTION = 0.002522
FOOTPRINT_POINT_LATITUDE = (0.48509,0.486792,0.489387,0.490918, 0.493088,0.494492,0.496108,0.498746, 0.50032,0.50266,0.504532,0.507127, 0.508615,0.510828,0.512955,0.515167, 0.516868,0.519761,0.521846,0.524058, 0.526057,0.527887,0.527929,0.527929, 0.52793,0.52793,0.527931,0.527931, 0.527931,0.527932,0.527932,0.527933, 0.527933,0.527933,0.527934,0.527934, 0.527935,0.527935,0.527936,0.527936, 0.527936,0.527937,0.527937,0.527938, 0.527938,0.527938,0.527939,0.527939, 0.52794,0.52794,0.525088,0.523343, 0.521428,0.519045,0.517428,0.515428, 0.514066,0.512236,0.50998,0.508533, 0.506831,0.505129,0.502448,0.500916, 0.499426,0.497767,0.495128,0.493255, 0.491681,0.489213,0.487,0.485127, 0.485085,0.485085,0.485085,0.485085, 0.485085,0.485086,0.485086,0.485086, 0.485086,0.485087,0.485087,0.485087, 0.485087,0.485088,0.485088,0.485088, 0.485088,0.485088,0.485089,0.485089, 0.485089,0.485089,0.48509,0.48509, 0.48509,0.48509,0.48509,0.48509)
FOOTPRINT_POINT_LONGITUDE = (90.4626,90.4626,90.4626,90.4626, 90.4626,90.4626,90.4626,90.4626,90.4626 ,90.4626,90.4626,90.4626,90.4626, 90.4626,90.4626,90.4626,90.4626,90.4626 ,90.4626,90.4626,90.4626,90.4626, 90.4626,90.4626,90.4643,90.466,90.4677, 90.4694,90.4711,90.4728,90.4745,90.4762 ,90.4779,90.4796,90.4813,90.483,90.4847 ,90.4864,90.4881,90.4898,90.4915, 90.4933,90.495,90.4967,90.4984,90.5001, 90.5018,90.5048,90.5052,90.5054,90.5054 ,90.5054,90.5054,90.5054,90.5054, 90.5054,90.5054,90.5054,90.5054,90.5054 ,90.5054,90.5054,90.5054,90.5054, 90.5054,90.5054,90.5054,90.5054,90.5054 ,90.5054,90.5054,90.5054,90.5054, 90.5054,90.5024,90.5007,90.499,90.4973, 90.4956,90.4939,90.4922,90.4905,90.4888 ,90.4871,90.4854,90.4837,90.482,90.4803 ,90.4786,90.4769,90.4752,90.4734, 90.4717,90.47,90.4683,90.4666,90.4649, 90.4632,90.4628,90.4626)
ORBIT_NUMBER = 10
ORBITAL_ECCENTRICITY = 0.717
ORBITAL_INCLINATION = 86.63
ORBITAL_SEMIMAJOR_AXIS = 12956.1
PERIAPSIS_ALTITUDE = 274.15
PERIAPSIS_ARGUMENT_ANGLE = 357.88
PERIAPSIS_TIME = 2004-01-10T14:03:56.000Z
SPACECRAFT_ORIENTATION = (0.0,1.0,0.0)
^MEX_ORIENTATION_DESC = "MEX_ORIENTATION_DESC.TXT"
SPACECRAFT_POINTING_MODE = NADIR
^MEX_POINTING_DESC = "MEX_POINTING_DESC.TXT"
RIGHT_ASCENSION = -1e+32
DECLINATION = -1e+32
OFFSET_ANGLE = -1e+32
SPACECRAFT_SOLAR_DISTANCE = 2.22398e+08
TARGET_NAME = MARS
/* CAMERA DATA ELEMENTS */
BUFFER_MODE_ID = DIRECT
EXPOSURE_DURATION = 3.024
INST_CMPRS_NAME = "DISCRETE COSINE TRANSFORMATION (DCT)"
INST_CMPRS_RATIO = 14.3685
INST_CMPRS_QUALITY = 0
INST_CMPRS_QUANTZ_TBL_ID = 0
INSTRUMENT_TEMPERATURE = 17.2727
MISSING_FRAMES = 0
START_BIT = 0
/* RADIOMETRIC DATA ELEMENTS */
BANDWIDTH = 250.0
CENTER_FILTER_WAVELENGTH = 600.0
RADIANCE_OFFSET = -9.99e+31
RADIANCE_SCALING_FACTOR = -9.99e+31
REFLECTANCE_SCALING_FACTOR = -9.99e+31
MEX:REFLECTANCE_OFFSET = -9.99e+31
/* IMAGE OBJECT DEFINITIONS */
OBJECT = IMAGE
  INTERCHANGE_FORMAT = BINARY
  LINES = 1056
  LINE_SAMPLES = 1057
  SAMPLE_TYPE = UNSIGNED_INTEGER
  SAMPLE_BITS = 8
  BANDS = 1
  BAND_STORAGE_TYPE = BAND_SEQUENTIAL
  MAXIMUM = 241
  MEAN = 102.901
  MINIMUM = 10
  STANDARD_DEVIATION = 13.216
END_OBJECT = IMAGE
/* MAP OBJECT DEFINITIONS */
OBJECT = IMAGE_MAP_PROJECTION
  ^DATA_SET_MAP_PROJECTION_CATALOG= "DSMAP.CAT"
  A_AXIS_RADIUS = 3396.19
  B_AXIS_RADIUS = 3396.19
  C_AXIS_RADIUS = 3396.19
  CENTER_LATITUDE = 0.0
  CENTER_LONGITUDE = 90.0
  COORDINATE_SYSTEM_NAME = PLANETOGRAPHIC
  COORDINATE_SYSTEM_TYPE = "BODY-FIXED ROTATING"
  EASTERNMOST_LONGITUDE = 90.50539999999999
  FIRST_STANDARD_PARALLEL = "N/A"
  LINE_FIRST_PIXEL = 1
  LINE_LAST_PIXEL = 1056
  LINE_PROJECTION_OFFSET = 12536.0
  MAP_PROJECTION_ROTATION = 0.0
  MAP_PROJECTION_TYPE = SINUSOIDAL
  MAP_RESOLUTION = 23709.8786048756
  MAP_SCALE = 0.0025
  MAXIMUM_LATITUDE = 0.52794
  MINIMUM_LATITUDE = 0.485085
  POSITIVE_LONGITUDE_DIRECTION = EAST
  REFERENCE_LATITUDE = "N/A"
  REFERENCE_LONGITUDE = "N/A"
  SAMPLE_FIRST_PIXEL = 1
  SAMPLE_LAST_PIXEL = 1057
  SAMPLE_PROJECTION_OFFSET = -10944.0
  SECOND_STANDARD_PARALLEL = "N/A"
  WESTERNMOST_LONGITUDE = 90.46259999999999
END_OBJECT = IMAGE_MAP_PROJECTION
END
