PDS_VERSION_ID = PDS3
/* FILE DATA ELEMENTS */
RECORD_TYPE = UNDEFINED
/* POINTERS TO DATA OBJECTS */
^IMAGE = ("H0010_0115_SR4.TIF")
/* IDENTIFICATION DATA ELEMENTS */
DATA_SET_ID = "MEX-M-HRSC-4-REFDR-MAPPROJECT-V4.0"
DATA_SET_NAME = "MARS EXPRESS HRSC MAP PROJECTED REFDR V4.0"
DETECTOR_ID = MEX_HRSC_SRC
EVENT_TYPE = "MARS-REGIONAL-MAPPING-Vo-Im-Tc"
INSTRUMENT_HOST_ID = MEX
INSTRUMENT_HOST_NAME = "MARS EXPRESS"
INSTRUMENT_ID = HRSC
INSTRUMENT_NAME = "HIGH RESOLUTION STEREO CAMERA"
MISSION_NAME = "MARS EXPRESS"
MISSION_PHASE_NAME = MC_Phase_0
PROCESSING_LEVEL_ID = 4
PRODUCT_CREATION_TIME = 2022-11-22T09:18:20.000Z
PRODUCT_ID = "H0010_0115_SR4.TIF"
RELEASE_ID = 0001
REVISION_ID = 0000
/* QUALITY DATA ELEMENTS */
DATA_QUALITY_ID = 1
DATA_QUALITY_DESC = "Data calculated based on original SPICE kernels"
/* TIME DATA ELEMENTS */
SPACECRAFT_CLOCK_START_COUNT = "1/0021823325.32303"
SPACECRAFT_CLOCK_STOP_COUNT = "1/0021823574.56834"
IMAGE_TIME = 2004-01-10T14:04:29.928Z
START_TIME = 2004-01-10T14:04:29.926Z
STOP_TIME = 2004-01-10T14:04:29.929Z
/* ORBITAL DATA ELEMENTS */
ASCENDING_NODE_LONGITUDE = 228.73
MAXIMUM_RESOLUTION = 0.002515
FOOTPRINT_POINT_LATITUDE = (0.219255,0.220613,0.222946,0.224727, 0.226042,0.227823,0.22969,0.231004, 0.232786,0.234949,0.236349,0.238427, 0.239784,0.241693,0.243704,0.245786, 0.247571,0.248846,0.250375,0.252628, 0.25471,0.25658,0.259597,0.261976, 0.262019,0.262019,0.262019,0.26202, 0.26202,0.26202,0.262021,0.262021, 0.262022,0.262022,0.262023,0.262023, 0.262023,0.262024,0.262024,0.262025, 0.262025,0.262026,0.262026,0.262026, 0.262027,0.262027,0.262028,0.262028, 0.262029,0.262029,0.262029,0.262029, 0.262029,0.259564,0.256971,0.25476, 0.252507,0.250977,0.248511,0.247023, 0.24477,0.242927,0.240805,0.238302, 0.236944,0.235289,0.232913,0.230028, 0.227482,0.225912,0.223238,0.219292, 0.21925,0.21925,0.21925,0.219251, 0.219251,0.219251,0.219251,0.219251, 0.219252,0.219252,0.219252,0.219252, 0.219253,0.219253,0.219253,0.219253, 0.219253,0.219254,0.219254,0.219254, 0.219254,0.219255,0.219255,0.219255, 0.219255,0.219255,0.219255,0.219255)
FOOTPRINT_POINT_LONGITUDE = (90.4621,90.4621,90.4621,90.4621, 90.4621,90.4621,90.4621,90.4621,90.4621 ,90.4621,90.4621,90.4621,90.4621, 90.4621,90.4624,90.4624,90.4624,90.4624 ,90.4624,90.4624,90.4624,90.4624, 90.4624,90.4624,90.4624,90.4625,90.4642 ,90.4659,90.4676,90.4693,90.471,90.4727 ,90.4744,90.4761,90.4778,90.4795, 90.4812,90.4829,90.4846,90.4863,90.488, 90.4897,90.4914,90.4931,90.4948,90.4965 ,90.4982,90.4999,90.5016,90.5033, 90.5046,90.505,90.5052,90.5052,90.5052, 90.5052,90.5052,90.5052,90.5052,90.5052 ,90.5052,90.5049,90.5049,90.5049, 90.5049,90.5049,90.5049,90.5049,90.5049 ,90.5049,90.5049,90.5049,90.5049, 90.5048,90.5019,90.5002,90.4985,90.4968 ,90.4951,90.4934,90.4917,90.49,90.4883, 90.4866,90.4849,90.4832,90.4815,90.4798 ,90.4781,90.4764,90.4747,90.473,90.4713 ,90.4696,90.4679,90.4662,90.4645, 90.4628,90.4624,90.4621)
ORBIT_NUMBER = 10
ORBITAL_ECCENTRICITY = 0.717
ORBITAL_INCLINATION = 86.63
ORBITAL_SEMIMAJOR_AXIS = 12956.1
PERIAPSIS_ALTITUDE = 274.15
PERIAPSIS_ARGUMENT_ANGLE = 357.88
PERIAPSIS_TIME = 2004-01-10T14:03:56.000Z
SPACECRAFT_ORIENTATION = (0.0,1.0,0.0)
^MEX_ORIENTATION_DESC = "MEX_ORIENTATION_DESC.TXT"
SPACECRAFT_POINTING_MODE = NADIR
^MEX_POINTING_DESC = "MEX_POINTING_DESC.TXT"
RIGHT_ASCENSION = -1e+32
DECLINATION = -1e+32
OFFSET_ANGLE = -1e+32
SPACECRAFT_SOLAR_DISTANCE = 2.22398e+08
TARGET_NAME = MARS
/* CAMERA DATA ELEMENTS */
BUFFER_MODE_ID = DIRECT
EXPOSURE_DURATION = 3.024
INST_CMPRS_NAME = "DISCRETE COSINE TRANSFORMATION (DCT)"
INST_CMPRS_RATIO = 14.7139
INST_CMPRS_QUALITY = 0
INST_CMPRS_QUANTZ_TBL_ID = 0
INSTRUMENT_TEMPERATURE = 17.2727
MISSING_FRAMES = 0
START_BIT = 0
/* RADIOMETRIC DATA ELEMENTS */
BANDWIDTH = 250.0
CENTER_FILTER_WAVELENGTH = 600.0
RADIANCE_OFFSET = -9.99e+31
RADIANCE_SCALING_FACTOR = -9.99e+31
REFLECTANCE_SCALING_FACTOR = -9.99e+31
MEX:REFLECTANCE_OFFSET = -9.99e+31
/* IMAGE OBJECT DEFINITIONS */
OBJECT = IMAGE
  INTERCHANGE_FORMAT = BINARY
  LINES = 1055
  LINE_SAMPLES = 1056
  SAMPLE_TYPE = UNSIGNED_INTEGER
  SAMPLE_BITS = 8
  BANDS = 1
  BAND_STORAGE_TYPE = BAND_SEQUENTIAL
  MAXIMUM = 237
  MEAN = 104.754
  MINIMUM = 1
  STANDARD_DEVIATION = 17.3421
END_OBJECT = IMAGE
/* MAP OBJECT DEFINITIONS */
OBJECT = IMAGE_MAP_PROJECTION
  ^DATA_SET_MAP_PROJECTION_CATALOG= "DSMAP.CAT"
  A_AXIS_RADIUS = 3396.19
  B_AXIS_RADIUS = 3396.19
  C_AXIS_RADIUS = 3396.19
  CENTER_LATITUDE = 0.0
  CENTER_LONGITUDE = 90.0
  COORDINATE_SYSTEM_NAME = PLANETOGRAPHIC
  COORDINATE_SYSTEM_TYPE = "BODY-FIXED ROTATING"
  EASTERNMOST_LONGITUDE = 90.5052
  FIRST_STANDARD_PARALLEL = "N/A"
  LINE_FIRST_PIXEL = 1
  LINE_LAST_PIXEL = 1055
  LINE_PROJECTION_OFFSET = 6232.0
  MAP_PROJECTION_ROTATION = 0.0
  MAP_PROJECTION_TYPE = SINUSOIDAL
  MAP_RESOLUTION = 23709.8786048756
  MAP_SCALE = 0.0025
  MAXIMUM_LATITUDE = 0.262029
  MINIMUM_LATITUDE = 0.21925
  POSITIVE_LONGITUDE_DIRECTION = EAST
  REFERENCE_LATITUDE = "N/A"
  REFERENCE_LONGITUDE = "N/A"
  SAMPLE_FIRST_PIXEL = 1
  SAMPLE_LAST_PIXEL = 1056
  SAMPLE_PROJECTION_OFFSET = -10941.0
  SECOND_STANDARD_PARALLEL = "N/A"
  WESTERNMOST_LONGITUDE = 90.46210000000001
END_OBJECT = IMAGE_MAP_PROJECTION
END
